BEGIN:VCALENDAR
VERSION:2.0
PRODID:-//Welcome to the Anaheim High School Alumni Association - ECPv6.15.17.1//NONSGML v1.0//EN
CALSCALE:GREGORIAN
METHOD:PUBLISH
X-ORIGINAL-URL:https://anaheimcolonists.com
X-WR-CALDESC:Events for Welcome to the Anaheim High School Alumni Association
REFRESH-INTERVAL;VALUE=DURATION:PT1H
X-Robots-Tag:noindex
X-PUBLISHED-TTL:PT1H
BEGIN:VTIMEZONE
TZID:America/Los_Angeles
BEGIN:DAYLIGHT
TZOFFSETFROM:-0800
TZOFFSETTO:-0700
TZNAME:PDT
DTSTART:20140309T100000
END:DAYLIGHT
BEGIN:STANDARD
TZOFFSETFROM:-0700
TZOFFSETTO:-0800
TZNAME:PST
DTSTART:20141102T090000
END:STANDARD
BEGIN:DAYLIGHT
TZOFFSETFROM:-0800
TZOFFSETTO:-0700
TZNAME:PDT
DTSTART:20150308T100000
END:DAYLIGHT
BEGIN:STANDARD
TZOFFSETFROM:-0700
TZOFFSETTO:-0800
TZNAME:PST
DTSTART:20151101T090000
END:STANDARD
BEGIN:DAYLIGHT
TZOFFSETFROM:-0800
TZOFFSETTO:-0700
TZNAME:PDT
DTSTART:20160313T100000
END:DAYLIGHT
BEGIN:STANDARD
TZOFFSETFROM:-0700
TZOFFSETTO:-0800
TZNAME:PST
DTSTART:20161106T090000
END:STANDARD
BEGIN:DAYLIGHT
TZOFFSETFROM:-0800
TZOFFSETTO:-0700
TZNAME:PDT
DTSTART:20170312T100000
END:DAYLIGHT
BEGIN:STANDARD
TZOFFSETFROM:-0700
TZOFFSETTO:-0800
TZNAME:PST
DTSTART:20171105T090000
END:STANDARD
END:VTIMEZONE
BEGIN:VEVENT
DTSTART;TZID=America/Los_Angeles:20161112T190000
DTEND;TZID=America/Los_Angeles:20161112T230000
DTSTAMP:20260423T231037
CREATED:20160714T040714Z
LAST-MODIFIED:20161124T180611Z
UID:11499-1478977200-1478991600@anaheimcolonists.com
SUMMARY:AHS Class of 1971 - 45th Reunion - CANCELED
DESCRIPTION:AHS Class of 1971 – 45th Reunion – Saturday\, Nov. 12\, 2016 \n1971 Classmates:\nAttached is the website to register and pay for our 45 year reunion.  Please\, please\, please forward the attached to any classmate you are in contact with.  Encourage them to attend.  We had to re schedule the reunion from August to November due to low response.  If we do not obtain at least 30 paid attendees the reunion will be cancelled again.  Unfortunately\, we will not be able to re schedule again.  It would be so awesome to see classmates again after all this time.  Once again\, please encourage classmates to attend.\nLourdes (Lulu) Roybal\nlsroybal@icloud.com\n\nPlease note that if you paid for the reunion that was scheduled in August your payment will apply to the reunion in November.\nYOUR REUNION DATE HAS CHANGED!  The new date is Saturday\, November 12th. All information about your reunion and purchasing tickets can be found at: http://www.highschoolreunions.com/reuniondetails.php?id=6294 or by calling (800) 655-7971. Please visit  website or contact High School Reunions by phone to update your address and purchase tickets.\n\nPlease forward this information to any classmate you are in contact with. Help us share this Important information with our class! Don’t assume they have already been contacted. Send them a quick text\, email\, tweet\, message on Facebook etc. We are counting on each other to help share the reunion information with your class!\nThank you\,  High School Reunions\n\n 
URL:https://anaheimcolonists.com/event/ahs-class-of-1971-45th-reunion/
LOCATION:CA
CATEGORIES:Reunions
END:VEVENT
BEGIN:VEVENT
DTSTART;TZID=America/Los_Angeles:20161107T150000
DTEND;TZID=America/Los_Angeles:20161107T170000
DTSTAMP:20260423T231037
CREATED:20161004T171302Z
LAST-MODIFIED:20161124T180331Z
UID:6053-1478530800-1478538000@anaheimcolonists.com
SUMMARY:Anaheim High Nov. 7 Veterans' Day Celebration to Honor Colonist Fallen Heroes-Canceled till next year
DESCRIPTION: \nAnaheim High will honor alumni who perished while serving their country from WWI to the War on Terror at a Veterans’ Day celebration Monday\, Nov. 7\, at the school’s Cook Auditorium. The 3 to 5 p.m. event is free and open to the public. \nA highlight of the program will be the release of a booklet entitled “A Salute to Anaheim High Fallen Heroes and Colonist Veterans.” Started in 2009 by the AHS Alumni Association\, the booklet will include bios and photos of more than 60 alumni who died while in service\, as well as stories of how the wars affected the lives of Anaheim residents. \n“We’re working to ensure that our Anaheim High veterans\, who served in the Pacific\, Atlantic and all parts of the world in all branches of the military\, will never be forgotten\,” said Daisy Vuksanovich\, a Class of 1946 graduate who heads the AHSAA Veterans Committee. \nTo submit the name of a graduate who has served in the Armed Forces\, please fill out the AHSAA Military Form and email back to anaheimalumni@yahoo.com or mail to AHSAA\, P.O. Box 389\, Anaheim\, 92815. Click here for a printable copy of the event flyer.
URL:https://anaheimcolonists.com/event/anaheim-high-school-fallen-heroes-colonist-veterans/
LOCATION:Cook Auditorium\, 811 W. Lincoln\, Anaheim\, CA\, 92805\, United States
ATTACH;FMTTYPE=image/jpeg:https://anaheimcolonists.com/wp-content/uploads/2016/10/Veterans-Day-Flyer-SEPT-2-2016-JB-resized-for-website-e1475602425352.jpg
ORGANIZER;CN="AHS Alumni Association and AHS Students":MAILTO:anaheimalumni@yahoo.com
END:VEVENT
BEGIN:VEVENT
DTSTART;TZID=America/Los_Angeles:20161016T100000
DTEND;TZID=America/Los_Angeles:20161016T140000
DTSTAMP:20260423T231037
CREATED:20160902T160456Z
LAST-MODIFIED:20161022T135713Z
UID:4814-1476612000-1476626400@anaheimcolonists.com
SUMMARY:AHS Class of 1952
DESCRIPTION:Class of 1952 is having a reunion on Thursday\, Oct. 20\, 10A-2P. \nContact anaheimalumni@yahoo.com for more information.
URL:https://anaheimcolonists.com/event/class-of-1952/
LOCATION:CA
CATEGORIES:Reunions
END:VEVENT
BEGIN:VEVENT
DTSTART;TZID=America/Los_Angeles:20161015T180000
DTEND;TZID=America/Los_Angeles:20161015T230000
DTSTAMP:20260423T231037
CREATED:20160401T222918Z
LAST-MODIFIED:20160405T221950Z
UID:11252-1476554400-1476572400@anaheimcolonists.com
SUMMARY:AHS Class of 1966 "60th Reunion
DESCRIPTION:AHS Class of 1966 60th Reunion – Saturday\, Oct. 15\, 2016 \n 
URL:https://anaheimcolonists.com/event/ahs-class-of-1966-60th-reunion/
LOCATION:CA
CATEGORIES:Reunions
END:VEVENT
BEGIN:VEVENT
DTSTART;TZID=America/Los_Angeles:20161015T100000
DTEND;TZID=America/Los_Angeles:20161015T140000
DTSTAMP:20260423T231037
CREATED:20151215T145246Z
LAST-MODIFIED:20151215T145246Z
UID:10508-1476525600-1476540000@anaheimcolonists.com
SUMMARY:Colony Classic Car Show
DESCRIPTION:www.anaheimcolonists.com
URL:https://anaheimcolonists.com/event/colony-classic-car-show/
LOCATION:CA
CATEGORIES:Fundraisers
END:VEVENT
BEGIN:VEVENT
DTSTART;TZID=America/Los_Angeles:20160924T190000
DTEND;TZID=America/Los_Angeles:20160924T234500
DTSTAMP:20260423T231037
CREATED:20160410T233004Z
LAST-MODIFIED:20160413T161405Z
UID:11295-1474743600-1474760700@anaheimcolonists.com
SUMMARY:AHS CLASS OF 1996 "20 Reunion
DESCRIPTION:Anaheim High School- 20th Year Class Reunion\n \nTwenty years have passed\, but it feels like no time at all for us Colonist! We can’t wait to get together with you to connect\, reconnect\, celebrate\, eat and drink\, and dance the night away Sept. 24\, 7 to 11:45 p.m.\, at Mesa Verde Country Club in Costa Mesa. \n• Ticket includes: Buffet dinner\, Photo Booth\, DJ/Music/Entertainment\, raffle prizes\, and a No-Host/Cash Bar. \n• Ticket Price: Discounts are provided for early purchases: $65 per person. Early Purchase ticket sales end July 31st. Tickets to the event will still be available from August 1st -September 11th at the full price of $80 per person. A Pay Pal account will be set up for your convenience; however an additional service processing fee will be added to each ticket. Wendy Ulloa and I will set up times and locations to do CASH only ticket sales. Sorry no tickets will be sold at the door. \n• Suggested attire is cocktail/business casual. \n***This event is reserved for AHS Alumni Class of 1996 and their guest only***\nFunds collected from all ticket sales will be applied immediately to the venue or contracted vendors. For this reason\, no refunds can be given. \nQuestions? Please contact Nancy (Moreno) Ramos or Wendy Ulloa via Facebook or via email\, to 96anaheimhsreunion@gmail.com \nAlso please follow our Facebook page at AHS C/O 1996 20year Reunion.
URL:https://anaheimcolonists.com/event/ahs-class-of-1996-20-reunion/
LOCATION:Mesa Verde Country Club\, Tony Lema Room\, 3000 Club House Rd\, \, Costa Mesa\, 92626
CATEGORIES:Reunions
END:VEVENT
BEGIN:VEVENT
DTSTART;TZID=America/Los_Angeles:20160923T190000
DTEND;TZID=America/Los_Angeles:20160923T213000
DTSTAMP:20260423T231037
CREATED:20160919T025924Z
LAST-MODIFIED:20160919T025924Z
UID:11805-1474657200-1474666200@anaheimcolonists.com
SUMMARY:Homecoming Game - Glover @ 7P
DESCRIPTION:Friday\, Sept. 23\, 2016 Homecoming Football Game vs Loara @ 7P.   \nDon’t forget all class photo after the game on the field. 
URL:https://anaheimcolonists.com/event/homecoming-game-glover-7p/
LOCATION:Glover Stadium
CATEGORIES:AHS Sports
END:VEVENT
BEGIN:VEVENT
DTSTART;TZID=America/Los_Angeles:20160917T180000
DTEND;TZID=America/Los_Angeles:20160917T220000
DTSTAMP:20260423T231037
CREATED:20160517T230040Z
LAST-MODIFIED:20160517T230041Z
UID:11355-1474135200-1474149600@anaheimcolonists.com
SUMMARY:Class of 1976 – 40th – Sept. 17\, 2016
DESCRIPTION:Class of 1976 – 40th – Sept. 17 – 6P-10P\n \nFor more info email:  anaheim1976@gmail.com  \nAHS 1976 Concert Choir
URL:https://anaheimcolonists.com/event/class-of-1976-40th-sept-17-2016/
LOCATION:CA
END:VEVENT
BEGIN:VEVENT
DTSTART;TZID=America/Los_Angeles:20160730T190000
DTEND;TZID=America/Los_Angeles:20160730T233000
DTSTAMP:20260423T231037
CREATED:20160614T172334Z
LAST-MODIFIED:20160714T040003Z
UID:11375-1469905200-1469921400@anaheimcolonists.com
SUMMARY:AHS Class of 1985-1989 Reunion
DESCRIPTION:July 30\, 2016  – 7P\nFriends please purchase your tickets as they will Not be sold at the door. \nHere is the link to buy your tickets: https://www.paypal.com/cgi-bin/webscr?cmd=_s-xclick&hosted_button_id=6AALHX65XWYDU  If you have any questions please call or text 714-584-3776     DJ Nino Maximum     DJNinoMaximum@gmail.com
URL:https://anaheimcolonists.com/event/ahs-class-of-1985-1989-reunion/
LOCATION:CA
CATEGORIES:Reunions
END:VEVENT
BEGIN:VEVENT
DTSTART;TZID=America/Los_Angeles:20160702T080000
DTEND;TZID=America/Los_Angeles:20160702T093000
DTSTAMP:20260423T231037
CREATED:20160614T174241Z
LAST-MODIFIED:20160614T174241Z
UID:11378-1467446400-1467451800@anaheimcolonists.com
SUMMARY:AHS Breakfast gathering
DESCRIPTION:Breakfast 8A-9:30A
URL:https://anaheimcolonists.com/event/ahs-breakfast-gathering/
LOCATION:CA
CATEGORIES:Breakfast
END:VEVENT
BEGIN:VEVENT
DTSTART;TZID=America/Los_Angeles:20160604T080000
DTEND;TZID=America/Los_Angeles:20160604T100000
DTSTAMP:20260423T231037
CREATED:20151130T162012Z
LAST-MODIFIED:20151130T162012Z
UID:10482-1465027200-1465034400@anaheimcolonists.com
SUMMARY:Alumni Breakfast
DESCRIPTION:Alumni Breakfast – 1st Saturday of the Month\n\n\nJoin Anaheim High alumni at monthly breakfast.  All Classes Welcome. \nRSVP to: Geri Mc Guff   2ahsbreakfast@cox.net & leave name and how many are coming !
URL:https://anaheimcolonists.com/event/alumni-breakfast-9/
LOCATION:CA
CATEGORIES:Breakfast
END:VEVENT
BEGIN:VEVENT
DTSTART;TZID=America/Los_Angeles:20160507T080000
DTEND;TZID=America/Los_Angeles:20160507T100000
DTSTAMP:20260423T231037
CREATED:20151130T161757Z
LAST-MODIFIED:20151130T161757Z
UID:10481-1462608000-1462615200@anaheimcolonists.com
SUMMARY:Alumni Breakfast
DESCRIPTION:Alumni Breakfast – 1st Saturday of the Month\n\n\nJoin Anaheim High alumni at monthly breakfast.  All Classes Welcome. \nRSVP to: Geri Mc Guff   2ahsbreakfast@cox.net & leave name and how many are coming !
URL:https://anaheimcolonists.com/event/alumni-breakfast-8/
LOCATION:CA
CATEGORIES:Breakfast
END:VEVENT
BEGIN:VEVENT
DTSTART;TZID=America/Los_Angeles:20160402T080000
DTEND;TZID=America/Los_Angeles:20160402T100000
DTSTAMP:20260423T231037
CREATED:20151130T161507Z
LAST-MODIFIED:20151130T161507Z
UID:10480-1459584000-1459591200@anaheimcolonists.com
SUMMARY:Alumni Breakfast
DESCRIPTION:Alumni Breakfast – 1st Saturday of the Month\n\n\nJoin Anaheim High alumni at monthly breakfast.  All Classes Welcome. \nRSVP to: Geri Mc Guff   2ahsbreakfast@cox.net & leave name and how many are coming !
URL:https://anaheimcolonists.com/event/alumni-breakfast-7/
LOCATION:CA
CATEGORIES:Breakfast
END:VEVENT
BEGIN:VEVENT
DTSTART;TZID=America/Los_Angeles:20160305T080000
DTEND;TZID=America/Los_Angeles:20160305T100000
DTSTAMP:20260423T231037
CREATED:20151130T161239Z
LAST-MODIFIED:20151130T161239Z
UID:10479-1457164800-1457172000@anaheimcolonists.com
SUMMARY:Alumni Breakfast
DESCRIPTION:Alumni Breakfast – 1st Saturday of the Month \n\n\nJoin Anaheim High alumni at monthly breakfast.  All Classes Welcome. \nRSVP to: Geri Mc Guff   2ahsbreakfast@cox.net & leave name and how many are coming !
URL:https://anaheimcolonists.com/event/alumni-breakfast-6/
LOCATION:CA
CATEGORIES:Breakfast
END:VEVENT
BEGIN:VEVENT
DTSTART;TZID=America/Los_Angeles:20160227T110000
DTEND;TZID=America/Los_Angeles:20160227T160000
DTSTAMP:20260423T231037
CREATED:20160122T035632Z
LAST-MODIFIED:20160122T035744Z
UID:10650-1456570800-1456588800@anaheimcolonists.com
SUMMARY:AUHS Class of 1958 - 57 1/2 Reunion
DESCRIPTION:
URL:https://anaheimcolonists.com/event/auhs-class-of-1958-57-12-reunion/
LOCATION:CA
CATEGORIES:Reunions
END:VEVENT
BEGIN:VEVENT
DTSTART;TZID=America/Los_Angeles:20160215T090000
DTEND;TZID=America/Los_Angeles:20160215T200000
DTSTAMP:20260423T231037
CREATED:20151215T144746Z
LAST-MODIFIED:20151215T144746Z
UID:10507-1455526800-1455566400@anaheimcolonists.com
SUMMARY:AHSAA Golf Classic
DESCRIPTION:
URL:https://anaheimcolonists.com/event/ahsaa-golf-classic/
LOCATION:CA
CATEGORIES:Fundraisers,Golf Classic
END:VEVENT
BEGIN:VEVENT
DTSTART;TZID=America/Los_Angeles:20160206T080000
DTEND;TZID=America/Los_Angeles:20160206T100000
DTSTAMP:20260423T231037
CREATED:20151130T160746Z
LAST-MODIFIED:20151130T160959Z
UID:10477-1454745600-1454752800@anaheimcolonists.com
SUMMARY:Alumni Breakfast
DESCRIPTION:Alumni Breakfast – 1st Saturday of the Month\n\n\nJoin Anaheim High alumni at monthly breakfast.  All Classes Welcome. \nRSVP to: Geri Mc Guff   2ahsbreakfast@cox.net & leave name and how many are coming !
URL:https://anaheimcolonists.com/event/alumni-breakfast-5/
LOCATION:CA
CATEGORIES:Breakfast
END:VEVENT
BEGIN:VEVENT
DTSTART;TZID=America/Los_Angeles:20160102T080000
DTEND;TZID=America/Los_Angeles:20160102T100000
DTSTAMP:20260423T231037
CREATED:20151130T160027Z
LAST-MODIFIED:20151130T160027Z
UID:10476-1451721600-1451728800@anaheimcolonists.com
SUMMARY:Alumni Breakfast
DESCRIPTION:Alumni Breakfast – 1st Saturday of the Month\n\n\nJoin Anaheim High alumni at monthly breakfast.  All Classes Welcome. \nRSVP to: Geri Mc Guff   2ahsbreakfast@cox.net & leave name and how many are coming !
URL:https://anaheimcolonists.com/event/alumni-breakfast-4/
LOCATION:CA
CATEGORIES:Breakfast
END:VEVENT
BEGIN:VEVENT
DTSTART;TZID=America/Los_Angeles:20151212T080000
DTEND;TZID=America/Los_Angeles:20151212T110000
DTSTAMP:20260423T231037
CREATED:20151130T153748Z
LAST-MODIFIED:20151130T153748Z
UID:10472-1449907200-1449918000@anaheimcolonists.com
SUMMARY:AHS Sportsmen Breakfast
DESCRIPTION:AUHS/AHS All Sportsmen Breakfast \nSaturday\, Dec. 12\, 2015 – 8A-11A
URL:https://anaheimcolonists.com/event/ahs-sportsmen-breakfast-2/
LOCATION:CA
CATEGORIES:Reunions
END:VEVENT
BEGIN:VEVENT
DTSTART;TZID=America/Los_Angeles:20151205T080000
DTEND;TZID=America/Los_Angeles:20151205T100000
DTSTAMP:20260423T231037
CREATED:20151130T155514Z
LAST-MODIFIED:20151130T155514Z
UID:10475-1449302400-1449309600@anaheimcolonists.com
SUMMARY:Alumni Breakfast
DESCRIPTION:Alumni Breakfast – 1st Saturday of the Month\n\n\nJoin Anaheim High alumni at monthly breakfast.  All Classes Welcome. \nRSVP to: Geri Mc Guff   2ahsbreakfast@cox.net & leave name and how many are coming !
URL:https://anaheimcolonists.com/event/alumni-breakfast-3/
LOCATION:CA
CATEGORIES:Breakfast
END:VEVENT
BEGIN:VEVENT
DTSTART;TZID=America/Los_Angeles:20151113T070000
DTEND;TZID=America/Los_Angeles:20151113T235500
DTSTAMP:20260423T231037
CREATED:20150522T152716Z
LAST-MODIFIED:20180213T155447Z
UID:9764-1447398000-1447458900@anaheimcolonists.com
SUMMARY:AHS - Class of 1975 40th Reunion
DESCRIPTION:ahs1975reunion@sbcglobal.net \nwww.facebook.com/groups/AnaheimHS1975 \nTo RSVP and Purchase Tickets Online:  www.ReunionDB.com \nTickets will not be sold at the door. \nContact: Julie (Dodson) Branstetter\,  ahs1975reunion@sbcglobal.net or 951 – 780-3881
URL:https://anaheimcolonists.com/event/ahs-class-of-1975-40th-reunion/
LOCATION:CA
END:VEVENT
BEGIN:VEVENT
DTSTART;TZID=America/Los_Angeles:20151107T080000
DTEND;TZID=America/Los_Angeles:20151107T100000
DTSTAMP:20260423T231037
CREATED:20151130T154813Z
LAST-MODIFIED:20151130T154813Z
UID:10474-1446883200-1446890400@anaheimcolonists.com
SUMMARY:Alumni Breakfast
DESCRIPTION:Alumni Breakfast – 1st Saturday of the Month\n\n\nJoin Anaheim High alumni at monthly breakfast.  All Classes Welcome. \nRSVP to: Geri Mc Guff   2ahsbreakfast@cox.net & leave name and how many are coming ! \n 
URL:https://anaheimcolonists.com/event/alumni-breakfast-2/
LOCATION:CA
END:VEVENT
BEGIN:VEVENT
DTSTART;TZID=America/Los_Angeles:20151017T190000
DTEND;TZID=America/Los_Angeles:20151017T230000
DTSTAMP:20260423T231037
CREATED:20150102T030927Z
LAST-MODIFIED:20150212T155004Z
UID:9327-1445108400-1445122800@anaheimcolonists.com
SUMMARY:Anaheim High Class of 1965 - 50th Reunion
DESCRIPTION:Anaheim High Class of 1965 – 50th Reunion \nSaturday\, October 17\, 2015 7P – 11P. Dinner\, Dancing\, Music and Friends.\nMore information: Sandy Wright\, Class Rep. and Reunion Coordinator\nwrightsandyj@gmail.com or 951-683-9300. \nDon’t forget AHS Alumni Association 6th annual Golf Classic\, Monday\, Feb. 16\, 2015\, Homecoming Football Game Friday\, Sept.18\, 2015 and 5th Colony Classic Car Show\, Oct. 17th\, 10A-2P. \nFor more information or photos: www.anaheimcolonists.com \n          
URL:https://anaheimcolonists.com/event/anaheim-high-class-of-1965-50th-reunion/
LOCATION:CA
CATEGORIES:Reunions
END:VEVENT
BEGIN:VEVENT
DTSTART;TZID=America/Los_Angeles:20151017T100000
DTEND;TZID=America/Los_Angeles:20151017T140000
DTSTAMP:20260423T231037
CREATED:20150202T170757Z
LAST-MODIFIED:20150202T170757Z
UID:9365-1445076000-1445090400@anaheimcolonists.com
SUMMARY:AHSAA 5th Colony Classic Car Show
DESCRIPTION:AHSAA 5th Colony Classic Car Show – Saturday\, Oct. 17\, 2015 – 10A-2P\nAnaheim High Campus\, 811 W. Lincoln Ave.\, Anaheim\, 92805 \nwww.anaheimcolonists.com
URL:https://anaheimcolonists.com/event/ahsaa-5th-colony-classic-car-show/
LOCATION:AHS Campus\, United States
CATEGORIES:Fundraisers
END:VEVENT
BEGIN:VEVENT
DTSTART;TZID=America/Los_Angeles:20150919T113000
DTEND;TZID=America/Los_Angeles:20150919T140000
DTSTAMP:20260423T231037
CREATED:20141121T175549Z
LAST-MODIFIED:20150117T214101Z
UID:9301-1442662200-1442671200@anaheimcolonists.com
SUMMARY:AUHS Class of 1955 60th Reunion Gala Luncheon
DESCRIPTION:Anaheim Union High School Class of 1955\n 60th Class Reunion – Gala Luncheon\nSaturday\, September 19\, 2015  – 11:30A\nThe Anaheim Plaza Hotel & Suites\, Anaheim\nAlso\, arrangements have been made for our 4th reunion cruise Monday\, September 21st to Friday\, September 25th aboard the Ruby Princess.  Los Angeles to Santa Barbara and Ensenada. In order to secure the special price\, you should contact Shirley Olmsted at the Brea Travelstore as soon as possible.  A $100.00 deposit per cruiser must be made prior to November 24\, 2014. \nShirley Olmsted\, Brea Travelstore\n633 S. Brea Blvd.\, Brea\,  92821\n714-988-1908   Shirley.o@travelstore.com\n \nIf you cannot make it\, please let us know so that we can update our list and see you at the 65th.\n 
URL:https://anaheimcolonists.com/event/auhs-class-of-1955-60th-reunion-gala-luncheon/
LOCATION:Anaheim Plaza Hotel & Suites
CATEGORIES:Reunions
END:VEVENT
BEGIN:VEVENT
DTSTART;TZID=America/Los_Angeles:20150619T190000
DTEND;TZID=America/Los_Angeles:20150619T234500
DTSTAMP:20260423T231037
CREATED:20150202T171909Z
LAST-MODIFIED:20150224T182730Z
UID:9368-1434740400-1434757500@anaheimcolonists.com
SUMMARY:AHS Class of 1995 20th Reunion
DESCRIPTION:AHS Class of 1995 20th Reunion\nFriday\, June 19\, 2015\, at the Embassy Suites Hotel North\, 3100 East Frontera\, Anaheim\, CA 92806\nfrom 7pm-12am. \nFacebook Event Page: Anaheim High School C/O 95 20th Reunion\nEarly Registration February 1 – April 15. Late Registration April 16-June 10.\nLast day to purchase tickets electronically through PayPal Event Brite Page is June 1st.\nLast day to purchase tickets is June 10th Cash only.\nNo entry without a ticket and No Refunds. We are a also accepting other forms of payments. \n \nAHS Alumni Association\nHomecoming Football Game-Sept. 18\, 2015\nColony Classic Car Show-Oct. 17\, 2015-10A-2P\nwww.anaheimcolonists.com
URL:https://anaheimcolonists.com/event/ahs-class-of-1995-20th-reunion/
LOCATION:Embassy Suites Anaheim North\, 3100 East Frontera\, Anaheim\, CA\, 92806\, United States
CATEGORIES:Reunions
END:VEVENT
BEGIN:VEVENT
DTSTART;TZID=America/Los_Angeles:20150418T080000
DTEND;TZID=America/Los_Angeles:20150418T120000
DTSTAMP:20260423T231037
CREATED:20150317T172817Z
LAST-MODIFIED:20150317T173535Z
UID:9681-1429344000-1429358400@anaheimcolonists.com
SUMMARY:AHS 5K Run/Walk
DESCRIPTION:We are excited to inform you that Anaheim High School’s Associated Student Body (ASB) will be holding its 6th annual Colony 5K Run/Walk on April 18\, 2015. This event has grown in size over the last few years\, and we expect it to be even more successful this year. \n The race is a fund-raiser for Anaheim’s ASB (the student-run group that oversees all clubs and student activities on campus)\, and the proceeds will benefit the activities program at Anaheim High School. While most such programs at other schools in the area get their funding from the sale of ASB cards to students\, the economic situation of many of our students means that Anaheim High tends to sell very few of them. We are hoping this event will grow to a point that we are able to have a budget on par with other schools in the region so that our students can have a program that enriches their time at school. \n In order to ensure the success of the Colony 5K\, we would like to offer you an opportunity to financially support the event. We would be happy to receive cash donations or donations of goods and services. You will be supporting student activities\, and any donations you make will be tax-deductible. \n We have several levels of sponsorship available to you based on the cash amount or value of your donation. They are as follows: \n Gold Sponsor:     $500+                      \n Blue Sponsor:    $200                     \n Friend of the Colony:  $100 \nIn return for your sponsorship\, we will include your name and logo on the 5K t-shirts – larger donations get more space on the shirts. If you wish\, you may also have a table in the post-race area. We drew about 250 runners and volunteers at the last event\, and we’re hoping to get to at least 400 this year. \nIf you are interested in participating in this important event\, please send donations (made payable to Anaheim High School ASB) to: \nAnaheim High School Activities Office\, Colony 5K\, 811 W. Lincoln Avenue\,  Anaheim\, CA 92805 \nIf you would like more information or would like to discuss other sponsorship opportunities\, please contact Doug Wager\, Assistant Activities Director at Anaheim High School at 714-999-3717\, extension 20112. You may also email me at wager_d@auhsd.us. \nThis is a Anaheim High School ASB event. \n 
URL:https://anaheimcolonists.com/event/ahs-5k-runwalk/
LOCATION:CA
CATEGORIES:AHS Events,Fundraisers
END:VEVENT
BEGIN:VEVENT
DTSTART;TZID=America/Los_Angeles:20150216T090000
DTEND;TZID=America/Los_Angeles:20150216T193000
DTSTAMP:20260423T231037
CREATED:20150202T164451Z
LAST-MODIFIED:20150202T165306Z
UID:9361-1424077200-1424115000@anaheimcolonists.com
SUMMARY:AHSAA 6th Annual Golf Classic - Monday\, Feb. 16\, 2015
DESCRIPTION:6th Annual AHSAA Golf Classic – Feb. 16\, 2015\n\nRegistration is now open for the 6th Annual Golf Classic & Auction\, the major fund raiser for the Anaheim High School Alumni Association. The Feb. 16 (President’s Day) event at Western Hills Country Club www.golfwhcc.com includes a day of golf with contests\, awards\, goodie bag\, lunch\, beverages\, dinner\, auction\, opportunity drawing\, as well as a whole lot of fun for all involved\, including non-golfers and event volunteers! \nThere are several ways you can participate as a friend and supporter of Anaheim High. \n\nBecome an event sponsor and receive extra recognition and other benefits: 2015 AHSAA Golf Classic Sponsorship Opportunities\n\n\nHost-A-Hole featuring your company’s food or drink products.\n\n\nProvide 150 box lunches for golfers and volunteers.\n\n\nDonate a gift for the opportunity drawing or silent auction: 2015 AHSAA Golf Classic Donation Request (2)\n\n\nPurchase a $75 tee-sign to advertise your business\, post a “Colonist Spirit”  message to the golfers or remember a family member or classmate (see photo gallery below for tee-sign examples).\n\n\nDonate an item for golfer goodie bags (150 pieces).\n\nOf course\, sign up to golf\, attend just the dinner or come as an event volunteer. The sign-up fee is a deal at $150 a player. Dinner only is $35 and non-golfers are welcome. \nClick here for the 2015 GOLF TOURNEY SIGN-UP FLYER and mail with payment to AHSAA\, P.O. Box 389\, Anaheim\, CA 92815. \nFor overall information on the tournament read 2015 GOLF FACT SHEET \nPlease note that proceeds from the event are directed toward scholarships\, school programs and campus improvement and preservation projects. Thanks to support from Anaheim High alumni\, friends and family\, more than $100\,000 has been donated to Anaheim High. \nPlease email anaheimalumni@yahoo.com if you would like more information or contact Chairman Phil Anton\, (714) 815-9562.
URL:https://anaheimcolonists.com/event/ahsaa-6th-annual-golf-classic-monday-feb-16-2015/
LOCATION:CA
CATEGORIES:Fundraisers,Golf Classic
END:VEVENT
BEGIN:VEVENT
DTSTART;TZID=America/Los_Angeles:20150207T080000
DTEND;TZID=America/Los_Angeles:20150207T093000
DTSTAMP:20260423T231037
CREATED:20141116T203145Z
LAST-MODIFIED:20141116T203233Z
UID:9253-1423296000-1423301400@anaheimcolonists.com
SUMMARY:Anaheim Alumni Breakfast
DESCRIPTION:Alumni Breakfast – 1st Saturday of the Month\n\n\nJoin Anaheim High alumni at monthly breakfast. \nAll Classes Welcome. \nanaheimalumni@yahoo.com and www.anaheimcolonists.com
URL:https://anaheimcolonists.com/event/anaheim-alumni-breakfast-2/
LOCATION:CA
CATEGORIES:Breakfast
END:VEVENT
BEGIN:VEVENT
DTSTART;VALUE=DATE:20150206
DTEND;VALUE=DATE:20150207
DTSTAMP:20260423T231037
CREATED:20150206T173415Z
LAST-MODIFIED:20150206T174135Z
UID:9359-1423180800-1423267199@anaheimcolonists.com
SUMMARY:AHS Class of 1985 30th Reunion
DESCRIPTION:Anaheim High School Class of 1985 “SAVE THE DATE” coming soon. \nAdditional details to follow.  Any questions may be sent via email lauralcapo@gmail.com  Laura (Sowers) Capo. \n            \nHomecoming Football game Friday\, September 18\, 2015\nAHS Alumni Association Colony Classic Car Show Saturday\, Oct. 17\, 2015\nMore information www.anaheimcolonists.com or email anaheimalumni@yahoo.com
URL:https://anaheimcolonists.com/event/ahs-class-of-1985-30th-reunion/
LOCATION:CA
CATEGORIES:Reunions
END:VEVENT
END:VCALENDAR