BEGIN:VCALENDAR
VERSION:2.0
PRODID:-//Welcome to the Anaheim High School Alumni Association - ECPv6.15.17.1//NONSGML v1.0//EN
CALSCALE:GREGORIAN
METHOD:PUBLISH
X-WR-CALNAME:Welcome to the Anaheim High School Alumni Association
X-ORIGINAL-URL:https://anaheimcolonists.com
X-WR-CALDESC:Events for Welcome to the Anaheim High School Alumni Association
REFRESH-INTERVAL;VALUE=DURATION:PT1H
X-Robots-Tag:noindex
X-PUBLISHED-TTL:PT1H
BEGIN:VTIMEZONE
TZID:America/Los_Angeles
BEGIN:DAYLIGHT
TZOFFSETFROM:-0800
TZOFFSETTO:-0700
TZNAME:PDT
DTSTART:20160313T100000
END:DAYLIGHT
BEGIN:STANDARD
TZOFFSETFROM:-0700
TZOFFSETTO:-0800
TZNAME:PST
DTSTART:20161106T090000
END:STANDARD
BEGIN:DAYLIGHT
TZOFFSETFROM:-0800
TZOFFSETTO:-0700
TZNAME:PDT
DTSTART:20170312T100000
END:DAYLIGHT
BEGIN:STANDARD
TZOFFSETFROM:-0700
TZOFFSETTO:-0800
TZNAME:PST
DTSTART:20171105T090000
END:STANDARD
BEGIN:DAYLIGHT
TZOFFSETFROM:-0800
TZOFFSETTO:-0700
TZNAME:PDT
DTSTART:20180311T100000
END:DAYLIGHT
BEGIN:STANDARD
TZOFFSETFROM:-0700
TZOFFSETTO:-0800
TZNAME:PST
DTSTART:20181104T090000
END:STANDARD
BEGIN:DAYLIGHT
TZOFFSETFROM:-0800
TZOFFSETTO:-0700
TZNAME:PDT
DTSTART:20190310T100000
END:DAYLIGHT
BEGIN:STANDARD
TZOFFSETFROM:-0700
TZOFFSETTO:-0800
TZNAME:PST
DTSTART:20191103T090000
END:STANDARD
BEGIN:DAYLIGHT
TZOFFSETFROM:-0800
TZOFFSETTO:-0700
TZNAME:PDT
DTSTART:20200308T100000
END:DAYLIGHT
BEGIN:STANDARD
TZOFFSETFROM:-0700
TZOFFSETTO:-0800
TZNAME:PST
DTSTART:20201101T090000
END:STANDARD
END:VTIMEZONE
BEGIN:VEVENT
DTSTART;TZID=America/Los_Angeles:20190302T080000
DTEND;TZID=America/Los_Angeles:20190302T093000
DTSTAMP:20260423T140018
CREATED:20181213T184840Z
LAST-MODIFIED:20181213T184913Z
UID:15416-1551513600-1551519000@anaheimcolonists.com
SUMMARY:Alumni Breakfast
DESCRIPTION:Alumni Breakfast\n\nMarch 2 @ 8:00 am – 9:30 am\n\n\n\nAlumni Breakfast – 1st Saturday of the Month – 8A – 9:30A \nJoin Anaheim High alumni at the monthly breakfast.  All Classes Welcome. (Not the AHS Alumni Association). \nRSVP to:  Geri Mc Guff: 2ahsbreakfast@cox.net & leave name and how many are coming. \n 
URL:https://anaheimcolonists.com/event/alumni-breakfast-28/
CATEGORIES:Breakfast
END:VEVENT
BEGIN:VEVENT
DTSTART;TZID=America/Los_Angeles:20190218T073000
DTEND;TZID=America/Los_Angeles:20190218T163000
DTSTAMP:20260423T140018
CREATED:20181213T183110Z
LAST-MODIFIED:20181213T183654Z
UID:15409-1550475000-1550507400@anaheimcolonists.com
SUMMARY:10th Annual Golf Classic & Auction - Monday\, Feb. 18\, 2019
DESCRIPTION:10th Annual Golf Classic & Auction set for Monday\, Feb. 18\, at Western Hills Country Club www.golfwhcc.com. \nTee-time is 9 a.m. (registration begins at 7:30 a.m.\, with putting contesting running from 7:45-8:30.) \nForms:  anaheimcolonists.com \nMore info. email:  anaheimalumni@yahoo.com \n 
URL:https://anaheimcolonists.com/event/10th-annual-golf-classic-auction-monday-feb-18-2019/
CATEGORIES:Fundraisers,Golf Classic
END:VEVENT
BEGIN:VEVENT
DTSTART;TZID=America/Los_Angeles:20190202T080000
DTEND;TZID=America/Los_Angeles:20190202T093000
DTSTAMP:20260423T140018
CREATED:20181213T184535Z
LAST-MODIFIED:20181213T184535Z
UID:15414-1549094400-1549099800@anaheimcolonists.com
SUMMARY:Alumni Breakfast
DESCRIPTION:Alumni Breakfast\n\nFebruary  2 @ 8:00 am – 9:30 am\n\n\n\nAlumni Breakfast – 1st Saturday of the Month – 8A – 9:30A \nJoin Anaheim High alumni at the monthly breakfast.  All Classes Welcome. (Not the AHS Alumni Association). \nRSVP to:  Geri Mc Guff: 2ahsbreakfast@cox.net & leave name and how many are coming. \n 
URL:https://anaheimcolonists.com/event/alumni-breakfast-27/
CATEGORIES:Breakfast
END:VEVENT
BEGIN:VEVENT
DTSTART;TZID=America/Los_Angeles:20190105T080000
DTEND;TZID=America/Los_Angeles:20190105T093000
DTSTAMP:20260423T140018
CREATED:20181213T184154Z
LAST-MODIFIED:20181213T184154Z
UID:15412-1546675200-1546680600@anaheimcolonists.com
SUMMARY:Alumni Breakfast
DESCRIPTION:Alumni Breakfast\n\nJanuary 5 @ 8:00 am – 9:30 am\n\n\n\nAlumni Breakfast – 1st Saturday of the Month – 8A – 9:30A \nJoin Anaheim High alumni at the monthly breakfast.  All Classes Welcome. (Not the AHS Alumni Association). \nRSVP to:  Geri Mc Guff: 2ahsbreakfast@cox.net & leave name and how many are coming. \n 
URL:https://anaheimcolonists.com/event/alumni-breakfast-26/
CATEGORIES:Breakfast
END:VEVENT
BEGIN:VEVENT
DTSTART;TZID=America/Los_Angeles:20181201T080000
DTEND;TZID=America/Los_Angeles:20181201T093000
DTSTAMP:20260423T140018
CREATED:20180916T184734Z
LAST-MODIFIED:20180916T184734Z
UID:15257-1543651200-1543656600@anaheimcolonists.com
SUMMARY:Alumni Breakfast
DESCRIPTION:Alumni Breakfast – 1st Saturday of the Month – 8A – 9:30A \nJoin Anaheim High alumni at the monthly breakfast.  All Classes Welcome. (Not the AHS Alumni Association). \nRSVP to:  Geri Mc Guff: 2ahsbreakfast@cox.net & leave name and how many are coming. \n 
URL:https://anaheimcolonists.com/event/alumni-breakfast-25/
CATEGORIES:Breakfast
END:VEVENT
BEGIN:VEVENT
DTSTART;TZID=America/Los_Angeles:20181118T110000
DTEND;TZID=America/Los_Angeles:20181118T140000
DTSTAMP:20260423T140018
CREATED:20171125T221425Z
LAST-MODIFIED:20180916T164045Z
UID:14292-1542538800-1542549600@anaheimcolonists.com
SUMMARY:AUHS Class of 1952\, 1951 and 1953 Reunion
DESCRIPTION:Class of 1952 –“66th\, 1951 and 1953 – Sunday\, Nov. 18\, 2018
URL:https://anaheimcolonists.com/event/class-of-1952-reunion/
CATEGORIES:Reunions
END:VEVENT
BEGIN:VEVENT
DTSTART;TZID=America/Los_Angeles:20181110T143000
DTEND;TZID=America/Los_Angeles:20181110T163000
DTSTAMP:20260423T140018
CREATED:20180927T151535Z
LAST-MODIFIED:20180927T192720Z
UID:15278-1541860200-1541867400@anaheimcolonists.com
SUMMARY:AUHS Class of 1948
DESCRIPTION:AUHS Class of 1948 – 70th reunion\, Saturday\, November 10\, 2018 at 2:30 P.M. \nMore information: \nwww.anaheimalumni@yahoo.com \nwww. anaheimcolonists.com \n 
URL:https://anaheimcolonists.com/event/auhs-class-of-1948/
CATEGORIES:Reunions
END:VEVENT
BEGIN:VEVENT
DTSTART;TZID=America/Los_Angeles:20181104T160000
DTEND;TZID=America/Los_Angeles:20181104T220000
DTSTAMP:20260423T140018
CREATED:20181104T120024Z
LAST-MODIFIED:20181019T134105Z
UID:15305-1541347200-1541368800@anaheimcolonists.com
SUMMARY:Class of 1972 – Mixer – November 4 – 4P.M.
DESCRIPTION:Class of 1972 – Mixer – Sunday\, November 4 – 4P.M.  – 10P.M. (All Classes Welcome) \nThe Old Crow  Smokehouse\, Orange
URL:https://anaheimcolonists.com/event/class-of-1972-mixer-november-4-4p-m/
CATEGORIES:Mixer
END:VEVENT
BEGIN:VEVENT
DTSTART;TZID=America/Los_Angeles:20181103T080000
DTEND;TZID=America/Los_Angeles:20181103T093000
DTSTAMP:20260423T140018
CREATED:20180916T184452Z
LAST-MODIFIED:20180916T184452Z
UID:15255-1541232000-1541237400@anaheimcolonists.com
SUMMARY:Alumni Breakfast
DESCRIPTION:Alumni Breakfast – 1st Saturday of the Month – 8A – 9:30A \nJoin Anaheim High alumni at the monthly breakfast.  All Classes Welcome. (Not the AHS Alumni Association). \nRSVP to:  Geri Mc Guff: 2ahsbreakfast@cox.net & leave name and how many are coming
URL:https://anaheimcolonists.com/event/alumni-breakfast-24/
CATEGORIES:Breakfast
END:VEVENT
BEGIN:VEVENT
DTSTART;TZID=America/Los_Angeles:20181027T183000
DTEND;TZID=America/Los_Angeles:20181027T220000
DTSTAMP:20260423T140018
CREATED:20180916T175030Z
LAST-MODIFIED:20180916T175030Z
UID:15190-1540665000-1540677600@anaheimcolonists.com
SUMMARY:Class of 1963 - '55th Reunion
DESCRIPTION:Class of 1963 – 55th – October 27 – P.M. 
URL:https://anaheimcolonists.com/event/class-of-1963-55th-reunion/
CATEGORIES:Reunions
END:VEVENT
BEGIN:VEVENT
DTSTART;TZID=America/Los_Angeles:20181021T110000
DTEND;TZID=America/Los_Angeles:20181021T140000
DTSTAMP:20260423T140018
CREATED:20180916T174751Z
LAST-MODIFIED:20180916T174751Z
UID:15188-1540119600-1540130400@anaheimcolonists.com
SUMMARY:Class of 1950 - 68th Reunion
DESCRIPTION:Class of 1950 –  68th Reunion – Sunday\, October 21\, 2018
URL:https://anaheimcolonists.com/event/class-of-1950-68th-reunion/
CATEGORIES:Reunions
END:VEVENT
BEGIN:VEVENT
DTSTART;TZID=America/Los_Angeles:20181020T190000
DTEND;TZID=America/Los_Angeles:20181020T230000
DTSTAMP:20260423T140018
CREATED:20180916T173109Z
LAST-MODIFIED:20180916T174133Z
UID:15183-1540062000-1540076400@anaheimcolonists.com
SUMMARY:Class of 2008 - 10th Reunion Oct. 20\, 2018
DESCRIPTION:Class of 2008  ’10th Reunion – October 20 – 7:00 P.M.
URL:https://anaheimcolonists.com/event/class-of-2008-10th-reunion-oct-20-2018/
CATEGORIES:Reunions
END:VEVENT
BEGIN:VEVENT
DTSTART;TZID=America/Los_Angeles:20181020T180000
DTEND;TZID=America/Los_Angeles:20181020T230000
DTSTAMP:20260423T140018
CREATED:20180116T224734Z
LAST-MODIFIED:20180116T224818Z
UID:14409-1540058400-1540076400@anaheimcolonists.com
SUMMARY:AHS Class of 1968
DESCRIPTION:AHS Class of 1968  “50th Reunion\n\nSATURDAY\, OCTOBER 20\, 2018 at 6:00 P.M.\nJ.T. SCHMIDT’S RESTAURANT AND BREWERY\n2610 E. KATELLA  AVENUE\,  Anaheim 92806\n\n\nYour Committee:  Charlene White Edwards\, Andrea Manes\nKaren Dedic Royer\, Sue DeVos Whittler\, Stephanie Nutter Stahr\nJoni Hanger Gramstad.
URL:https://anaheimcolonists.com/event/ahs-class-of-1968/
CATEGORIES:Reunions
END:VEVENT
BEGIN:VEVENT
DTSTART;TZID=America/Los_Angeles:20181020T110000
DTEND;TZID=America/Los_Angeles:20181020T160000
DTSTAMP:20260423T140018
CREATED:20180916T164525Z
LAST-MODIFIED:20180916T171937Z
UID:15181-1540033200-1540051200@anaheimcolonists.com
SUMMARY:Class of 1958 - 60th Reunion
DESCRIPTION:Class of 1958 – 60th  – October 20 – 11A-4P
URL:https://anaheimcolonists.com/event/class-of-1958-60th-reunion/
CATEGORIES:Reunions
END:VEVENT
BEGIN:VEVENT
DTSTART;TZID=America/Los_Angeles:20181011T110000
DTEND;TZID=America/Los_Angeles:20181011T140000
DTSTAMP:20260423T140018
CREATED:20180927T151016Z
LAST-MODIFIED:20180927T151016Z
UID:15276-1539255600-1539266400@anaheimcolonists.com
SUMMARY:AHS Class of 1964 Birthday gathering
DESCRIPTION:AHS Class of 1964 Birthday gathering.  Thursday\, October 11\, 2018\, 11:00 a.m. – 2:00 p.m. \nLOCATION:  El Torito Restaurant\, Orange\, (The Outlets at Orange\, formerly known as “The Block”)  3520 The City Way\,  Orange\, CA 92868 \n      If you are still in contact with a former classmate(s) that you know have NOT been included in our invitations or correspondence\, please forward their current contact information to my email address or call me: Geri Gollenger McGuff\, msgerimcguff@cox.net.   We continue to look for our missing classmates—we’re asking for everyone’s help with this ongoing task.  This will be another great opportunity to see old friends again and maybe even make new ones.  Send in your deposit now! \nGeri Gollenger McGuff \n“Once a Colonist\, always a Colonist!” \n* Your committee members are: LeRoy Carlson; Susan Haskell Maxson; Geri Gollenger McGuff; Rosemary Landry Bell; Larry Larsen; Kathy McLaughlin Wooten; Pam Pebley Laster; Jill Roland Nau; Loretta Welton Miller; Jill Williams W-Otai; Randy Wise
URL:https://anaheimcolonists.com/event/ahs-class-of-1964-birthday-gathering/
CATEGORIES:Reunions
END:VEVENT
BEGIN:VEVENT
DTSTART;TZID=America/Los_Angeles:20181006T180000
DTEND;TZID=America/Los_Angeles:20181006T230000
DTSTAMP:20260423T140018
CREATED:20180916T163231Z
LAST-MODIFIED:20180916T163254Z
UID:15177-1538848800-1538866800@anaheimcolonists.com
SUMMARY:Class of 1978 '40th Reunion
DESCRIPTION:Class of 1978 – 40th – October 6
URL:https://anaheimcolonists.com/event/class-of-1978-40th-reunion/
CATEGORIES:Reunions
END:VEVENT
BEGIN:VEVENT
DTSTART;TZID=America/Los_Angeles:20181006T080000
DTEND;TZID=America/Los_Angeles:20181006T093000
DTSTAMP:20260423T140018
CREATED:20180916T184127Z
LAST-MODIFIED:20180916T184127Z
UID:15253-1538812800-1538818200@anaheimcolonists.com
SUMMARY:Alumni Breakfast
DESCRIPTION:Alumni Breakfast – 1st Saturday of the Month – 8A – 9:30A \nJoin Anaheim High alumni at the monthly breakfast.  All Classes Welcome. (Not the AHS Alumni Association). \nRSVP to:  Geri Mc Guff: 2ahsbreakfast@cox.net & leave name and how many are coming. \n 
URL:https://anaheimcolonists.com/event/alumni-breakfast-23/
CATEGORIES:Breakfast
END:VEVENT
BEGIN:VEVENT
DTSTART;TZID=America/Los_Angeles:20180929T103000
DTEND;TZID=America/Los_Angeles:20181001T140000
DTSTAMP:20260423T140018
CREATED:20180916T162609Z
LAST-MODIFIED:20180916T182914Z
UID:15174-1538217000-1538402400@anaheimcolonists.com
SUMMARY:Class of 1956 Reunion
DESCRIPTION:AHS Class of 1956 – September 28-30\, 2018\n \nFriday\, Sept. 28 – 6:30P Pizza night \nSaturday\, Sept. 29 – 10:30A – 2P – Sizzler \nSunday\, Sept. 30 – 10:30A – 2:00P – Picnic at City Park. \n 
URL:https://anaheimcolonists.com/event/class-of-1956-reunion/
CATEGORIES:Reunions
END:VEVENT
BEGIN:VEVENT
DTSTART;TZID=America/Los_Angeles:20180922T180000
DTEND;TZID=America/Los_Angeles:20180922T180000
DTSTAMP:20260423T140018
CREATED:20180410T135357Z
LAST-MODIFIED:20180410T135357Z
UID:14648-1537639200-1537639200@anaheimcolonists.com
SUMMARY:Class of 1973 - 45th Reunion
DESCRIPTION:
URL:https://anaheimcolonists.com/event/class-of-1973-45th-reunion/
END:VEVENT
BEGIN:VEVENT
DTSTART;TZID=America/Los_Angeles:20180915T100000
DTEND;TZID=America/Los_Angeles:20180915T140000
DTSTAMP:20260423T140018
CREATED:20180916T161811Z
LAST-MODIFIED:20180916T162032Z
UID:15172-1537005600-1537020000@anaheimcolonists.com
SUMMARY:Homecoming All-Class Reunion 120 Years of Spirit\, Pride\, Tradition
DESCRIPTION:AHS Campus 10A-2P
URL:https://anaheimcolonists.com/event/homecoming-all-class-reunion-120-years-of-spirit-pride-tradition/
CATEGORIES:Fundraisers,Reunions
END:VEVENT
BEGIN:VEVENT
DTSTART;TZID=America/Los_Angeles:20180901T080000
DTEND;TZID=America/Los_Angeles:20180901T093000
DTSTAMP:20260423T140018
CREATED:20180916T183722Z
LAST-MODIFIED:20180916T183826Z
UID:15237-1535788800-1535794200@anaheimcolonists.com
SUMMARY:Alumni Breakfast
DESCRIPTION:Alumni Breakfast – 1st Saturday of the Month – 8A – 9:30A \nJoin Anaheim High alumni at the monthly breakfast.  All Classes Welcome. (Not the AHS Alumni Association). \nRSVP to:  Geri Mc Guff: 2ahsbreakfast@cox.net & leave name and how many are coming. \n  \n  \n  \n\n\n  \n\n\n 
URL:https://anaheimcolonists.com/event/15237/
CATEGORIES:Breakfast
END:VEVENT
BEGIN:VEVENT
DTSTART;TZID=America/Los_Angeles:20180708T080000
DTEND;TZID=America/Los_Angeles:20180708T170000
DTSTAMP:20260423T140018
CREATED:20180708T170829Z
LAST-MODIFIED:20180708T170829Z
UID:14860-1531036800-1531069200@anaheimcolonists.com
SUMMARY:AHS Class of 1988 Multi-Class Reunion (1986\, 1987\, 1988\, 1989)
DESCRIPTION:AHS Class of 1988 Multi-Class Reunion (1986\, 1987\, 1988\, 1989).  August 11\, 2018 at 7P. \nRegister here today! https://worldclassadvantage.com/
URL:https://anaheimcolonists.com/event/ahs-class-of-1988-multi-class-reunion-1986-1987-1988-1989/
CATEGORIES:Reunions
END:VEVENT
BEGIN:VEVENT
DTSTART;TZID=America/Los_Angeles:20180303T080000
DTEND;TZID=America/Los_Angeles:20180303T093000
DTSTAMP:20260423T140018
CREATED:20180107T193709Z
LAST-MODIFIED:20180107T193709Z
UID:14397-1520064000-1520069400@anaheimcolonists.com
SUMMARY:Alumni Breakfast 2018
DESCRIPTION:Alumni Breakfast – 1st Saturday of the Month – 8A – 9:30A\n \n\n\nJoin Anaheim High alumni at monthly breakfast.  All Classes Welcome.  (Not the AHS Alumni Association).\n \nRSVP to: Geri Mc Guff   2ahsbreakfast@cox.net & leave name and how many are coming !
URL:https://anaheimcolonists.com/event/alumni-breakfast-2018-3/
CATEGORIES:Breakfast
END:VEVENT
BEGIN:VEVENT
DTSTART;TZID=America/Los_Angeles:20180203T080000
DTEND;TZID=America/Los_Angeles:20180203T093000
DTSTAMP:20260423T140018
CREATED:20180107T192954Z
LAST-MODIFIED:20180107T194839Z
UID:14394-1517644800-1517650200@anaheimcolonists.com
SUMMARY:Alumni Breakfast 2018
DESCRIPTION:Alumni Breakfast – 1st Saturday of the Month – 8A – 9:30A\n \n\n\nJoin Anaheim High alumni at monthly breakfast.  All Classes Welcome.  (Not the AHS Alumni Association Event).\n \nRSVP to: Geri Mc Guff   2ahsbreakfast@cox.net & leave name and how many are coming !
URL:https://anaheimcolonists.com/event/alumni-breakfast-2018-2/
CATEGORIES:Breakfast
END:VEVENT
BEGIN:VEVENT
DTSTART;TZID=America/Los_Angeles:20180106T080000
DTEND;TZID=America/Los_Angeles:20180106T093000
DTSTAMP:20260423T140018
CREATED:20180107T191954Z
LAST-MODIFIED:20180107T194539Z
UID:14389-1515225600-1515231000@anaheimcolonists.com
SUMMARY:Alumni Breakfast 2018
DESCRIPTION:Alumni Breakfast – 1st Saturday of the Month – 8A – 9:30A\n \n\n\nJoin Anaheim High alumni at monthly breakfast.  All Classes Welcome.  (Not the AHS Alumni Association Event).\n \nRSVP to: Geri Mc Guff   2ahsbreakfast@cox.net & leave name and how many are coming !
URL:https://anaheimcolonists.com/event/alumni-breakfast-2018/
CATEGORIES:Breakfast
END:VEVENT
BEGIN:VEVENT
DTSTART;TZID=America/Los_Angeles:20171202T080000
DTEND;TZID=America/Los_Angeles:20171202T093000
DTSTAMP:20260423T140018
CREATED:20161124T190501Z
LAST-MODIFIED:20161124T190531Z
UID:12691-1512201600-1512207000@anaheimcolonists.com
SUMMARY:ALUMNI BREAKFAST
DESCRIPTION:Alumni Breakfast – 1st Saturday of the Month \n\n\nJoin Anaheim High alumni at monthly breakfast.  All Classes Welcome. \nRSVP to: Geri Mc Guff   2ahsbreakfast@cox.net & leave name and how many are coming !
URL:https://anaheimcolonists.com/event/alumni-breakfast-22/
CATEGORIES:Breakfast
END:VEVENT
BEGIN:VEVENT
DTSTART;TZID=America/Los_Angeles:20171119T110000
DTEND;TZID=America/Los_Angeles:20171119T140000
DTSTAMP:20260423T140018
CREATED:20171029T171307Z
LAST-MODIFIED:20171029T171322Z
UID:14035-1511089200-1511100000@anaheimcolonists.com
SUMMARY:AUHS Class of 1952 Reunion
DESCRIPTION:AUHS Class of 1952 (1951 and 1953) Reunion November 19\, 2017. \nAlta Visa Country Club -11A -2:00P \nanaheimalumni@yahoo.com \n 
URL:https://anaheimcolonists.com/event/auhs-class-of-1952-reunion/
CATEGORIES:Reunions
END:VEVENT
BEGIN:VEVENT
DTSTART;TZID=America/Los_Angeles:20171104T080000
DTEND;TZID=America/Los_Angeles:20171104T093000
DTSTAMP:20260423T140018
CREATED:20161124T190039Z
LAST-MODIFIED:20161124T190039Z
UID:12689-1509782400-1509787800@anaheimcolonists.com
SUMMARY:ALUMNI BREAKFAST
DESCRIPTION:Alumni Breakfast – 1st Saturday of the Month\n\n\nJoin Anaheim High alumni at monthly breakfast.  All Classes Welcome. \nRSVP to: Geri Mc Guff   2ahsbreakfast@cox.net & leave name and how many are coming !
URL:https://anaheimcolonists.com/event/alumni-breakfast-21/
CATEGORIES:Breakfast
END:VEVENT
BEGIN:VEVENT
DTSTART;TZID=America/Los_Angeles:20171021T180000
DTEND;TZID=America/Los_Angeles:20171021T220000
DTSTAMP:20260423T140018
CREATED:20170213T165821Z
LAST-MODIFIED:20170213T170219Z
UID:12908-1508608800-1508623200@anaheimcolonists.com
SUMMARY:Class of 1967 – 50th – Oct. 21\, 2017
DESCRIPTION:Class of 1967 – 50th – Oct. 21 – P.M.
URL:https://anaheimcolonists.com/event/class-of-1967-50th-oct-21-2017/
CATEGORIES:Reunions
END:VEVENT
BEGIN:VEVENT
DTSTART;TZID=America/Los_Angeles:20171021T163000
DTEND;TZID=America/Los_Angeles:20171021T190000
DTSTAMP:20260423T140018
CREATED:20170523T023745Z
LAST-MODIFIED:20170523T023745Z
UID:13251-1508603400-1508612400@anaheimcolonists.com
SUMMARY:Class of 1962 - 55th - Oct. 21 - 4:30 P.M.
DESCRIPTION:AHS Class of 1962 -55th reunion\, Saturday\, Oct. 21\, 2017 at 4:30 P.M. \nClass Rep. is  Jayne (Del Crognale) Hess\, jaynerhess@verizon.net
URL:https://anaheimcolonists.com/event/class-of-1962-55th-oct-21-430-p-m/
CATEGORIES:Reunions
END:VEVENT
END:VCALENDAR