BEGIN:VCALENDAR
VERSION:2.0
PRODID:-//Welcome to the Anaheim High School Alumni Association - ECPv6.15.17.1//NONSGML v1.0//EN
CALSCALE:GREGORIAN
METHOD:PUBLISH
X-ORIGINAL-URL:https://anaheimcolonists.com
X-WR-CALDESC:Events for Welcome to the Anaheim High School Alumni Association
REFRESH-INTERVAL;VALUE=DURATION:PT1H
X-Robots-Tag:noindex
X-PUBLISHED-TTL:PT1H
BEGIN:VTIMEZONE
TZID:America/Los_Angeles
BEGIN:DAYLIGHT
TZOFFSETFROM:-0800
TZOFFSETTO:-0700
TZNAME:PDT
DTSTART:20110313T100000
END:DAYLIGHT
BEGIN:STANDARD
TZOFFSETFROM:-0700
TZOFFSETTO:-0800
TZNAME:PST
DTSTART:20111106T090000
END:STANDARD
BEGIN:DAYLIGHT
TZOFFSETFROM:-0800
TZOFFSETTO:-0700
TZNAME:PDT
DTSTART:20120311T100000
END:DAYLIGHT
BEGIN:STANDARD
TZOFFSETFROM:-0700
TZOFFSETTO:-0800
TZNAME:PST
DTSTART:20121104T090000
END:STANDARD
BEGIN:DAYLIGHT
TZOFFSETFROM:-0800
TZOFFSETTO:-0700
TZNAME:PDT
DTSTART:20130310T100000
END:DAYLIGHT
BEGIN:STANDARD
TZOFFSETFROM:-0700
TZOFFSETTO:-0800
TZNAME:PST
DTSTART:20131103T090000
END:STANDARD
END:VTIMEZONE
BEGIN:VEVENT
DTSTART;TZID=America/Los_Angeles:20121022T153000
DTEND;TZID=America/Los_Angeles:20121022T173000
DTSTAMP:20260424T161650
CREATED:20121018T125932Z
LAST-MODIFIED:20121018T125932Z
UID:4887-1350919800-1350927000@anaheimcolonists.com
SUMMARY:AHS Girls Volleyball
DESCRIPTION:Girls Volleyball-Monday\,  Oct. 22 \nSanta Ana Valley @ Anaheim  3:30P
URL:https://anaheimcolonists.com/event/ahs-girls-volleyball-2/
LOCATION:AHS\, CA\, United States
CATEGORIES:AHS Sports
END:VEVENT
BEGIN:VEVENT
DTSTART;TZID=America/Los_Angeles:20121020T190000
DTEND;TZID=America/Los_Angeles:20121020T230000
DTSTAMP:20260424T161650
CREATED:20120830T161543Z
LAST-MODIFIED:20120830T161650Z
UID:4817-1350759600-1350774000@anaheimcolonists.com
SUMMARY:AHS Class of 2002 Reunion
DESCRIPTION:Class of 2002-Oct. 20-Angelo’s & Vinci’s\, 550 N. Harbor Blvd.\, Fullerton 7P-11P. \nContact: Fatima Plascencia and Felipe Gamboa-714-726-5294 or fyp_2002classreunion@yahoo.com or Facebook:   AHSClassof2002
URL:https://anaheimcolonists.com/event/class-of-2002-reunion/
LOCATION:Angelo’s & Vinci’s\, 550 North Harbor Boulevard\, Fullerton\, CA\, United States
CATEGORIES:Reunions
ORGANIZER;CN="Fatima Plascencia and Felipe Gamboa":MAILTO:fyp_2002classreunion@yahoo.com
END:VEVENT
BEGIN:VEVENT
DTSTART;TZID=America/Los_Angeles:20121020T180000
DTEND;TZID=America/Los_Angeles:20121020T230000
DTSTAMP:20260424T161650
CREATED:20120812T024801Z
LAST-MODIFIED:20120812T024801Z
UID:4782-1350756000-1350774000@anaheimcolonists.com
SUMMARY:AHS Class of 1952 Reunion
DESCRIPTION:Class of ‘52 will be holding its 60th reunion October 20\, 6 to 11 p.m.\, at Embassy Suites\, 3100 E. Frontera\, Anaheim. \nFor information\, contact Helen Oviedo Daniel at 714-533-1404.
URL:https://anaheimcolonists.com/event/ahs-class-of-1952-reunion/
LOCATION:Embassy Suites\, 3100 E. Frontera\, Anaheim\, United States
CATEGORIES:Reunions
END:VEVENT
BEGIN:VEVENT
DTSTART;TZID=America/Los_Angeles:20121018T190000
DTEND;TZID=America/Los_Angeles:20121018T220059
DTSTAMP:20260424T161650
CREATED:20120611T144208Z
LAST-MODIFIED:20120611T144208Z
UID:4622-1350586800-1350597659@anaheimcolonists.com
SUMMARY:Varsity Football Anaheim vs Santa Ana Valley
DESCRIPTION:Anaheim Colonists vs Santa Ana Valley.
URL:https://anaheimcolonists.com/event/varsity-football-anaheim-vs-santa-ana-valley/
LOCATION:La Palma Park\, Glover Stadium\, Anaheim\, CA\, United States
CATEGORIES:AHS Sports
END:VEVENT
BEGIN:VEVENT
DTSTART;TZID=America/Los_Angeles:20121018T153000
DTEND;TZID=America/Los_Angeles:20121018T170000
DTSTAMP:20260424T161650
CREATED:20121018T133704Z
LAST-MODIFIED:20121018T133704Z
UID:4898-1350574200-1350579600@anaheimcolonists.com
SUMMARY:AHS FROSH Football
DESCRIPTION:FROSH Football-Thurs. Oct. 18 \nSanta Ana Valley @ Anaheim  3:30P
URL:https://anaheimcolonists.com/event/ahs-frosh-football/
LOCATION:Unnamed Venue\, CA\, United States
CATEGORIES:AHS Sports
END:VEVENT
BEGIN:VEVENT
DTSTART;TZID=America/Los_Angeles:20121018T151500
DTEND;TZID=America/Los_Angeles:20121018T171500
DTSTAMP:20260424T161650
CREATED:20121018T125242Z
LAST-MODIFIED:20121018T125258Z
UID:4883-1350573300-1350580500@anaheimcolonists.com
SUMMARY:AHS Girls Volleyball
DESCRIPTION:Girls Volleyball-Thurs. Oct. 18 \nSavanna @ Anaheim  3:15P
URL:https://anaheimcolonists.com/event/ahs-girls-volleyball/
LOCATION:AHS\, CA\, United States
CATEGORIES:AHS Sports
END:VEVENT
BEGIN:VEVENT
DTSTART;TZID=America/Los_Angeles:20121018T080000
DTEND;TZID=America/Los_Angeles:20121018T170000
DTSTAMP:20260424T161650
CREATED:20121018T145209Z
LAST-MODIFIED:20121018T145209Z
UID:4906-1350547200-1350579600@anaheimcolonists.com
SUMMARY:AHS Colonist Band & Pageantry
DESCRIPTION:Savanna Field Tournament \nThe Savanna Band and Colorguard is proud to host our 36th tournament this year on Saturday\, November 17\, 2012.  Held at Glover Stadium in downtown Anaheim\, the Savanna Field Tournament is held on the last weekend of competition of the year – when all the participating bands and guards are at their peak and vying for those final scores!  35 Bands.
URL:https://anaheimcolonists.com/event/ahs-colonist-band-pageantry-3/
LOCATION:CA
CATEGORIES:AHS Events
END:VEVENT
BEGIN:VEVENT
DTSTART;TZID=America/Los_Angeles:20121014T100000
DTEND;TZID=America/Los_Angeles:20121014T140000
DTSTAMP:20260424T161650
CREATED:20120830T155833Z
LAST-MODIFIED:20120830T161846Z
UID:4811-1350208800-1350223200@anaheimcolonists.com
SUMMARY:AHS Class of 1950 Reunion
DESCRIPTION:Class of 1950 is getting together\, Oct. 14\, Alta Visa Country Club\, Placentia  10A-2P.  (Must RSVP by 10/5) \nContact Betty Mahoney\, Don Shelling or Minard Duncan-714-992-1897.
URL:https://anaheimcolonists.com/event/class-of-1950-reunion/
LOCATION:Alta Vista Country Club\, 777 Alta Visa St.\, Placentia\, CA\, United States
CATEGORIES:Reunions
END:VEVENT
BEGIN:VEVENT
DTSTART;TZID=America/Los_Angeles:20121013T180000
DTEND;TZID=America/Los_Angeles:20121013T233000
DTSTAMP:20260424T161650
CREATED:20120812T040635Z
LAST-MODIFIED:20120812T041655Z
UID:4794-1350151200-1350171000@anaheimcolonists.com
SUMMARY:AHS Class of 1962 Reunion
DESCRIPTION:Class of ‘62 will hold its 50th reunion Oct. 13\, 6-11:30 p.m.\, at The Villa\, 510 E. Katella Ave.\, Orange\, CA  92867. \nTo make a reservation\, contact class representatives Jayne (Del Crognale) and Bob Hess at jaynerhess@verizon.net  or  760-772-9637.
URL:https://anaheimcolonists.com/event/ahs-class-of-1962-reunion/
LOCATION:The Villa\, 510 E. Katella Ave.\, Orange\, CA\, 92867\, United States
CATEGORIES:Reunions
ORGANIZER;CN="Jayne (Del Crognale) and Bob Hess ":MAILTO:jaynerhess@verizon.net
END:VEVENT
BEGIN:VEVENT
DTSTART;TZID=America/Los_Angeles:20121013T180000
DTEND;TZID=America/Los_Angeles:20121013T230000
DTSTAMP:20260424T161650
CREATED:20120812T035924Z
LAST-MODIFIED:20120902T012508Z
UID:3801-1350151200-1350169200@anaheimcolonists.com
SUMMARY:AHS Class of 1967 Reunion
DESCRIPTION:The Class of 67 will hold its 45th reunion Saturday. Oct 13\, to coincide with the Colony Classic Car Show on the AHS campus from 10 a.m. to 2 p.m. The Class of ’67 will keep the car theme rolling by holdings its reunion at Astor Classic Cars. \nTo rsvp and obtain further details\, visit the Class of ’67 Facebook page at https://www.facebook.com/AnaheimHighClassof67 or contact your class representatives: cathih@testkitchen.com Cathi Hofstetter 2427 E. Bethel Dr. Anaheim\, CA 92806 (714) 772 8311 Cell (714) 473 7682\nsheila@sheilalowe.com Sheila Lowe.
URL:https://anaheimcolonists.com/event/class-of-1967-reunion/
LOCATION:Astor Classics\, Anaheim\, CA\, United States
CATEGORIES:Reunions
END:VEVENT
BEGIN:VEVENT
DTSTART;TZID=America/Los_Angeles:20121013T180000
DTEND;TZID=America/Los_Angeles:20121013T230000
DTSTAMP:20260424T161650
CREATED:20120325T155347Z
LAST-MODIFIED:20120812T035651Z
UID:3785-1350151200-1350169200@anaheimcolonists.com
SUMMARY:AHS Class of 1992 Reunion
DESCRIPTION:Class of 1992 is having there 20 year reunion. \nTime: 7:00 pm – 11:00 pm (cocktails at 6:00 pm) \nJuan Pineda and Araceli Bejar Juarez\, who can be contacted at ahsclassof1992reunion@gmail.com \nRegistration is available at:\nhttps://sites.google.com/site/anaheimclass92/home \n  \n 
URL:https://anaheimcolonists.com/event/class-of-1992-reunion/
LOCATION:Angelo’s & Vinci’s\, 550 North Harbor Boulevard\, Fullerton\, CA\, 92832\, United States
CATEGORIES:Reunions
ORGANIZER;CN="Juan Pineda and Araceli Bejar Juarez":MAILTO:ahsclassof1992reunion@gmail.com
END:VEVENT
BEGIN:VEVENT
DTSTART;TZID=America/Los_Angeles:20121013T110000
DTEND;TZID=America/Los_Angeles:20121013T140000
DTSTAMP:20260424T161650
CREATED:20120812T035036Z
LAST-MODIFIED:20120812T041953Z
UID:4737-1350126000-1350136800@anaheimcolonists.com
SUMMARY:AHS Class of 1947 Reunion
DESCRIPTION:Class of 1947 is having there 65th AUHS reunion at the White House. \nContact:  anaheimalumni@yahoo.com
URL:https://anaheimcolonists.com/event/class-of-1947/
LOCATION:Anaheim White House\, United States
CATEGORIES:Reunions
ORGANIZER;CN="":MAILTO:anaheimalumni@yahoo.com
END:VEVENT
BEGIN:VEVENT
DTSTART;TZID=America/Los_Angeles:20121013T100000
DTEND;TZID=America/Los_Angeles:20121013T140059
DTSTAMP:20260424T161650
CREATED:20120317T202718Z
LAST-MODIFIED:20120418T013953Z
UID:3632-1350122400-1350136859@anaheimcolonists.com
SUMMARY:COLONY CAR SHOW & ALL-CLASS REUNION
DESCRIPTION:
URL:https://anaheimcolonists.com/event/colony-car-show-all-class-reunion/
LOCATION:AHS Campus\, United States
CATEGORIES:Fundraisers
END:VEVENT
BEGIN:VEVENT
DTSTART;TZID=America/Los_Angeles:20121012T190000
DTEND;TZID=America/Los_Angeles:20121012T220059
DTSTAMP:20260424T161650
CREATED:20120610T231240Z
LAST-MODIFIED:20120610T231240Z
UID:4614-1350068400-1350079259@anaheimcolonists.com
SUMMARY:HOMECOMING GAME Anaheim Colonists vs. Savanna Rebels
DESCRIPTION:It’s Homecoming… where else would you rather be??? \n 
URL:https://anaheimcolonists.com/event/homecoming-game-anaheim-colonists-vs-savanna-rebels/
LOCATION:Glover Stadium – La Palma Park\, 1151 N. Anaheim Blvd.\, Anaheim\, CA\, 92801\, United States
CATEGORIES:AHS Sports
END:VEVENT
BEGIN:VEVENT
DTSTART;TZID=America/Los_Angeles:20121007T233000
DTEND;TZID=America/Los_Angeles:20121007T233000
DTSTAMP:20260424T161650
CREATED:20120612T152245Z
LAST-MODIFIED:20120830T151332Z
UID:4625-1349652600-1349652600@anaheimcolonists.com
SUMMARY:AHS-Performing Arts Conservatory (APAC)
DESCRIPTION:Recipe for Success \nAnaheim High School’s Performing Arts Conservatory\, Fundraiser Luncheon. \n 
URL:https://anaheimcolonists.com/event/ahs-performing-arts-conservatory-apac/
LOCATION:Anaheim White House\, 887 S. Anaheim Blvd.\, Anaheim\, CA\, 92805\, United States
CATEGORIES:Fundraisers
END:VEVENT
BEGIN:VEVENT
DTSTART;TZID=America/Los_Angeles:20121006T080000
DTEND;TZID=America/Los_Angeles:20121006T100059
DTSTAMP:20260424T161650
CREATED:20120302T000558Z
LAST-MODIFIED:20120302T000558Z
UID:3616-1349510400-1349517659@anaheimcolonists.com
SUMMARY:Alumni Breakfast - 1st Saturday of the Month
DESCRIPTION:Join Anaheim High alumni at monthly breakfast.
URL:https://anaheimcolonists.com/event/alumni-breakfast-1st-saturday-of-the-month-7/
LOCATION:CA
CATEGORIES:Breakfast
ORGANIZER;CN="Don Vary":MAILTO:bunduck@sbcglobal.net
END:VEVENT
BEGIN:VEVENT
DTSTART;TZID=America/Los_Angeles:20121004T190000
DTEND;TZID=America/Los_Angeles:20121004T220059
DTSTAMP:20260424T161650
CREATED:20120610T230909Z
LAST-MODIFIED:20120610T230909Z
UID:4612-1349377200-1349388059@anaheimcolonists.com
SUMMARY:Varsity Football: Anaheim Colonists vs. Katella Knights
DESCRIPTION:Anaheim vs. Katella – 7:00 PM – Glover Stadium – La Palma Park
URL:https://anaheimcolonists.com/event/varsity-football-anaheim-colonists-vs-katella-knights/
LOCATION:Glover Stadium – La Palma Park\, 1151 N. Anaheim Blvd.\, Anaheim\, CA\, 92801\, United States
CATEGORIES:AHS Sports
END:VEVENT
BEGIN:VEVENT
DTSTART;TZID=America/Los_Angeles:20120928T190000
DTEND;TZID=America/Los_Angeles:20120928T220059
DTSTAMP:20260424T161650
CREATED:20120610T225548Z
LAST-MODIFIED:20120610T225548Z
UID:4609-1348858800-1348869659@anaheimcolonists.com
SUMMARY:Varsity Football: Anaheim Colonists at Rancho Alamitos Vaqueros
DESCRIPTION:Anaheim vs. Rancho Alamitos – 7:00 PM – Bolsa Grande High School in Garden Grove
URL:https://anaheimcolonists.com/event/varsity-football-anaheim-colonists-at-rancho-alamitos-vaqueros/
LOCATION:Bolsa Grande High School\, 9401 E. Westminster Blvd\, Garden Grove\, CA\, 92844\, United States
CATEGORIES:AHS Sports
END:VEVENT
BEGIN:VEVENT
DTSTART;TZID=America/Los_Angeles:20120922T130000
DTEND;TZID=America/Los_Angeles:20120922T170000
DTSTAMP:20260424T161650
CREATED:20120812T032746Z
LAST-MODIFIED:20120830T152319Z
UID:4788-1348318800-1348333200@anaheimcolonists.com
SUMMARY:AHS Class 1957 Reunion
DESCRIPTION:Class of ’57 is celebrating its 55th reunion Sept. 22\, beginning at 1 p.m.\, with a party at a classmate’s home. Cost is $45; dress casual. \nFor more information\, contact Donna (Wright) Asbough at 714-731-5323.
URL:https://anaheimcolonists.com/event/ahs-class-1957-reunion/
LOCATION:CA
CATEGORIES:Reunions
END:VEVENT
BEGIN:VEVENT
DTSTART;TZID=America/Los_Angeles:20120920T190000
DTEND;TZID=America/Los_Angeles:20120920T220059
DTSTAMP:20260424T161650
CREATED:20120610T225043Z
LAST-MODIFIED:20120610T225043Z
UID:4607-1348167600-1348178459@anaheimcolonists.com
SUMMARY:Varsity Football: Anaheim Colonists vs. Loara Saxons
DESCRIPTION:Anaheim takes on its nearby rival Loara on Thursday\, September 20th at 7:00 PM at Glover Stadium
URL:https://anaheimcolonists.com/event/varsity-football-anaheim-colonists-vs-loara-saxons/
LOCATION:Glover Stadium – La Palma Park\, 1151 N. Anaheim Blvd.\, Anaheim\, CA\, 92801\, United States
CATEGORIES:AHS Sports
END:VEVENT
BEGIN:VEVENT
DTSTART;TZID=America/Los_Angeles:20120916T110000
DTEND;TZID=America/Los_Angeles:20120916T150000
DTSTAMP:20260424T161650
CREATED:20120830T154438Z
LAST-MODIFIED:20120830T154438Z
UID:4803-1347793200-1347807600@anaheimcolonists.com
SUMMARY:Classes 68-73 Reunion
DESCRIPTION:Classes of 68-73-Sept. 16 at Pearson Park\, Northwest corner park\, Harbor & Sycamore  11A-3P.
URL:https://anaheimcolonists.com/event/classes-68-73-reunion/
LOCATION:Pearson Park\, Harbor & Sycamore\, Anaheim\, CA\, 92805\, United States
CATEGORIES:Reunions
END:VEVENT
BEGIN:VEVENT
DTSTART;TZID=America/Los_Angeles:20120915T180000
DTEND;TZID=America/Los_Angeles:20120915T230000
DTSTAMP:20260424T161650
CREATED:20120322T223715Z
LAST-MODIFIED:20120812T041500Z
UID:3724-1347732000-1347750000@anaheimcolonists.com
SUMMARY:AHS Class of 1972 reunion
DESCRIPTION:Please send an RSVP e-mail to Janice Monaco at auhs1972reunion@gmail.com \nPLEASE SPREAD THE WORD TO OTHER CLASSMATES TO RSVP.
URL:https://anaheimcolonists.com/event/class-of-1972-reunion/
LOCATION:Anaheim Stadium Diamond Club\, United States
CATEGORIES:Reunions
ORGANIZER;CN="Janice Monaco":MAILTO:auhs1972reunion@gmail.com
END:VEVENT
BEGIN:VEVENT
DTSTART;TZID=America/Los_Angeles:20120913T190000
DTEND;TZID=America/Los_Angeles:20120913T220059
DTSTAMP:20260424T161650
CREATED:20120610T222914Z
LAST-MODIFIED:20120615T233344Z
UID:4603-1347562800-1347573659@anaheimcolonists.com
SUMMARY:Varsity Football: Anaheim Colonists vs. Western Pioneers BATTLE FOR THE BELL and Hall of Fame Halftime
DESCRIPTION:This is IT! The Battle for the Bell is back on after a two year hiatus. \nGame is set for Thursday\, September 13th at 7:00 PM in the 2012 Season Home Opener. \nBe there as Anaheim and Western meet again on the gridiron and renew our storied rivalry!
URL:https://anaheimcolonists.com/event/varsity-football-anaheim-colonists-vs-western-pioneers/
LOCATION:Glover Stadium – La Palma Park\, 1151 N. Anaheim Blvd.\, Anaheim\, CA\, 92801\, United States
CATEGORIES:AHS Sports
END:VEVENT
BEGIN:VEVENT
DTSTART;TZID=America/Los_Angeles:20120912T180000
DTEND;TZID=America/Los_Angeles:20120912T210059
DTSTAMP:20260424T161650
CREATED:20120615T233737Z
LAST-MODIFIED:20120615T233737Z
UID:4633-1347472800-1347483659@anaheimcolonists.com
SUMMARY:2012 Anaheim High Hall of Fame Dinner
DESCRIPTION:ANAHEIM HIGH SCHOOL\nHall of Fame\nOutstanding Alumni/Community Member Award \nThis prestigious award is given to outstanding alumni\, teachers and staff whose deeds and lives bring credit to Anaheim High School. The award may also be given to community members who have gone above and beyond in their contributions to the students of Anaheim High School. \n 
URL:https://anaheimcolonists.com/event/2012-anaheim-high-hall-of-fame-dinner/
LOCATION:Anaheim Plaza Resort\, Anaheim\, 92802\, Select a Country:
CATEGORIES:Mixer
END:VEVENT
BEGIN:VEVENT
DTSTART;TZID=America/Los_Angeles:20120908T193000
DTEND;TZID=America/Los_Angeles:20120908T230000
DTSTAMP:20260424T161650
CREATED:20120812T041328Z
LAST-MODIFIED:20120830T151843Z
UID:4797-1347132600-1347145200@anaheimcolonists.com
SUMMARY:AHS Class of 1987 Reunion
DESCRIPTION:Class of ‘87 has set its 25th reunion for Sept. 8\, 2012. \nFor information\, contact Christine (Van Steenwyk) Becerra at 714-743-0091
URL:https://anaheimcolonists.com/event/ahs-class-of-1987-reunion/
LOCATION:CA
CATEGORIES:Reunions
END:VEVENT
BEGIN:VEVENT
DTSTART;TZID=America/Los_Angeles:20120906T070000
DTEND;TZID=America/Los_Angeles:20120906T220059
DTSTAMP:20260424T161650
CREATED:20120610T220822Z
LAST-MODIFIED:20120610T224241Z
UID:4600-1346914800-1346968859@anaheimcolonists.com
SUMMARY:Varsity Football: Anaheim Colonists vs. Santa Ana Saints
DESCRIPTION:The 2012 Anaheim Colonists take on old rival Santa Ana on Thursday\, September 6th at 7:00 PM at Segerstrom High School in Santa Ana.
URL:https://anaheimcolonists.com/event/varsity-football-anaheim-colonists-vs-santa-ana-saints/
LOCATION:Segerstrom High School\, 2301 West MacArthur Blvd\, Santa Ana\, CA\, 92704\, United States
CATEGORIES:AHS Sports
END:VEVENT
BEGIN:VEVENT
DTSTART;TZID=America/Los_Angeles:20120901T080000
DTEND;TZID=America/Los_Angeles:20120901T100059
DTSTAMP:20260424T161650
CREATED:20120302T000307Z
LAST-MODIFIED:20120302T000307Z
UID:3614-1346486400-1346493659@anaheimcolonists.com
SUMMARY:Alumni Breakfast - 1st Saturday of the Month
DESCRIPTION:Join Anaheim High alumni at monthly breakfast.
URL:https://anaheimcolonists.com/event/alumni-breakfast-1st-saturday-of-the-month-6/
LOCATION:CA
CATEGORIES:Breakfast
ORGANIZER;CN="Don Vary":MAILTO:bunduck@sbcglobal.net
END:VEVENT
BEGIN:VEVENT
DTSTART;TZID=America/Los_Angeles:20120831T190000
DTEND;TZID=America/Los_Angeles:20120831T220059
DTSTAMP:20260424T161650
CREATED:20120610T220223Z
LAST-MODIFIED:20120610T224308Z
UID:4597-1346439600-1346450459@anaheimcolonists.com
SUMMARY:Varsity Football: Anaheim Colonists vs. Fullerton Indians
DESCRIPTION:The 2012 Anaheim Colonists Varsity Football Team takes the field against the rival Fullerton High School Indians on Friday\, August 31 at 7:00 PM at Fullerton District Stadium
URL:https://anaheimcolonists.com/event/varsity-football-anaheim-colonists-vs-fullerton-indians/
LOCATION:Fullerton District Stadium\, 321 East Champman Ave.\, Fullerton\, CA\, 92656\, United States
CATEGORIES:AHS Sports
END:VEVENT
BEGIN:VEVENT
DTSTART;VALUE=DATE:20120827
DTEND;VALUE=DATE:20120828
DTSTAMP:20260424T161650
CREATED:20120620T172441Z
LAST-MODIFIED:20120620T172441Z
UID:4712-1346025600-1346111999@anaheimcolonists.com
SUMMARY:Anaheim High School First Day
DESCRIPTION:
URL:https://anaheimcolonists.com/event/anaheim-high-school-first-day/
LOCATION:CA
CATEGORIES:AHS Events
END:VEVENT
BEGIN:VEVENT
DTSTART;TZID=America/Los_Angeles:20120825T180000
DTEND;TZID=America/Los_Angeles:20120825T230059
DTSTAMP:20260424T161650
CREATED:20120630T021220Z
LAST-MODIFIED:20120630T021220Z
UID:4732-1345917600-1345935659@anaheimcolonists.com
SUMMARY:Class of 1965 Pizza Reunion
DESCRIPTION:Anaheim High School Class of 1965..Pizza Reunion August 25 2012
URL:https://anaheimcolonists.com/event/class-of-1965-pizza-reunion/
LOCATION:Round Table Pizza\, St. College & Chapman\, Fullerton\, United States
CATEGORIES:Reunions
END:VEVENT
END:VCALENDAR