BEGIN:VCALENDAR
VERSION:2.0
PRODID:-//Welcome to the Anaheim High School Alumni Association - ECPv6.15.17.1//NONSGML v1.0//EN
CALSCALE:GREGORIAN
METHOD:PUBLISH
X-ORIGINAL-URL:https://anaheimcolonists.com
X-WR-CALDESC:Events for Welcome to the Anaheim High School Alumni Association
REFRESH-INTERVAL;VALUE=DURATION:PT1H
X-Robots-Tag:noindex
X-PUBLISHED-TTL:PT1H
BEGIN:VTIMEZONE
TZID:America/Los_Angeles
BEGIN:DAYLIGHT
TZOFFSETFROM:-0800
TZOFFSETTO:-0700
TZNAME:PDT
DTSTART:20170312T100000
END:DAYLIGHT
BEGIN:STANDARD
TZOFFSETFROM:-0700
TZOFFSETTO:-0800
TZNAME:PST
DTSTART:20171105T090000
END:STANDARD
BEGIN:DAYLIGHT
TZOFFSETFROM:-0800
TZOFFSETTO:-0700
TZNAME:PDT
DTSTART:20180311T100000
END:DAYLIGHT
BEGIN:STANDARD
TZOFFSETFROM:-0700
TZOFFSETTO:-0800
TZNAME:PST
DTSTART:20181104T090000
END:STANDARD
BEGIN:DAYLIGHT
TZOFFSETFROM:-0800
TZOFFSETTO:-0700
TZNAME:PDT
DTSTART:20190310T100000
END:DAYLIGHT
BEGIN:STANDARD
TZOFFSETFROM:-0700
TZOFFSETTO:-0800
TZNAME:PST
DTSTART:20191103T090000
END:STANDARD
BEGIN:DAYLIGHT
TZOFFSETFROM:-0800
TZOFFSETTO:-0700
TZNAME:PDT
DTSTART:20200308T100000
END:DAYLIGHT
BEGIN:STANDARD
TZOFFSETFROM:-0700
TZOFFSETTO:-0800
TZNAME:PST
DTSTART:20201101T090000
END:STANDARD
BEGIN:DAYLIGHT
TZOFFSETFROM:-0800
TZOFFSETTO:-0700
TZNAME:PDT
DTSTART:20210314T100000
END:DAYLIGHT
BEGIN:STANDARD
TZOFFSETFROM:-0700
TZOFFSETTO:-0800
TZNAME:PST
DTSTART:20211107T090000
END:STANDARD
BEGIN:DAYLIGHT
TZOFFSETFROM:-0800
TZOFFSETTO:-0700
TZNAME:PDT
DTSTART:20220313T100000
END:DAYLIGHT
BEGIN:STANDARD
TZOFFSETFROM:-0700
TZOFFSETTO:-0800
TZNAME:PST
DTSTART:20221106T090000
END:STANDARD
END:VTIMEZONE
BEGIN:VEVENT
DTSTART;TZID=America/Los_Angeles:20211022T180000
DTEND;TZID=America/Los_Angeles:20211022T230000
DTSTAMP:20260423T123119
CREATED:20210404T000817Z
LAST-MODIFIED:20210404T001236Z
UID:17410-1634925600-1634943600@anaheimcolonists.com
SUMMARY:AHS Class of 1970 - 50th Reunion
DESCRIPTION:Class of 1970 – 50th  – Friday\, Oct. 22\, 2021 – Anaheimhs1970@gmail.com
URL:https://anaheimcolonists.com/event/17410/
CATEGORIES:AHS Events,Reunions
END:VEVENT
BEGIN:VEVENT
DTSTART;TZID=America/Los_Angeles:20200918T190000
DTEND;TZID=America/Los_Angeles:20200918T220000
DTSTAMP:20260423T123119
CREATED:20200501T163656Z
LAST-MODIFIED:20200521T181123Z
UID:17103-1600455600-1600466400@anaheimcolonists.com
SUMMARY:AHS FOOTBALL HOMECOMING
DESCRIPTION:AHS FOOTBALL HOMECOMING GAME \nFRIDAY\, SEPTEMBER 18\, 2020 @ 7P.
URL:https://anaheimcolonists.com/event/ahs-football-homecoming/
CATEGORIES:AHS Events,AHS Sports
END:VEVENT
BEGIN:VEVENT
DTSTART;VALUE=DATE:20200801
DTEND;VALUE=DATE:20200802
DTSTAMP:20260423T123119
CREATED:20200508T160301Z
LAST-MODIFIED:20200508T160301Z
UID:17124-1596240000-1596326399@anaheimcolonists.com
SUMMARY:AHS CLASS OF 2000 REUNION
DESCRIPTION:
URL:https://anaheimcolonists.com/event/ahs-class-of-2000-reunion/
END:VEVENT
BEGIN:VEVENT
DTSTART;TZID=America/Los_Angeles:20191207T080000
DTEND;TZID=America/Los_Angeles:20191207T170000
DTSTAMP:20260423T123119
CREATED:20190721T204916Z
LAST-MODIFIED:20190721T204916Z
UID:16326-1575705600-1575738000@anaheimcolonists.com
SUMMARY:Alumni Breakfast
DESCRIPTION:Alumni Breakfast – 1st Saturday of the Month – 8A – 9:30A \nJoin Anaheim High alumni at the monthly breakfast. All Classes Welcome. (Not the AHS Alumni Association). \nRSVP to: Geri Mc Guff: 2ahsbreakfast@cox.net & leave name and how many are coming.
URL:https://anaheimcolonists.com/event/alumni-breakfast-35/
CATEGORIES:Breakfast
END:VEVENT
BEGIN:VEVENT
DTSTART;TZID=America/Los_Angeles:20191102T080000
DTEND;TZID=America/Los_Angeles:20191102T093000
DTSTAMP:20260423T123119
CREATED:20190721T204709Z
LAST-MODIFIED:20190721T204709Z
UID:16324-1572681600-1572687000@anaheimcolonists.com
SUMMARY:Alumni Breakfast
DESCRIPTION:Alumni Breakfast – 1st Saturday of the Month – 8A – 9:30A \nJoin Anaheim High alumni at the monthly breakfast. All Classes Welcome. (Not the AHS Alumni Association). \nRSVP to: Geri Mc Guff: 2ahsbreakfast@cox.net & leave name and how many are coming.
URL:https://anaheimcolonists.com/event/alumni-breakfast-34/
CATEGORIES:Breakfast
END:VEVENT
BEGIN:VEVENT
DTSTART;TZID=America/Los_Angeles:20191020T120000
DTEND;TZID=America/Los_Angeles:20191020T120000
DTSTAMP:20260423T123119
CREATED:20190426T195535Z
LAST-MODIFIED:20190426T195834Z
UID:16008-1571572800-1571572800@anaheimcolonists.com
SUMMARY:Class of 1959 - 60th Reunion
DESCRIPTION:Sunday\, Oct. 20 – Class of 1959 – 60th reunion
URL:https://anaheimcolonists.com/event/class-of-1959-60th-reunion/
CATEGORIES:Reunions
END:VEVENT
BEGIN:VEVENT
DTSTART;TZID=America/Los_Angeles:20191019T180000
DTEND;TZID=America/Los_Angeles:20191019T180000
DTSTAMP:20260423T123119
CREATED:20190426T194808Z
LAST-MODIFIED:20190426T194808Z
UID:16004-1571508000-1571508000@anaheimcolonists.com
SUMMARY:Class of 1969 – 50th reunion
DESCRIPTION:Oct. 19 – Class of 1969 – 50th reunion
URL:https://anaheimcolonists.com/event/class-of-1969-50th-reunion/
CATEGORIES:Reunions
END:VEVENT
BEGIN:VEVENT
DTSTART;TZID=America/Los_Angeles:20191019T180000
DTEND;TZID=America/Los_Angeles:20191019T180000
DTSTAMP:20260423T123119
CREATED:20190426T194535Z
LAST-MODIFIED:20190426T194535Z
UID:16002-1571508000-1571508000@anaheimcolonists.com
SUMMARY:Class of 1964 - 55th Reunion
DESCRIPTION:Oct. 19 – Class of 1964 – 55th reunion
URL:https://anaheimcolonists.com/event/class-of-1964-55th-reunion/
CATEGORIES:Reunions
END:VEVENT
BEGIN:VEVENT
DTSTART;TZID=America/Los_Angeles:20191019T100000
DTEND;TZID=America/Los_Angeles:20191019T140000
DTSTAMP:20260423T123119
CREATED:20190426T195224Z
LAST-MODIFIED:20190426T195224Z
UID:16006-1571479200-1571493600@anaheimcolonists.com
SUMMARY:Colony Classic Car Show
DESCRIPTION:8th Annual Colony Classic Car Show – Saturday\, Oct. 19\, 2019.  AHS Campus 10A- 2P.
URL:https://anaheimcolonists.com/event/colony-classic-car-show-2/
CATEGORIES:Fundraisers
END:VEVENT
BEGIN:VEVENT
DTSTART;TZID=America/Los_Angeles:20191012T173000
DTEND;TZID=America/Los_Angeles:20191012T233000
DTSTAMP:20260423T123119
CREATED:20190426T193140Z
LAST-MODIFIED:20190426T193639Z
UID:15997-1570901400-1570923000@anaheimcolonists.com
SUMMARY:Class of 1989 - 30th Reunion
DESCRIPTION:Oct. 12 – Class of 1989  – 30th  reunion –  5:30P –  www.ahs89reunion.com
URL:https://anaheimcolonists.com/event/class-of-1989-30th-reunion/
CATEGORIES:Reunions
END:VEVENT
BEGIN:VEVENT
DTSTART;TZID=America/Los_Angeles:20191011T190000
DTEND;TZID=America/Los_Angeles:20191011T220000
DTSTAMP:20260423T123119
CREATED:20190426T194158Z
LAST-MODIFIED:20190426T194158Z
UID:16000-1570820400-1570831200@anaheimcolonists.com
SUMMARY:Homecoming Game 2019
DESCRIPTION:Homecoming game: Friday\, Oct. 11\, 2019 vs Century at Glover Stadium
URL:https://anaheimcolonists.com/event/homecoming-game-2019/
CATEGORIES:AHS Events
END:VEVENT
BEGIN:VEVENT
DTSTART;TZID=America/Los_Angeles:20191005T180000
DTEND;TZID=America/Los_Angeles:20191005T180000
DTSTAMP:20260423T123119
CREATED:20190426T200111Z
LAST-MODIFIED:20190426T200111Z
UID:16010-1570298400-1570298400@anaheimcolonists.com
SUMMARY:Class of 1979 - 40th reunion
DESCRIPTION:Oct. 5 – Class of 1979 – 40th reunion
URL:https://anaheimcolonists.com/event/class-of-1979-40th-reunion/
CATEGORIES:Reunions
END:VEVENT
BEGIN:VEVENT
DTSTART;TZID=America/Los_Angeles:20191005T080000
DTEND;TZID=America/Los_Angeles:20191005T093000
DTSTAMP:20260423T123119
CREATED:20190721T204519Z
LAST-MODIFIED:20190721T204519Z
UID:16322-1570262400-1570267800@anaheimcolonists.com
SUMMARY:Alumni Breakfast
DESCRIPTION:Alumni Breakfast – 1st Saturday of the Month – 8A – 9:30A \nJoin Anaheim High alumni at the monthly breakfast. All Classes Welcome. (Not the AHS Alumni Association). \nRSVP to: Geri Mc Guff: 2ahsbreakfast@cox.net & leave name and how many are coming.
URL:https://anaheimcolonists.com/event/alumni-breakfast-33/
CATEGORIES:Breakfast
END:VEVENT
BEGIN:VEVENT
DTSTART;TZID=America/Los_Angeles:20190921T180000
DTEND;TZID=America/Los_Angeles:20190921T180000
DTSTAMP:20260423T123119
CREATED:20190426T200413Z
LAST-MODIFIED:20190426T200413Z
UID:16012-1569088800-1569088800@anaheimcolonists.com
SUMMARY:Class of 1974 - 45th reunion
DESCRIPTION:Sept. 21 – Class of 1974 – 45th reunion
URL:https://anaheimcolonists.com/event/class-of-1974-45th-reunion-2/
CATEGORIES:Reunions
END:VEVENT
BEGIN:VEVENT
DTSTART;TZID=America/Los_Angeles:20190907T080000
DTEND;TZID=America/Los_Angeles:20190907T093000
DTSTAMP:20260423T123119
CREATED:20190721T204154Z
LAST-MODIFIED:20190721T204327Z
UID:16320-1567843200-1567848600@anaheimcolonists.com
SUMMARY:Alumni Breakfast
DESCRIPTION:Alumni Breakfast – 1st Saturday of the Month – 8A – 9:30A \nJoin Anaheim High alumni at the monthly breakfast. All Classes Welcome. (Not the AHS Alumni Association). \nRSVP to: Geri Mc Guff: 2ahsbreakfast@cox.net & leave name and how many are coming.
URL:https://anaheimcolonists.com/event/alumni-breakfast-32/
CATEGORIES:Breakfast
END:VEVENT
BEGIN:VEVENT
DTSTART;TZID=America/Los_Angeles:20190803T080000
DTEND;TZID=America/Los_Angeles:20190803T093000
DTSTAMP:20260423T123119
CREATED:20190721T203808Z
LAST-MODIFIED:20190721T204025Z
UID:16317-1564819200-1564824600@anaheimcolonists.com
SUMMARY:Alumni Breakfast
DESCRIPTION:Alumni Breakfast – 1st Saturday of the Month – 8A – 9:30A \nJoin Anaheim High alumni at the monthly breakfast. All Classes Welcome. (Not the AHS Alumni Association). \nRSVP to: Geri Mc Guff: 2ahsbreakfast@cox.net & leave name and how many are coming.
URL:https://anaheimcolonists.com/event/alumni-breakfast-31/
CATEGORIES:Breakfast
END:VEVENT
BEGIN:VEVENT
DTSTART;TZID=America/Los_Angeles:20190706T080000
DTEND;TZID=America/Los_Angeles:20190706T093000
DTSTAMP:20260423T123119
CREATED:20190721T205130Z
LAST-MODIFIED:20190721T205130Z
UID:16328-1562400000-1562405400@anaheimcolonists.com
SUMMARY:Alumni Breakfast
DESCRIPTION:Alumni Breakfast – 1st Saturday of the Month – 8A – 9:30A \nJoin Anaheim High alumni at the monthly breakfast. All Classes Welcome. (Not the AHS Alumni Association). \nRSVP to: Geri Mc Guff: 2ahsbreakfast@cox.net & leave name and how many are coming.
URL:https://anaheimcolonists.com/event/alumni-breakfast-36/
CATEGORIES:Breakfast
END:VEVENT
BEGIN:VEVENT
DTSTART;TZID=America/Los_Angeles:20190504T080000
DTEND;TZID=America/Los_Angeles:20190504T093000
DTSTAMP:20260423T123119
CREATED:20190426T200751Z
LAST-MODIFIED:20190426T200751Z
UID:16014-1556956800-1556962200@anaheimcolonists.com
SUMMARY:Alumni Breakfast
DESCRIPTION:Alumni Breakfast – 1st Saturday of the Month – 8A – 9:30A \nJoin Anaheim High alumni at the monthly breakfast. All Classes Welcome. (Not the AHS Alumni Association). \nRSVP to: Geri Mc Guff: 2ahsbreakfast@cox.net & leave name and how many are coming.
URL:https://anaheimcolonists.com/event/alumni-breakfast-30/
CATEGORIES:Breakfast
END:VEVENT
BEGIN:VEVENT
DTSTART;TZID=America/Los_Angeles:20190406T080000
DTEND;TZID=America/Los_Angeles:20190406T093000
DTSTAMP:20260423T123119
CREATED:20181213T185152Z
LAST-MODIFIED:20181213T185152Z
UID:15419-1554537600-1554543000@anaheimcolonists.com
SUMMARY:Alumni Breakfast
DESCRIPTION:Alumni Breakfast\n\nApril 6 @ 8:00 am – 9:30 am\n\n\n\nAlumni Breakfast – 1st Saturday of the Month – 8A – 9:30A \nJoin Anaheim High alumni at the monthly breakfast.  All Classes Welcome. (Not the AHS Alumni Association). \nRSVP to:  Geri Mc Guff: 2ahsbreakfast@cox.net & leave name and how many are coming. \n 
URL:https://anaheimcolonists.com/event/alumni-breakfast-29/
CATEGORIES:Breakfast
END:VEVENT
BEGIN:VEVENT
DTSTART;TZID=America/Los_Angeles:20190327T080000
DTEND;TZID=America/Los_Angeles:20190327T170000
DTSTAMP:20260423T123119
CREATED:20190327T153844Z
LAST-MODIFIED:20190327T154013Z
UID:15839-1553673600-1553706000@anaheimcolonists.com
SUMMARY:Class of 1974 - 45th Reunion
DESCRIPTION:Sept. 21 – Class of 1974 – 45th reunion. \n  \n 
URL:https://anaheimcolonists.com/event/class-of-1974-45th-reunion/
CATEGORIES:Reunions
END:VEVENT
BEGIN:VEVENT
DTSTART;TZID=America/Los_Angeles:20190302T080000
DTEND;TZID=America/Los_Angeles:20190302T093000
DTSTAMP:20260423T123119
CREATED:20181213T184840Z
LAST-MODIFIED:20181213T184913Z
UID:15416-1551513600-1551519000@anaheimcolonists.com
SUMMARY:Alumni Breakfast
DESCRIPTION:Alumni Breakfast\n\nMarch 2 @ 8:00 am – 9:30 am\n\n\n\nAlumni Breakfast – 1st Saturday of the Month – 8A – 9:30A \nJoin Anaheim High alumni at the monthly breakfast.  All Classes Welcome. (Not the AHS Alumni Association). \nRSVP to:  Geri Mc Guff: 2ahsbreakfast@cox.net & leave name and how many are coming. \n 
URL:https://anaheimcolonists.com/event/alumni-breakfast-28/
CATEGORIES:Breakfast
END:VEVENT
BEGIN:VEVENT
DTSTART;TZID=America/Los_Angeles:20190218T073000
DTEND;TZID=America/Los_Angeles:20190218T163000
DTSTAMP:20260423T123119
CREATED:20181213T183110Z
LAST-MODIFIED:20181213T183654Z
UID:15409-1550475000-1550507400@anaheimcolonists.com
SUMMARY:10th Annual Golf Classic & Auction - Monday\, Feb. 18\, 2019
DESCRIPTION:10th Annual Golf Classic & Auction set for Monday\, Feb. 18\, at Western Hills Country Club www.golfwhcc.com. \nTee-time is 9 a.m. (registration begins at 7:30 a.m.\, with putting contesting running from 7:45-8:30.) \nForms:  anaheimcolonists.com \nMore info. email:  anaheimalumni@yahoo.com \n 
URL:https://anaheimcolonists.com/event/10th-annual-golf-classic-auction-monday-feb-18-2019/
CATEGORIES:Fundraisers,Golf Classic
END:VEVENT
BEGIN:VEVENT
DTSTART;TZID=America/Los_Angeles:20190202T080000
DTEND;TZID=America/Los_Angeles:20190202T093000
DTSTAMP:20260423T123119
CREATED:20181213T184535Z
LAST-MODIFIED:20181213T184535Z
UID:15414-1549094400-1549099800@anaheimcolonists.com
SUMMARY:Alumni Breakfast
DESCRIPTION:Alumni Breakfast\n\nFebruary  2 @ 8:00 am – 9:30 am\n\n\n\nAlumni Breakfast – 1st Saturday of the Month – 8A – 9:30A \nJoin Anaheim High alumni at the monthly breakfast.  All Classes Welcome. (Not the AHS Alumni Association). \nRSVP to:  Geri Mc Guff: 2ahsbreakfast@cox.net & leave name and how many are coming. \n 
URL:https://anaheimcolonists.com/event/alumni-breakfast-27/
CATEGORIES:Breakfast
END:VEVENT
BEGIN:VEVENT
DTSTART;TZID=America/Los_Angeles:20190105T080000
DTEND;TZID=America/Los_Angeles:20190105T093000
DTSTAMP:20260423T123119
CREATED:20181213T184154Z
LAST-MODIFIED:20181213T184154Z
UID:15412-1546675200-1546680600@anaheimcolonists.com
SUMMARY:Alumni Breakfast
DESCRIPTION:Alumni Breakfast\n\nJanuary 5 @ 8:00 am – 9:30 am\n\n\n\nAlumni Breakfast – 1st Saturday of the Month – 8A – 9:30A \nJoin Anaheim High alumni at the monthly breakfast.  All Classes Welcome. (Not the AHS Alumni Association). \nRSVP to:  Geri Mc Guff: 2ahsbreakfast@cox.net & leave name and how many are coming. \n 
URL:https://anaheimcolonists.com/event/alumni-breakfast-26/
CATEGORIES:Breakfast
END:VEVENT
BEGIN:VEVENT
DTSTART;TZID=America/Los_Angeles:20181201T080000
DTEND;TZID=America/Los_Angeles:20181201T093000
DTSTAMP:20260423T123119
CREATED:20180916T184734Z
LAST-MODIFIED:20180916T184734Z
UID:15257-1543651200-1543656600@anaheimcolonists.com
SUMMARY:Alumni Breakfast
DESCRIPTION:Alumni Breakfast – 1st Saturday of the Month – 8A – 9:30A \nJoin Anaheim High alumni at the monthly breakfast.  All Classes Welcome. (Not the AHS Alumni Association). \nRSVP to:  Geri Mc Guff: 2ahsbreakfast@cox.net & leave name and how many are coming. \n 
URL:https://anaheimcolonists.com/event/alumni-breakfast-25/
CATEGORIES:Breakfast
END:VEVENT
BEGIN:VEVENT
DTSTART;TZID=America/Los_Angeles:20181118T110000
DTEND;TZID=America/Los_Angeles:20181118T140000
DTSTAMP:20260423T123119
CREATED:20171125T221425Z
LAST-MODIFIED:20180916T164045Z
UID:14292-1542538800-1542549600@anaheimcolonists.com
SUMMARY:AUHS Class of 1952\, 1951 and 1953 Reunion
DESCRIPTION:Class of 1952 –“66th\, 1951 and 1953 – Sunday\, Nov. 18\, 2018
URL:https://anaheimcolonists.com/event/class-of-1952-reunion/
CATEGORIES:Reunions
END:VEVENT
BEGIN:VEVENT
DTSTART;TZID=America/Los_Angeles:20181110T143000
DTEND;TZID=America/Los_Angeles:20181110T163000
DTSTAMP:20260423T123119
CREATED:20180927T151535Z
LAST-MODIFIED:20180927T192720Z
UID:15278-1541860200-1541867400@anaheimcolonists.com
SUMMARY:AUHS Class of 1948
DESCRIPTION:AUHS Class of 1948 – 70th reunion\, Saturday\, November 10\, 2018 at 2:30 P.M. \nMore information: \nwww.anaheimalumni@yahoo.com \nwww. anaheimcolonists.com \n 
URL:https://anaheimcolonists.com/event/auhs-class-of-1948/
CATEGORIES:Reunions
END:VEVENT
BEGIN:VEVENT
DTSTART;TZID=America/Los_Angeles:20181104T160000
DTEND;TZID=America/Los_Angeles:20181104T220000
DTSTAMP:20260423T123119
CREATED:20181104T120024Z
LAST-MODIFIED:20181019T134105Z
UID:15305-1541347200-1541368800@anaheimcolonists.com
SUMMARY:Class of 1972 – Mixer – November 4 – 4P.M.
DESCRIPTION:Class of 1972 – Mixer – Sunday\, November 4 – 4P.M.  – 10P.M. (All Classes Welcome) \nThe Old Crow  Smokehouse\, Orange
URL:https://anaheimcolonists.com/event/class-of-1972-mixer-november-4-4p-m/
CATEGORIES:Mixer
END:VEVENT
BEGIN:VEVENT
DTSTART;TZID=America/Los_Angeles:20181103T080000
DTEND;TZID=America/Los_Angeles:20181103T093000
DTSTAMP:20260423T123119
CREATED:20180916T184452Z
LAST-MODIFIED:20180916T184452Z
UID:15255-1541232000-1541237400@anaheimcolonists.com
SUMMARY:Alumni Breakfast
DESCRIPTION:Alumni Breakfast – 1st Saturday of the Month – 8A – 9:30A \nJoin Anaheim High alumni at the monthly breakfast.  All Classes Welcome. (Not the AHS Alumni Association). \nRSVP to:  Geri Mc Guff: 2ahsbreakfast@cox.net & leave name and how many are coming
URL:https://anaheimcolonists.com/event/alumni-breakfast-24/
CATEGORIES:Breakfast
END:VEVENT
BEGIN:VEVENT
DTSTART;TZID=America/Los_Angeles:20181027T183000
DTEND;TZID=America/Los_Angeles:20181027T220000
DTSTAMP:20260423T123119
CREATED:20180916T175030Z
LAST-MODIFIED:20180916T175030Z
UID:15190-1540665000-1540677600@anaheimcolonists.com
SUMMARY:Class of 1963 - '55th Reunion
DESCRIPTION:Class of 1963 – 55th – October 27 – P.M. 
URL:https://anaheimcolonists.com/event/class-of-1963-55th-reunion/
CATEGORIES:Reunions
END:VEVENT
END:VCALENDAR