BEGIN:VCALENDAR
VERSION:2.0
PRODID:-//Welcome to the Anaheim High School Alumni Association - ECPv6.15.17.1//NONSGML v1.0//EN
CALSCALE:GREGORIAN
METHOD:PUBLISH
X-ORIGINAL-URL:https://anaheimcolonists.com
X-WR-CALDESC:Events for Welcome to the Anaheim High School Alumni Association
REFRESH-INTERVAL;VALUE=DURATION:PT1H
X-Robots-Tag:noindex
X-PUBLISHED-TTL:PT1H
BEGIN:VTIMEZONE
TZID:America/Los_Angeles
BEGIN:DAYLIGHT
TZOFFSETFROM:-0800
TZOFFSETTO:-0700
TZNAME:PDT
DTSTART:20110313T100000
END:DAYLIGHT
BEGIN:STANDARD
TZOFFSETFROM:-0700
TZOFFSETTO:-0800
TZNAME:PST
DTSTART:20111106T090000
END:STANDARD
BEGIN:DAYLIGHT
TZOFFSETFROM:-0800
TZOFFSETTO:-0700
TZNAME:PDT
DTSTART:20120311T100000
END:DAYLIGHT
BEGIN:STANDARD
TZOFFSETFROM:-0700
TZOFFSETTO:-0800
TZNAME:PST
DTSTART:20121104T090000
END:STANDARD
BEGIN:DAYLIGHT
TZOFFSETFROM:-0800
TZOFFSETTO:-0700
TZNAME:PDT
DTSTART:20130310T100000
END:DAYLIGHT
BEGIN:STANDARD
TZOFFSETFROM:-0700
TZOFFSETTO:-0800
TZNAME:PST
DTSTART:20131103T090000
END:STANDARD
BEGIN:DAYLIGHT
TZOFFSETFROM:-0800
TZOFFSETTO:-0700
TZNAME:PDT
DTSTART:20140309T100000
END:DAYLIGHT
BEGIN:STANDARD
TZOFFSETFROM:-0700
TZOFFSETTO:-0800
TZNAME:PST
DTSTART:20141102T090000
END:STANDARD
BEGIN:DAYLIGHT
TZOFFSETFROM:-0800
TZOFFSETTO:-0700
TZNAME:PDT
DTSTART:20150308T100000
END:DAYLIGHT
BEGIN:STANDARD
TZOFFSETFROM:-0700
TZOFFSETTO:-0800
TZNAME:PST
DTSTART:20151101T090000
END:STANDARD
END:VTIMEZONE
BEGIN:VEVENT
DTSTART;TZID=America/Los_Angeles:20141011T180000
DTEND;TZID=America/Los_Angeles:20141011T230000
DTSTAMP:20260423T220134
CREATED:20140120T194503Z
LAST-MODIFIED:20141003T023321Z
UID:7262-1413050400-1413068400@anaheimcolonists.com
SUMMARY:AHS Class of 1994 - 20th Reunion
DESCRIPTION:AHS Class of 1994 – 20th Class Reunion\, Saturday\, Oct. 11th. \nDon’t forget the Homecoming football game Friday\, Oct. 10 at 7P and\nColony Classic Car Show Saturday\, Oct. 11 – 10 a.m.-2 p.m. on the AHS campus.\n \n\n \nEmail:  94anaheim@gmail.com\nFacebook:  Ahsninetyfour
URL:https://anaheimcolonists.com/event/class-of-1994-20th-reunion/
CATEGORIES:Reunions
END:VEVENT
BEGIN:VEVENT
DTSTART;TZID=America/Los_Angeles:20141010T190000
DTEND;TZID=America/Los_Angeles:20141010T213000
DTSTAMP:20260423T220134
CREATED:20140324T070557Z
LAST-MODIFIED:20140324T070557Z
UID:7563-1412967600-1412976600@anaheimcolonists.com
SUMMARY:AHS Homecoming Game
DESCRIPTION:AHS Homecoming Game-Friday\, Oct. 10\, 2014-7P.
URL:https://anaheimcolonists.com/event/ahs-homecoming-game/
LOCATION:La Palma Park\, Glover Stadium\, Anaheim\, CA\, 92801\, United States
CATEGORIES:AHS Events,AHS Sports,Reunions
ORGANIZER;CN="AHS Alumni Association":MAILTO:anaheimalumni@yahoo.com
END:VEVENT
BEGIN:VEVENT
DTSTART;TZID=America/Los_Angeles:20140928T100000
DTEND;TZID=America/Los_Angeles:20140928T140000
DTSTAMP:20260423T220134
CREATED:20140505T155804Z
LAST-MODIFIED:20140505T155804Z
UID:8013-1411898400-1411912800@anaheimcolonists.com
SUMMARY:AUHS Class of 1950 Reunion
DESCRIPTION:AUHS Class of 1950 Reunion will be on Sunday\, September 28\, 2014. \nWe will have our traditional breakfast the next morning 9 a.m.-11:30 a.m. \nanaheimalumni@yahoo.com or wwwanaheimcolonists.com \n \n 
URL:https://anaheimcolonists.com/event/auhs-class-of-1950-reunion/
CATEGORIES:Reunions
END:VEVENT
BEGIN:VEVENT
DTSTART;TZID=America/Los_Angeles:20140921T143000
DTEND;TZID=America/Los_Angeles:20140921T183000
DTSTAMP:20260423T220134
CREATED:20140324T063651Z
LAST-MODIFIED:20160826T001252Z
UID:7552-1411309800-1411324200@anaheimcolonists.com
SUMMARY:Class of 1954 - 60th Reunion
DESCRIPTION:AUHS Class of 1954\, 62nd Reunion Sunday\, Sept. 25\, 2016\, 11A-3P.\n \n         AUHS 60th Reunion – 1954 – 2014                                                                \n\n\n\n\n\nPlease join your friends and classmates\,Sunday\, September 21\, 2014\, 2:30 P.M. – 6:30 P.M.\nAt the Anaheim Community Center\n\nQuestions: call Maryanne 949-645-0543\n\n\n\n\n \n\n          
URL:https://anaheimcolonists.com/event/class-of-1954-60th-reunion/
CATEGORIES:Reunions
END:VEVENT
BEGIN:VEVENT
DTSTART;TZID=America/Los_Angeles:20140914T110000
DTEND;TZID=America/Los_Angeles:20140914T140000
DTSTAMP:20260423T220134
CREATED:20140519T145305Z
LAST-MODIFIED:20140519T212759Z
UID:7340-1410692400-1410703200@anaheimcolonists.com
SUMMARY:AUHS Class of 1949 Reunion
DESCRIPTION:AUHS Class of 1949 – 65th Reunion\, Sunday\, Sept. 14\, 2014. \nPlan to be there by 10:30 am for check in.  Dress will be casual and cost is $25.00 per person.  Please send your check made out to Marion Heiden and put reunion as a footnote. We need your check in by August 2nd.  We are looking forward to seeing you. \nContact: Marion (Robertson) Heiden  or Bill  714-774-0501\nor email anaheimalumni@yahoo.com\nwww.anaheimcolonists.com\n \n          
URL:https://anaheimcolonists.com/event/auhs-class-of-1949-reunion-2/
CATEGORIES:Reunions
END:VEVENT
BEGIN:VEVENT
DTSTART;TZID=America/Los_Angeles:20140913T180000
DTEND;TZID=America/Los_Angeles:20140913T230000
DTSTAMP:20260423T220134
CREATED:20140120T193933Z
LAST-MODIFIED:20140829T162104Z
UID:7260-1410631200-1410649200@anaheimcolonists.com
SUMMARY:AHS Class of '74 - 40th Reunion
DESCRIPTION:AHS Class of 74 – 40th Reunion\, Saturday\, September 13\, 2014 at Business and Expo Center in Anaheim. \nAnaheim High School Class of 1974 40-year reunion\nInfo/Tickets:  https://bizexpocenter.site-ym.com/store/ViewProduct.aspx?id=2899584Saturday\, September 13\, 20146:00 pm – 12:00 amBusiness Expo Center\, 1960 Anaheim Way\, Anaheim\, 714-978-9000Contact:  Jim Shab or  Ivana ThompsonFacebook page:  “Like” Anaheim High School Class of 1974 Reunion: https://www.facebook.com/1974AHSREUNIONAlumni golf outing on Friday\, September 12\, 2014Contact Marc Garabedian at marc@artmoose.com or 949-702-1623 for more information or to sign up\n \n  
URL:https://anaheimcolonists.com/event/class-of-74-40th-reunion/
CATEGORIES:Reunions
END:VEVENT
BEGIN:VEVENT
DTSTART;TZID=America/Los_Angeles:20140823T190000
DTEND;TZID=America/Los_Angeles:20140823T230000
DTSTAMP:20260423T220134
CREATED:20140505T180223Z
LAST-MODIFIED:20140505T180238Z
UID:8025-1408820400-1408834800@anaheimcolonists.com
SUMMARY:AHS Class of 1984 Reunion
DESCRIPTION:AHS Class of 1984 30th Class Reunion\, August 23\, 2014 at 7P. \nAnaheimHSclassof1984@gmail.com \n  \n  \n 
URL:https://anaheimcolonists.com/event/ahs-class-of-1984-reunion/
CATEGORIES:Reunions
END:VEVENT
BEGIN:VEVENT
DTSTART;TZID=America/Los_Angeles:20140606T103000
DTEND;TZID=America/Los_Angeles:20140606T143000
DTSTAMP:20260423T220134
CREATED:20140515T154055Z
LAST-MODIFIED:20140515T154055Z
UID:8132-1402050600-1402065000@anaheimcolonists.com
SUMMARY:AUHS Class of 1943-44 Reunion
DESCRIPTION:AUHS Class of 1943-44\n70th class reunion\, Friday\, June 06\, 2014\n \n10:30A-2:30P    Deadline: June 1\, 2014    Contact:  Bill Riedell\n \n           \n \n         \n \n 
URL:https://anaheimcolonists.com/event/auhs-class-of-1943-44-reunion-2/
CATEGORIES:Reunions
ORGANIZER;CN="Anaheim High School Alumni Association":MAILTO:anaheimalumni@yahoo.com
END:VEVENT
BEGIN:VEVENT
DTSTART;TZID=America/Los_Angeles:20131020T110000
DTEND;TZID=America/Los_Angeles:20131020T150000
DTSTAMP:20260423T220134
CREATED:20131019T221149Z
LAST-MODIFIED:20131019T221249Z
UID:6602-1382266800-1382281200@anaheimcolonists.com
SUMMARY:Class of 1948 Reunion
DESCRIPTION:
URL:https://anaheimcolonists.com/event/class-of-1948-reunion/
CATEGORIES:Reunions
ORGANIZER;CN="Unnamed Organizer":MAILTO:anaheimalumni@yahoo.com
END:VEVENT
BEGIN:VEVENT
DTSTART;VALUE=DATE:20131012
DTEND;VALUE=DATE:20131013
DTSTAMP:20260423T220134
CREATED:20130216T211415Z
LAST-MODIFIED:20130303T000342Z
UID:5360-1381536000-1381622399@anaheimcolonists.com
SUMMARY:Class of 1963 "50th" Reunion
DESCRIPTION:The Class of “63” is inviting ALL members of the classes of “64” and “65” to join in the Celebration. \nSaturday-Oct. 12\, 2013-AHS Alumni Association Colony Classic Car  Show at AHS 10A-2P (To register a car\,  see form online at www.anaheimcolonists.com). \nSaturday-Oct. 12\, 2013-Reunion Dinner Party (Before June 1st $85.00\, after $95.00 per person. Couples before June 1st $160.00\, after $180.00-This price will include the memory book. One per person and one per couple). \nSunday-Oct. 13\, 2013-Potluck and Picnic. \nThe Program Includes:\nNo host Friday night football and pizza party\nFriday\, Golf-contact Phil Anton.\nSaturday\, Car Show at the high school at no charge.\nSaturday night party and dinner-Reunion.\nSunday\, picnic/potluck.  Barbeque will be provided at no charge.\n \nPlease make checks payable to:\nBob Goodrich\n1107 Keats\nAnaheim\, CA  92806
URL:https://anaheimcolonists.com/event/class-of-1963-50th-reunion-2/
CATEGORIES:Reunions
ORGANIZER;CN="Class of 1963":MAILTO:anaheimalumni@yahoo.com
END:VEVENT
BEGIN:VEVENT
DTSTART;TZID=America/Los_Angeles:20131011T120000
DTEND;TZID=America/Los_Angeles:20131011T160000
DTSTAMP:20260423T220134
CREATED:20130228T055236Z
LAST-MODIFIED:20130624T144103Z
UID:5574-1381492800-1381507200@anaheimcolonists.com
SUMMARY:Class of 1958 Reunion
DESCRIPTION:Class of 1958 is having there “55th” reunion\, Friday\, October 11\, 2013 at the Embassy Suites Anaheim North\, Anaheim\, 92806.\nLuncheon 12 noon – 4P\, dress casual.\n \nFor more information: Contact Marilynn (Moore) Poe\nEmail: gramapoe@verizon.net or anaheimalumni@yahoo.com\n \n \n \n 
URL:https://anaheimcolonists.com/event/ahs-class-of-1958-reunion/
LOCATION:Embassy Suites Anaheim North\, Anaheim\, United States
CATEGORIES:Reunions
ORGANIZER;CN="":MAILTO:anaheimalumni@yahoo.com
END:VEVENT
BEGIN:VEVENT
DTSTART;VALUE=DATE:20131011
DTEND;VALUE=DATE:20131014
DTSTAMP:20260423T220134
CREATED:20130216T211322Z
LAST-MODIFIED:20150212T151943Z
UID:5362-1381449600-1381708799@anaheimcolonists.com
SUMMARY:Class of 1963 "50th" Reunion
DESCRIPTION:The Class of “63” is inviting ALL members of the classes of “64” and “65” to join in the Celebration. \nFriday-Oct. 11-Golf Tournament\,Varsity Football Game and a no-host Pizza party. \nSaturday-Oct. 12-AHS Alumni Association Colony Classic Car  Show at AHS 10A-2P (To register a car\,  see form online at www.anaheimcolonists.com). \nSaturday-Oct. 12-Reunion Dinner Party-Embassy Suites North. \nSunday-Oct. 13-Potluck and Picnic. \nContact Don Vary at bunduck@sbcglobal.net. \n  \n  \n \n 
URL:https://anaheimcolonists.com/event/class-of-1963-50th-reunion/
CATEGORIES:Fundraisers,Reunions
ORGANIZER;CN="Don Vary":MAILTO:anaheimalumni@yahoo.com
END:VEVENT
BEGIN:VEVENT
DTSTART;TZID=America/Los_Angeles:20131005T190000
DTEND;TZID=America/Los_Angeles:20131005T235500
DTSTAMP:20260423T220134
CREATED:20130816T023420Z
LAST-MODIFIED:20130919T025025Z
UID:6013-1380999600-1381017300@anaheimcolonists.com
SUMMARY:Class of 1993 "20" Class Reunion-CANCELED
DESCRIPTION:Class of 1993 reunion has been canceled. \n  \nClass of 1993 will celebrate its 20th reunion Oct. 5 – 7 P.M. to 12:30 A.M. @ JT Schmid’s Restaurant & Brewery\, Anaheim  92806. \n 
URL:https://anaheimcolonists.com/event/class-of-1993-20-class-reunion/
CATEGORIES:Reunions
END:VEVENT
BEGIN:VEVENT
DTSTART;TZID=America/Los_Angeles:20131005T180000
DTEND;TZID=America/Los_Angeles:20131005T234500
DTSTAMP:20260423T220134
CREATED:20130627T223211Z
LAST-MODIFIED:20130915T155048Z
UID:5931-1380996000-1381016700@anaheimcolonists.com
SUMMARY:Class of 1968 & 1969 Joint Class Reunion
DESCRIPTION:Class of 1968 & 1969 joint reunion on Saturday\, Oct. 5\,  2013\, 6P-12A. \nAt Astor Classics Museum and Event Center\, 1563 S. State College Blvd\, Anaheim. \nPlease remember to update your personal information\, email address\, phone and mailing address when making your payment or even if you are unable to join us. \nContact Class Reps: ‘1968 Andrea Manes at anzom@aol.com  and ‘1969 Linda (Fast) Cooper at  lfastcooper@gmail.com . \n  \nAlso the Homecoming Football game is Friday Night Oct. 4th and the Alumni Breakfast – (1st Saturday of every Month) October 5th 8:00 am –  9:30 am. Cost: $13.00  Organizer:   Don Vary ’63.        \n  \n                  \n 
URL:https://anaheimcolonists.com/event/ahs-1968-1969-joint-class-reunion/
LOCATION:Astor Classics Event Center\, 1563 S. State College Blvd\, Anaheim\, CA\, United States
CATEGORIES:Reunions
ORGANIZER;CN="Class of 1968 & 1969":MAILTO:anzom@aol.com or lfastcooper@gmail.com
END:VEVENT
BEGIN:VEVENT
DTSTART;TZID=America/Los_Angeles:20131005T180000
DTEND;TZID=America/Los_Angeles:20131005T230000
DTSTAMP:20260423T220134
CREATED:20130816T021801Z
LAST-MODIFIED:20130916T153834Z
UID:6012-1380996000-1381014000@anaheimcolonists.com
SUMMARY:Class of 1983 "30th" Class Reunion
DESCRIPTION:Class of 1983 is having it’s 30th reunion\, Oct. 5. \nContact Ray Esparza\, Mary Braver-Gonzales or Wiley Randolph at AHS1983classreunion@gmail.com or on Facebook. \nReunion address is: 5511 Clover Hill Drive\,Yorba Linda\,  92886 and \nphone number is:  714 824-0862.\n 
URL:https://anaheimcolonists.com/event/class-of-1983-30th-class-reunion/
CATEGORIES:Reunions
END:VEVENT
BEGIN:VEVENT
DTSTART;TZID=America/Los_Angeles:20130810T170000
DTEND;TZID=America/Los_Angeles:20130810T234500
DTSTAMP:20260423T220134
CREATED:20130127T204633Z
LAST-MODIFIED:20130314T155506Z
UID:5134-1376154000-1376178300@anaheimcolonists.com
SUMMARY:AHS Class of 1973 "40th" Reunion
DESCRIPTION:Class of ‘73 has set its 40th class reunion for Saturday\, August 10\, 2013 at Embassy Suites Anaheim North.\n \nFor information contact Debbie Javelosa at\ndebbieblueeyesjavelosa@gmail or call 714-680-8636\nor Paula Mishler at mishlerpj@aol.com or call 714-743-5234.\n \nEmbassy Suites Anaheim North\, 3100 East Frontera\, 92806\n$40.00 per person sit down dinner\nMake check payable to:\nAHS Reunion Class of 1973\n \nC/O:  Paula Mishler\n1181 Crown St.\, Anaheim\, 92801\n \nHotel rooms available (When calling to make a reservation let Embassy Suites know your’re attending Class of ’73 reunion). 
URL:https://anaheimcolonists.com/event/ahs-class-of-1973-reunion/
LOCATION:Embassy Suites Anaheim North\, 3100 East Frontera\, Anaheim\, CA\, 92806\, United States
CATEGORIES:Reunions
ORGANIZER;CN="Debbie Javelosa or Paula Mishler":MAILTO:debbieblueeyesjavelosa@gmail.com or mishlerpj@aol.com
END:VEVENT
BEGIN:VEVENT
DTSTART;TZID=America/Los_Angeles:20121020T190000
DTEND;TZID=America/Los_Angeles:20121020T230000
DTSTAMP:20260423T220134
CREATED:20120830T161543Z
LAST-MODIFIED:20120830T161650Z
UID:4817-1350759600-1350774000@anaheimcolonists.com
SUMMARY:AHS Class of 2002 Reunion
DESCRIPTION:Class of 2002-Oct. 20-Angelo’s & Vinci’s\, 550 N. Harbor Blvd.\, Fullerton 7P-11P. \nContact: Fatima Plascencia and Felipe Gamboa-714-726-5294 or fyp_2002classreunion@yahoo.com or Facebook:   AHSClassof2002
URL:https://anaheimcolonists.com/event/class-of-2002-reunion/
LOCATION:Angelo’s & Vinci’s\, 550 North Harbor Boulevard\, Fullerton\, CA\, United States
CATEGORIES:Reunions
ORGANIZER;CN="Fatima Plascencia and Felipe Gamboa":MAILTO:fyp_2002classreunion@yahoo.com
END:VEVENT
BEGIN:VEVENT
DTSTART;TZID=America/Los_Angeles:20121020T180000
DTEND;TZID=America/Los_Angeles:20121020T230000
DTSTAMP:20260423T220134
CREATED:20120812T024801Z
LAST-MODIFIED:20120812T024801Z
UID:4782-1350756000-1350774000@anaheimcolonists.com
SUMMARY:AHS Class of 1952 Reunion
DESCRIPTION:Class of ‘52 will be holding its 60th reunion October 20\, 6 to 11 p.m.\, at Embassy Suites\, 3100 E. Frontera\, Anaheim. \nFor information\, contact Helen Oviedo Daniel at 714-533-1404.
URL:https://anaheimcolonists.com/event/ahs-class-of-1952-reunion/
LOCATION:Embassy Suites\, 3100 E. Frontera\, Anaheim\, United States
CATEGORIES:Reunions
END:VEVENT
BEGIN:VEVENT
DTSTART;TZID=America/Los_Angeles:20121014T100000
DTEND;TZID=America/Los_Angeles:20121014T140000
DTSTAMP:20260423T220134
CREATED:20120830T155833Z
LAST-MODIFIED:20120830T161846Z
UID:4811-1350208800-1350223200@anaheimcolonists.com
SUMMARY:AHS Class of 1950 Reunion
DESCRIPTION:Class of 1950 is getting together\, Oct. 14\, Alta Visa Country Club\, Placentia  10A-2P.  (Must RSVP by 10/5) \nContact Betty Mahoney\, Don Shelling or Minard Duncan-714-992-1897.
URL:https://anaheimcolonists.com/event/class-of-1950-reunion/
LOCATION:Alta Vista Country Club\, 777 Alta Visa St.\, Placentia\, CA\, United States
CATEGORIES:Reunions
END:VEVENT
BEGIN:VEVENT
DTSTART;TZID=America/Los_Angeles:20121013T180000
DTEND;TZID=America/Los_Angeles:20121013T233000
DTSTAMP:20260423T220134
CREATED:20120812T040635Z
LAST-MODIFIED:20120812T041655Z
UID:4794-1350151200-1350171000@anaheimcolonists.com
SUMMARY:AHS Class of 1962 Reunion
DESCRIPTION:Class of ‘62 will hold its 50th reunion Oct. 13\, 6-11:30 p.m.\, at The Villa\, 510 E. Katella Ave.\, Orange\, CA  92867. \nTo make a reservation\, contact class representatives Jayne (Del Crognale) and Bob Hess at jaynerhess@verizon.net  or  760-772-9637.
URL:https://anaheimcolonists.com/event/ahs-class-of-1962-reunion/
LOCATION:The Villa\, 510 E. Katella Ave.\, Orange\, CA\, 92867\, United States
CATEGORIES:Reunions
ORGANIZER;CN="Jayne (Del Crognale) and Bob Hess ":MAILTO:jaynerhess@verizon.net
END:VEVENT
BEGIN:VEVENT
DTSTART;TZID=America/Los_Angeles:20121013T180000
DTEND;TZID=America/Los_Angeles:20121013T230000
DTSTAMP:20260423T220134
CREATED:20120812T035924Z
LAST-MODIFIED:20120902T012508Z
UID:3801-1350151200-1350169200@anaheimcolonists.com
SUMMARY:AHS Class of 1967 Reunion
DESCRIPTION:The Class of 67 will hold its 45th reunion Saturday. Oct 13\, to coincide with the Colony Classic Car Show on the AHS campus from 10 a.m. to 2 p.m. The Class of ’67 will keep the car theme rolling by holdings its reunion at Astor Classic Cars. \nTo rsvp and obtain further details\, visit the Class of ’67 Facebook page at https://www.facebook.com/AnaheimHighClassof67 or contact your class representatives: cathih@testkitchen.com Cathi Hofstetter 2427 E. Bethel Dr. Anaheim\, CA 92806 (714) 772 8311 Cell (714) 473 7682\nsheila@sheilalowe.com Sheila Lowe.
URL:https://anaheimcolonists.com/event/class-of-1967-reunion/
LOCATION:Astor Classics\, Anaheim\, CA\, United States
CATEGORIES:Reunions
END:VEVENT
BEGIN:VEVENT
DTSTART;TZID=America/Los_Angeles:20121013T180000
DTEND;TZID=America/Los_Angeles:20121013T230000
DTSTAMP:20260423T220134
CREATED:20120325T155347Z
LAST-MODIFIED:20120812T035651Z
UID:3785-1350151200-1350169200@anaheimcolonists.com
SUMMARY:AHS Class of 1992 Reunion
DESCRIPTION:Class of 1992 is having there 20 year reunion. \nTime: 7:00 pm – 11:00 pm (cocktails at 6:00 pm) \nJuan Pineda and Araceli Bejar Juarez\, who can be contacted at ahsclassof1992reunion@gmail.com \nRegistration is available at:\nhttps://sites.google.com/site/anaheimclass92/home \n  \n 
URL:https://anaheimcolonists.com/event/class-of-1992-reunion/
LOCATION:Angelo’s & Vinci’s\, 550 North Harbor Boulevard\, Fullerton\, CA\, 92832\, United States
CATEGORIES:Reunions
ORGANIZER;CN="Juan Pineda and Araceli Bejar Juarez":MAILTO:ahsclassof1992reunion@gmail.com
END:VEVENT
BEGIN:VEVENT
DTSTART;TZID=America/Los_Angeles:20121013T110000
DTEND;TZID=America/Los_Angeles:20121013T140000
DTSTAMP:20260423T220134
CREATED:20120812T035036Z
LAST-MODIFIED:20120812T041953Z
UID:4737-1350126000-1350136800@anaheimcolonists.com
SUMMARY:AHS Class of 1947 Reunion
DESCRIPTION:Class of 1947 is having there 65th AUHS reunion at the White House. \nContact:  anaheimalumni@yahoo.com
URL:https://anaheimcolonists.com/event/class-of-1947/
LOCATION:Anaheim White House\, United States
CATEGORIES:Reunions
ORGANIZER;CN="":MAILTO:anaheimalumni@yahoo.com
END:VEVENT
BEGIN:VEVENT
DTSTART;TZID=America/Los_Angeles:20120922T130000
DTEND;TZID=America/Los_Angeles:20120922T170000
DTSTAMP:20260423T220134
CREATED:20120812T032746Z
LAST-MODIFIED:20120830T152319Z
UID:4788-1348318800-1348333200@anaheimcolonists.com
SUMMARY:AHS Class 1957 Reunion
DESCRIPTION:Class of ’57 is celebrating its 55th reunion Sept. 22\, beginning at 1 p.m.\, with a party at a classmate’s home. Cost is $45; dress casual. \nFor more information\, contact Donna (Wright) Asbough at 714-731-5323.
URL:https://anaheimcolonists.com/event/ahs-class-1957-reunion/
CATEGORIES:Reunions
END:VEVENT
BEGIN:VEVENT
DTSTART;TZID=America/Los_Angeles:20120916T110000
DTEND;TZID=America/Los_Angeles:20120916T150000
DTSTAMP:20260423T220134
CREATED:20120830T154438Z
LAST-MODIFIED:20120830T154438Z
UID:4803-1347793200-1347807600@anaheimcolonists.com
SUMMARY:Classes 68-73 Reunion
DESCRIPTION:Classes of 68-73-Sept. 16 at Pearson Park\, Northwest corner park\, Harbor & Sycamore  11A-3P.
URL:https://anaheimcolonists.com/event/classes-68-73-reunion/
LOCATION:Pearson Park\, Harbor & Sycamore\, Anaheim\, CA\, 92805\, United States
CATEGORIES:Reunions
END:VEVENT
BEGIN:VEVENT
DTSTART;TZID=America/Los_Angeles:20120915T180000
DTEND;TZID=America/Los_Angeles:20120915T230000
DTSTAMP:20260423T220134
CREATED:20120322T223715Z
LAST-MODIFIED:20120812T041500Z
UID:3724-1347732000-1347750000@anaheimcolonists.com
SUMMARY:AHS Class of 1972 reunion
DESCRIPTION:Please send an RSVP e-mail to Janice Monaco at auhs1972reunion@gmail.com \nPLEASE SPREAD THE WORD TO OTHER CLASSMATES TO RSVP.
URL:https://anaheimcolonists.com/event/class-of-1972-reunion/
LOCATION:Anaheim Stadium Diamond Club\, United States
CATEGORIES:Reunions
ORGANIZER;CN="Janice Monaco":MAILTO:auhs1972reunion@gmail.com
END:VEVENT
BEGIN:VEVENT
DTSTART;TZID=America/Los_Angeles:20120908T193000
DTEND;TZID=America/Los_Angeles:20120908T230000
DTSTAMP:20260423T220134
CREATED:20120812T041328Z
LAST-MODIFIED:20120830T151843Z
UID:4797-1347132600-1347145200@anaheimcolonists.com
SUMMARY:AHS Class of 1987 Reunion
DESCRIPTION:Class of ‘87 has set its 25th reunion for Sept. 8\, 2012. \nFor information\, contact Christine (Van Steenwyk) Becerra at 714-743-0091
URL:https://anaheimcolonists.com/event/ahs-class-of-1987-reunion/
CATEGORIES:Reunions
END:VEVENT
BEGIN:VEVENT
DTSTART;TZID=America/Los_Angeles:20120825T180000
DTEND;TZID=America/Los_Angeles:20120825T230059
DTSTAMP:20260423T220134
CREATED:20120630T021220Z
LAST-MODIFIED:20120630T021220Z
UID:4732-1345917600-1345935659@anaheimcolonists.com
SUMMARY:Class of 1965 Pizza Reunion
DESCRIPTION:Anaheim High School Class of 1965..Pizza Reunion August 25 2012
URL:https://anaheimcolonists.com/event/class-of-1965-pizza-reunion/
LOCATION:Round Table Pizza\, St. College & Chapman\, Fullerton\, United States
CATEGORIES:Reunions
END:VEVENT
BEGIN:VEVENT
DTSTART;TZID=America/Los_Angeles:20120825T110000
DTEND;TZID=America/Los_Angeles:20120825T160000
DTSTAMP:20260423T220134
CREATED:20120812T025431Z
LAST-MODIFIED:20120812T025431Z
UID:4785-1345892400-1345910400@anaheimcolonists.com
SUMMARY:AHS Class of 1955 Reunion
DESCRIPTION:Class of ‘55 is observing its 57th reunion Aug. 25\, 11 a.m. to 4 p.m.\, at the Sizzler Buffet Banquet Room\, 1401 N. Harbor\, Fullerton. \nContact May Okuda Okamoto at 714-772-0095 for more details.
URL:https://anaheimcolonists.com/event/ahs-class-of-1955-reunion/
LOCATION:Sizzler Buffet Banquet Room 1401 N. Harbor\, 1401 N. Harbor Blvd.\, Fullerton\, United States
CATEGORIES:Reunions
END:VEVENT
BEGIN:VEVENT
DTSTART;TZID=America/Los_Angeles:20120811T180000
DTEND;TZID=America/Los_Angeles:20120811T230000
DTSTAMP:20260423T220134
CREATED:20120812T023923Z
LAST-MODIFIED:20120812T024041Z
UID:4780-1344708000-1344726000@anaheimcolonists.com
SUMMARY:AHS Class of 1982 Reunion
DESCRIPTION:Class of ’82 will gather for its 30-year reunion Aug. 11 at JT Schmid’s\, 2610 Katella Av\, Anaheim.  Social Hour will begin at 6pm. \nEmail: auhs82reunion@gmail.com.
URL:https://anaheimcolonists.com/event/ahs-class-of-1982-reunion/
LOCATION:JT Schmid’s\, 2610 Katella Av.\, Anaheim\, Select a Country:
CATEGORIES:Reunions
END:VEVENT
END:VCALENDAR