BEGIN:VCALENDAR
VERSION:2.0
PRODID:-//Welcome to the Anaheim High School Alumni Association - ECPv6.15.17.1//NONSGML v1.0//EN
CALSCALE:GREGORIAN
METHOD:PUBLISH
X-ORIGINAL-URL:https://anaheimcolonists.com
X-WR-CALDESC:Events for Welcome to the Anaheim High School Alumni Association
REFRESH-INTERVAL;VALUE=DURATION:PT1H
X-Robots-Tag:noindex
X-PUBLISHED-TTL:PT1H
BEGIN:VTIMEZONE
TZID:America/Los_Angeles
BEGIN:DAYLIGHT
TZOFFSETFROM:-0800
TZOFFSETTO:-0700
TZNAME:PDT
DTSTART:20120311T100000
END:DAYLIGHT
BEGIN:STANDARD
TZOFFSETFROM:-0700
TZOFFSETTO:-0800
TZNAME:PST
DTSTART:20121104T090000
END:STANDARD
BEGIN:DAYLIGHT
TZOFFSETFROM:-0800
TZOFFSETTO:-0700
TZNAME:PDT
DTSTART:20130310T100000
END:DAYLIGHT
BEGIN:STANDARD
TZOFFSETFROM:-0700
TZOFFSETTO:-0800
TZNAME:PST
DTSTART:20131103T090000
END:STANDARD
BEGIN:DAYLIGHT
TZOFFSETFROM:-0800
TZOFFSETTO:-0700
TZNAME:PDT
DTSTART:20140309T100000
END:DAYLIGHT
BEGIN:STANDARD
TZOFFSETFROM:-0700
TZOFFSETTO:-0800
TZNAME:PST
DTSTART:20141102T090000
END:STANDARD
BEGIN:DAYLIGHT
TZOFFSETFROM:-0800
TZOFFSETTO:-0700
TZNAME:PDT
DTSTART:20150308T100000
END:DAYLIGHT
BEGIN:STANDARD
TZOFFSETFROM:-0700
TZOFFSETTO:-0800
TZNAME:PST
DTSTART:20151101T090000
END:STANDARD
BEGIN:DAYLIGHT
TZOFFSETFROM:-0800
TZOFFSETTO:-0700
TZNAME:PDT
DTSTART:20160313T100000
END:DAYLIGHT
BEGIN:STANDARD
TZOFFSETFROM:-0700
TZOFFSETTO:-0800
TZNAME:PST
DTSTART:20161106T090000
END:STANDARD
BEGIN:DAYLIGHT
TZOFFSETFROM:-0800
TZOFFSETTO:-0700
TZNAME:PDT
DTSTART:20170312T100000
END:DAYLIGHT
BEGIN:STANDARD
TZOFFSETFROM:-0700
TZOFFSETTO:-0800
TZNAME:PST
DTSTART:20171105T090000
END:STANDARD
BEGIN:DAYLIGHT
TZOFFSETFROM:-0800
TZOFFSETTO:-0700
TZNAME:PDT
DTSTART:20180311T100000
END:DAYLIGHT
BEGIN:STANDARD
TZOFFSETFROM:-0700
TZOFFSETTO:-0800
TZNAME:PST
DTSTART:20181104T090000
END:STANDARD
END:VTIMEZONE
BEGIN:VEVENT
DTSTART;TZID=America/Los_Angeles:20171119T110000
DTEND;TZID=America/Los_Angeles:20171119T140000
DTSTAMP:20260423T181726
CREATED:20171029T171307Z
LAST-MODIFIED:20171029T171322Z
UID:14035-1511089200-1511100000@anaheimcolonists.com
SUMMARY:AUHS Class of 1952 Reunion
DESCRIPTION:AUHS Class of 1952 (1951 and 1953) Reunion November 19\, 2017. \nAlta Visa Country Club -11A -2:00P \nanaheimalumni@yahoo.com \n 
URL:https://anaheimcolonists.com/event/auhs-class-of-1952-reunion/
CATEGORIES:Reunions
END:VEVENT
BEGIN:VEVENT
DTSTART;TZID=America/Los_Angeles:20171021T180000
DTEND;TZID=America/Los_Angeles:20171021T220000
DTSTAMP:20260423T181726
CREATED:20170213T165821Z
LAST-MODIFIED:20170213T170219Z
UID:12908-1508608800-1508623200@anaheimcolonists.com
SUMMARY:Class of 1967 – 50th – Oct. 21\, 2017
DESCRIPTION:Class of 1967 – 50th – Oct. 21 – P.M.
URL:https://anaheimcolonists.com/event/class-of-1967-50th-oct-21-2017/
CATEGORIES:Reunions
END:VEVENT
BEGIN:VEVENT
DTSTART;TZID=America/Los_Angeles:20171021T163000
DTEND;TZID=America/Los_Angeles:20171021T190000
DTSTAMP:20260423T181726
CREATED:20170523T023745Z
LAST-MODIFIED:20170523T023745Z
UID:13251-1508603400-1508612400@anaheimcolonists.com
SUMMARY:Class of 1962 - 55th - Oct. 21 - 4:30 P.M.
DESCRIPTION:AHS Class of 1962 -55th reunion\, Saturday\, Oct. 21\, 2017 at 4:30 P.M. \nClass Rep. is  Jayne (Del Crognale) Hess\, jaynerhess@verizon.net
URL:https://anaheimcolonists.com/event/class-of-1962-55th-oct-21-430-p-m/
CATEGORIES:Reunions
END:VEVENT
BEGIN:VEVENT
DTSTART;TZID=America/Los_Angeles:20171021T113000
DTEND;TZID=America/Los_Angeles:20171021T150000
DTSTAMP:20260423T181726
CREATED:20170213T165236Z
LAST-MODIFIED:20170213T165323Z
UID:12905-1508585400-1508598000@anaheimcolonists.com
SUMMARY:Class of 1957 –“60th – Oct. 21\, 2017
DESCRIPTION:Class of 1957 –“60th – Oct. 21 – 11:30A\nanaheimalumni@yahoo.com
URL:https://anaheimcolonists.com/event/class-of-1957-60th-oct-21-2017/
CATEGORIES:Reunions
END:VEVENT
BEGIN:VEVENT
DTSTART;TZID=America/Los_Angeles:20171014T180000
DTEND;TZID=America/Los_Angeles:20171014T230000
DTSTAMP:20260423T181726
CREATED:20170213T164657Z
LAST-MODIFIED:20170213T164813Z
UID:12903-1508004000-1508022000@anaheimcolonists.com
SUMMARY:Class of 1977 – 40th  – Oct. 14\, 2017
DESCRIPTION:Class of 1977 – 40th  – Oct. 14 – P.M.\nanaheimalumni@yahoo.com
URL:https://anaheimcolonists.com/event/class-of-1977-40th-oct-14-2017/
CATEGORIES:Reunions
END:VEVENT
BEGIN:VEVENT
DTSTART;TZID=America/Los_Angeles:20170916T183000
DTEND;TZID=America/Los_Angeles:20170916T230000
DTSTAMP:20260423T181726
CREATED:20170909T171250Z
LAST-MODIFIED:20170909T171933Z
UID:13588-1505586600-1505602800@anaheimcolonists.com
SUMMARY:Class of 1982 Reunion
DESCRIPTION:Class of 1982 “35th” Sept. 16\, 2017 – 6:30 PM \nReunion Saturday\, Sept. 16 at 6:30PM \nHomecoming game Friday\, Sept. 15 at 7P \n 
URL:https://anaheimcolonists.com/event/class-of-1982-reunion/
CATEGORIES:Reunions
END:VEVENT
BEGIN:VEVENT
DTSTART;TZID=America/Los_Angeles:20170916T110000
DTEND;TZID=America/Los_Angeles:20170916T150000
DTSTAMP:20260423T181726
CREATED:20170909T171554Z
LAST-MODIFIED:20170909T171806Z
UID:13590-1505559600-1505574000@anaheimcolonists.com
SUMMARY:Class of 1992 Reunion
DESCRIPTION:Class of 1992 Reunion\, Saturday\, Sept. 16\, 2017 – 11A. \nDon’t forget Homecoming Football game Friday\, Sept. 15\, 2017 at 7P. \n 
URL:https://anaheimcolonists.com/event/class-of-1992-reunion-2/
CATEGORIES:Reunions
END:VEVENT
BEGIN:VEVENT
DTSTART;TZID=America/Los_Angeles:20161112T190000
DTEND;TZID=America/Los_Angeles:20161112T230000
DTSTAMP:20260423T181726
CREATED:20160714T040714Z
LAST-MODIFIED:20161124T180611Z
UID:11499-1478977200-1478991600@anaheimcolonists.com
SUMMARY:AHS Class of 1971 - 45th Reunion - CANCELED
DESCRIPTION:AHS Class of 1971 – 45th Reunion – Saturday\, Nov. 12\, 2016 \n1971 Classmates:\nAttached is the website to register and pay for our 45 year reunion.  Please\, please\, please forward the attached to any classmate you are in contact with.  Encourage them to attend.  We had to re schedule the reunion from August to November due to low response.  If we do not obtain at least 30 paid attendees the reunion will be cancelled again.  Unfortunately\, we will not be able to re schedule again.  It would be so awesome to see classmates again after all this time.  Once again\, please encourage classmates to attend.\nLourdes (Lulu) Roybal\nlsroybal@icloud.com\n\nPlease note that if you paid for the reunion that was scheduled in August your payment will apply to the reunion in November.\nYOUR REUNION DATE HAS CHANGED!  The new date is Saturday\, November 12th. All information about your reunion and purchasing tickets can be found at: http://www.highschoolreunions.com/reuniondetails.php?id=6294 or by calling (800) 655-7971. Please visit  website or contact High School Reunions by phone to update your address and purchase tickets.\n\nPlease forward this information to any classmate you are in contact with. Help us share this Important information with our class! Don’t assume they have already been contacted. Send them a quick text\, email\, tweet\, message on Facebook etc. We are counting on each other to help share the reunion information with your class!\nThank you\,  High School Reunions\n\n 
URL:https://anaheimcolonists.com/event/ahs-class-of-1971-45th-reunion/
CATEGORIES:Reunions
END:VEVENT
BEGIN:VEVENT
DTSTART;TZID=America/Los_Angeles:20161016T100000
DTEND;TZID=America/Los_Angeles:20161016T140000
DTSTAMP:20260423T181726
CREATED:20160902T160456Z
LAST-MODIFIED:20161022T135713Z
UID:4814-1476612000-1476626400@anaheimcolonists.com
SUMMARY:AHS Class of 1952
DESCRIPTION:Class of 1952 is having a reunion on Thursday\, Oct. 20\, 10A-2P. \nContact anaheimalumni@yahoo.com for more information.
URL:https://anaheimcolonists.com/event/class-of-1952/
CATEGORIES:Reunions
END:VEVENT
BEGIN:VEVENT
DTSTART;TZID=America/Los_Angeles:20161015T180000
DTEND;TZID=America/Los_Angeles:20161015T230000
DTSTAMP:20260423T181726
CREATED:20160401T222918Z
LAST-MODIFIED:20160405T221950Z
UID:11252-1476554400-1476572400@anaheimcolonists.com
SUMMARY:AHS Class of 1966 "60th Reunion
DESCRIPTION:AHS Class of 1966 60th Reunion – Saturday\, Oct. 15\, 2016 \n 
URL:https://anaheimcolonists.com/event/ahs-class-of-1966-60th-reunion/
CATEGORIES:Reunions
END:VEVENT
BEGIN:VEVENT
DTSTART;TZID=America/Los_Angeles:20160924T190000
DTEND;TZID=America/Los_Angeles:20160924T234500
DTSTAMP:20260423T181726
CREATED:20160410T233004Z
LAST-MODIFIED:20160413T161405Z
UID:11295-1474743600-1474760700@anaheimcolonists.com
SUMMARY:AHS CLASS OF 1996 "20 Reunion
DESCRIPTION:Anaheim High School- 20th Year Class Reunion\n \nTwenty years have passed\, but it feels like no time at all for us Colonist! We can’t wait to get together with you to connect\, reconnect\, celebrate\, eat and drink\, and dance the night away Sept. 24\, 7 to 11:45 p.m.\, at Mesa Verde Country Club in Costa Mesa. \n• Ticket includes: Buffet dinner\, Photo Booth\, DJ/Music/Entertainment\, raffle prizes\, and a No-Host/Cash Bar. \n• Ticket Price: Discounts are provided for early purchases: $65 per person. Early Purchase ticket sales end July 31st. Tickets to the event will still be available from August 1st -September 11th at the full price of $80 per person. A Pay Pal account will be set up for your convenience; however an additional service processing fee will be added to each ticket. Wendy Ulloa and I will set up times and locations to do CASH only ticket sales. Sorry no tickets will be sold at the door. \n• Suggested attire is cocktail/business casual. \n***This event is reserved for AHS Alumni Class of 1996 and their guest only***\nFunds collected from all ticket sales will be applied immediately to the venue or contracted vendors. For this reason\, no refunds can be given. \nQuestions? Please contact Nancy (Moreno) Ramos or Wendy Ulloa via Facebook or via email\, to 96anaheimhsreunion@gmail.com \nAlso please follow our Facebook page at AHS C/O 1996 20year Reunion.
URL:https://anaheimcolonists.com/event/ahs-class-of-1996-20-reunion/
LOCATION:Mesa Verde Country Club\, Tony Lema Room\, 3000 Club House Rd\, \, Costa Mesa\, 92626
CATEGORIES:Reunions
END:VEVENT
BEGIN:VEVENT
DTSTART;TZID=America/Los_Angeles:20160730T190000
DTEND;TZID=America/Los_Angeles:20160730T233000
DTSTAMP:20260423T181726
CREATED:20160614T172334Z
LAST-MODIFIED:20160714T040003Z
UID:11375-1469905200-1469921400@anaheimcolonists.com
SUMMARY:AHS Class of 1985-1989 Reunion
DESCRIPTION:July 30\, 2016  – 7P\nFriends please purchase your tickets as they will Not be sold at the door. \nHere is the link to buy your tickets: https://www.paypal.com/cgi-bin/webscr?cmd=_s-xclick&hosted_button_id=6AALHX65XWYDU  If you have any questions please call or text 714-584-3776     DJ Nino Maximum     DJNinoMaximum@gmail.com
URL:https://anaheimcolonists.com/event/ahs-class-of-1985-1989-reunion/
CATEGORIES:Reunions
END:VEVENT
BEGIN:VEVENT
DTSTART;TZID=America/Los_Angeles:20160227T110000
DTEND;TZID=America/Los_Angeles:20160227T160000
DTSTAMP:20260423T181726
CREATED:20160122T035632Z
LAST-MODIFIED:20160122T035744Z
UID:10650-1456570800-1456588800@anaheimcolonists.com
SUMMARY:AUHS Class of 1958 - 57 1/2 Reunion
DESCRIPTION:
URL:https://anaheimcolonists.com/event/auhs-class-of-1958-57-12-reunion/
CATEGORIES:Reunions
END:VEVENT
BEGIN:VEVENT
DTSTART;TZID=America/Los_Angeles:20151212T080000
DTEND;TZID=America/Los_Angeles:20151212T110000
DTSTAMP:20260423T181726
CREATED:20151130T153748Z
LAST-MODIFIED:20151130T153748Z
UID:10472-1449907200-1449918000@anaheimcolonists.com
SUMMARY:AHS Sportsmen Breakfast
DESCRIPTION:AUHS/AHS All Sportsmen Breakfast \nSaturday\, Dec. 12\, 2015 – 8A-11A
URL:https://anaheimcolonists.com/event/ahs-sportsmen-breakfast-2/
CATEGORIES:Reunions
END:VEVENT
BEGIN:VEVENT
DTSTART;TZID=America/Los_Angeles:20151017T190000
DTEND;TZID=America/Los_Angeles:20151017T230000
DTSTAMP:20260423T181726
CREATED:20150102T030927Z
LAST-MODIFIED:20150212T155004Z
UID:9327-1445108400-1445122800@anaheimcolonists.com
SUMMARY:Anaheim High Class of 1965 - 50th Reunion
DESCRIPTION:Anaheim High Class of 1965 – 50th Reunion \nSaturday\, October 17\, 2015 7P – 11P. Dinner\, Dancing\, Music and Friends.\nMore information: Sandy Wright\, Class Rep. and Reunion Coordinator\nwrightsandyj@gmail.com or 951-683-9300. \nDon’t forget AHS Alumni Association 6th annual Golf Classic\, Monday\, Feb. 16\, 2015\, Homecoming Football Game Friday\, Sept.18\, 2015 and 5th Colony Classic Car Show\, Oct. 17th\, 10A-2P. \nFor more information or photos: www.anaheimcolonists.com \n          
URL:https://anaheimcolonists.com/event/anaheim-high-class-of-1965-50th-reunion/
CATEGORIES:Reunions
END:VEVENT
BEGIN:VEVENT
DTSTART;TZID=America/Los_Angeles:20150919T113000
DTEND;TZID=America/Los_Angeles:20150919T140000
DTSTAMP:20260423T181726
CREATED:20141121T175549Z
LAST-MODIFIED:20150117T214101Z
UID:9301-1442662200-1442671200@anaheimcolonists.com
SUMMARY:AUHS Class of 1955 60th Reunion Gala Luncheon
DESCRIPTION:Anaheim Union High School Class of 1955\n 60th Class Reunion – Gala Luncheon\nSaturday\, September 19\, 2015  – 11:30A\nThe Anaheim Plaza Hotel & Suites\, Anaheim\nAlso\, arrangements have been made for our 4th reunion cruise Monday\, September 21st to Friday\, September 25th aboard the Ruby Princess.  Los Angeles to Santa Barbara and Ensenada. In order to secure the special price\, you should contact Shirley Olmsted at the Brea Travelstore as soon as possible.  A $100.00 deposit per cruiser must be made prior to November 24\, 2014. \nShirley Olmsted\, Brea Travelstore\n633 S. Brea Blvd.\, Brea\,  92821\n714-988-1908   Shirley.o@travelstore.com\n \nIf you cannot make it\, please let us know so that we can update our list and see you at the 65th.\n 
URL:https://anaheimcolonists.com/event/auhs-class-of-1955-60th-reunion-gala-luncheon/
LOCATION:Anaheim Plaza Hotel & Suites
CATEGORIES:Reunions
END:VEVENT
BEGIN:VEVENT
DTSTART;TZID=America/Los_Angeles:20150619T190000
DTEND;TZID=America/Los_Angeles:20150619T234500
DTSTAMP:20260423T181726
CREATED:20150202T171909Z
LAST-MODIFIED:20150224T182730Z
UID:9368-1434740400-1434757500@anaheimcolonists.com
SUMMARY:AHS Class of 1995 20th Reunion
DESCRIPTION:AHS Class of 1995 20th Reunion\nFriday\, June 19\, 2015\, at the Embassy Suites Hotel North\, 3100 East Frontera\, Anaheim\, CA 92806\nfrom 7pm-12am. \nFacebook Event Page: Anaheim High School C/O 95 20th Reunion\nEarly Registration February 1 – April 15. Late Registration April 16-June 10.\nLast day to purchase tickets electronically through PayPal Event Brite Page is June 1st.\nLast day to purchase tickets is June 10th Cash only.\nNo entry without a ticket and No Refunds. We are a also accepting other forms of payments. \n \nAHS Alumni Association\nHomecoming Football Game-Sept. 18\, 2015\nColony Classic Car Show-Oct. 17\, 2015-10A-2P\nwww.anaheimcolonists.com
URL:https://anaheimcolonists.com/event/ahs-class-of-1995-20th-reunion/
LOCATION:Embassy Suites Anaheim North\, 3100 East Frontera\, Anaheim\, CA\, 92806\, United States
CATEGORIES:Reunions
END:VEVENT
BEGIN:VEVENT
DTSTART;VALUE=DATE:20150206
DTEND;VALUE=DATE:20150207
DTSTAMP:20260423T181726
CREATED:20150206T173415Z
LAST-MODIFIED:20150206T174135Z
UID:9359-1423180800-1423267199@anaheimcolonists.com
SUMMARY:AHS Class of 1985 30th Reunion
DESCRIPTION:Anaheim High School Class of 1985 “SAVE THE DATE” coming soon. \nAdditional details to follow.  Any questions may be sent via email lauralcapo@gmail.com  Laura (Sowers) Capo. \n            \nHomecoming Football game Friday\, September 18\, 2015\nAHS Alumni Association Colony Classic Car Show Saturday\, Oct. 17\, 2015\nMore information www.anaheimcolonists.com or email anaheimalumni@yahoo.com
URL:https://anaheimcolonists.com/event/ahs-class-of-1985-30th-reunion/
CATEGORIES:Reunions
END:VEVENT
BEGIN:VEVENT
DTSTART;TZID=America/Los_Angeles:20141115T180000
DTEND;TZID=America/Los_Angeles:20141115T230000
DTSTAMP:20260423T181726
CREATED:20130213T173003Z
LAST-MODIFIED:20240915T175403Z
UID:5354-1416074400-1416092400@anaheimcolonists.com
SUMMARY:AHS Class of 1964 "50th" Reunion
DESCRIPTION:Anaheim High School Class of 1964 “50th” Reunion\, Saturday\, Nov. 15\, 2014 \nFun begins Fri.\, Nov.14 with a casual welcome no-host cocktail party at the Hotel and then Sat. evening\, Nov. 15\, Reunion dinner.  \n\nContact: Geri (Gollenger) McGuff or Larry Larsen.\n\nanaheimalumni@yahoo.com\nwww.anaheimcolonists.com\n \nDon’t forget our biggest Fundraiser\, The 6th Annual Golf Classic Feb. 16\, 2015\n                       
URL:https://anaheimcolonists.com/event/class-of-1964-50th-reunion/
CATEGORIES:Reunions
ORGANIZER;CN="Class of 1964":MAILTO:anaheimalumni@yahoo.com
END:VEVENT
BEGIN:VEVENT
DTSTART;TZID=America/Los_Angeles:20141011T180000
DTEND;TZID=America/Los_Angeles:20141011T230000
DTSTAMP:20260423T181726
CREATED:20141002T165722Z
LAST-MODIFIED:20141003T023619Z
UID:8017-1413050400-1413068400@anaheimcolonists.com
SUMMARY:AUHS Class of 1959 Reunion
DESCRIPTION:AUHS Class of 1959 Reunion will be holding our 55 year reunion on Saturday\, Oct. 11th\, 6 p.m.-11 p.m. \nThe Homecoming football game at La Palma Stadium is on Friday night\, October 10th at 7 p.m. (don’t forget the photo under the Big A right after the game).\nColony Classic Car Show on Saturday\, October 11th\, 10 a.m.-2 p.m. on AHS campus.\n \nReunion is on Saturday\, Oct. 11.\n \nanaheimalumni@yahoo.com\nwww.anaheimcolonists.com\n \n                  CarShowFLYER_proof4-1\n 
URL:https://anaheimcolonists.com/event/auhs-class-of-1959-reunion/
CATEGORIES:Reunions
END:VEVENT
BEGIN:VEVENT
DTSTART;TZID=America/Los_Angeles:20141011T180000
DTEND;TZID=America/Los_Angeles:20141011T230000
DTSTAMP:20260423T181726
CREATED:20140120T194503Z
LAST-MODIFIED:20141003T023321Z
UID:7262-1413050400-1413068400@anaheimcolonists.com
SUMMARY:AHS Class of 1994 - 20th Reunion
DESCRIPTION:AHS Class of 1994 – 20th Class Reunion\, Saturday\, Oct. 11th. \nDon’t forget the Homecoming football game Friday\, Oct. 10 at 7P and\nColony Classic Car Show Saturday\, Oct. 11 – 10 a.m.-2 p.m. on the AHS campus.\n \n\n \nEmail:  94anaheim@gmail.com\nFacebook:  Ahsninetyfour
URL:https://anaheimcolonists.com/event/class-of-1994-20th-reunion/
CATEGORIES:Reunions
END:VEVENT
BEGIN:VEVENT
DTSTART;TZID=America/Los_Angeles:20141010T190000
DTEND;TZID=America/Los_Angeles:20141010T213000
DTSTAMP:20260423T181726
CREATED:20140324T070557Z
LAST-MODIFIED:20140324T070557Z
UID:7563-1412967600-1412976600@anaheimcolonists.com
SUMMARY:AHS Homecoming Game
DESCRIPTION:AHS Homecoming Game-Friday\, Oct. 10\, 2014-7P.
URL:https://anaheimcolonists.com/event/ahs-homecoming-game/
LOCATION:La Palma Park\, Glover Stadium\, Anaheim\, CA\, 92801\, United States
CATEGORIES:AHS Events,AHS Sports,Reunions
ORGANIZER;CN="AHS Alumni Association":MAILTO:anaheimalumni@yahoo.com
END:VEVENT
BEGIN:VEVENT
DTSTART;TZID=America/Los_Angeles:20140928T100000
DTEND;TZID=America/Los_Angeles:20140928T140000
DTSTAMP:20260423T181726
CREATED:20140505T155804Z
LAST-MODIFIED:20140505T155804Z
UID:8013-1411898400-1411912800@anaheimcolonists.com
SUMMARY:AUHS Class of 1950 Reunion
DESCRIPTION:AUHS Class of 1950 Reunion will be on Sunday\, September 28\, 2014. \nWe will have our traditional breakfast the next morning 9 a.m.-11:30 a.m. \nanaheimalumni@yahoo.com or wwwanaheimcolonists.com \n \n 
URL:https://anaheimcolonists.com/event/auhs-class-of-1950-reunion/
CATEGORIES:Reunions
END:VEVENT
BEGIN:VEVENT
DTSTART;TZID=America/Los_Angeles:20140921T143000
DTEND;TZID=America/Los_Angeles:20140921T183000
DTSTAMP:20260423T181726
CREATED:20140324T063651Z
LAST-MODIFIED:20160826T001252Z
UID:7552-1411309800-1411324200@anaheimcolonists.com
SUMMARY:Class of 1954 - 60th Reunion
DESCRIPTION:AUHS Class of 1954\, 62nd Reunion Sunday\, Sept. 25\, 2016\, 11A-3P.\n \n         AUHS 60th Reunion – 1954 – 2014                                                                \n\n\n\n\n\nPlease join your friends and classmates\,Sunday\, September 21\, 2014\, 2:30 P.M. – 6:30 P.M.\nAt the Anaheim Community Center\n\nQuestions: call Maryanne 949-645-0543\n\n\n\n\n \n\n          
URL:https://anaheimcolonists.com/event/class-of-1954-60th-reunion/
CATEGORIES:Reunions
END:VEVENT
BEGIN:VEVENT
DTSTART;TZID=America/Los_Angeles:20140914T110000
DTEND;TZID=America/Los_Angeles:20140914T140000
DTSTAMP:20260423T181726
CREATED:20140519T145305Z
LAST-MODIFIED:20140519T212759Z
UID:7340-1410692400-1410703200@anaheimcolonists.com
SUMMARY:AUHS Class of 1949 Reunion
DESCRIPTION:AUHS Class of 1949 – 65th Reunion\, Sunday\, Sept. 14\, 2014. \nPlan to be there by 10:30 am for check in.  Dress will be casual and cost is $25.00 per person.  Please send your check made out to Marion Heiden and put reunion as a footnote. We need your check in by August 2nd.  We are looking forward to seeing you. \nContact: Marion (Robertson) Heiden  or Bill  714-774-0501\nor email anaheimalumni@yahoo.com\nwww.anaheimcolonists.com\n \n          
URL:https://anaheimcolonists.com/event/auhs-class-of-1949-reunion-2/
CATEGORIES:Reunions
END:VEVENT
BEGIN:VEVENT
DTSTART;TZID=America/Los_Angeles:20140913T180000
DTEND;TZID=America/Los_Angeles:20140913T230000
DTSTAMP:20260423T181726
CREATED:20140120T193933Z
LAST-MODIFIED:20140829T162104Z
UID:7260-1410631200-1410649200@anaheimcolonists.com
SUMMARY:AHS Class of '74 - 40th Reunion
DESCRIPTION:AHS Class of 74 – 40th Reunion\, Saturday\, September 13\, 2014 at Business and Expo Center in Anaheim. \nAnaheim High School Class of 1974 40-year reunion\nInfo/Tickets:  https://bizexpocenter.site-ym.com/store/ViewProduct.aspx?id=2899584Saturday\, September 13\, 20146:00 pm – 12:00 amBusiness Expo Center\, 1960 Anaheim Way\, Anaheim\, 714-978-9000Contact:  Jim Shab or  Ivana ThompsonFacebook page:  “Like” Anaheim High School Class of 1974 Reunion: https://www.facebook.com/1974AHSREUNIONAlumni golf outing on Friday\, September 12\, 2014Contact Marc Garabedian at marc@artmoose.com or 949-702-1623 for more information or to sign up\n \n  
URL:https://anaheimcolonists.com/event/class-of-74-40th-reunion/
CATEGORIES:Reunions
END:VEVENT
BEGIN:VEVENT
DTSTART;TZID=America/Los_Angeles:20140823T190000
DTEND;TZID=America/Los_Angeles:20140823T230000
DTSTAMP:20260423T181726
CREATED:20140505T180223Z
LAST-MODIFIED:20140505T180238Z
UID:8025-1408820400-1408834800@anaheimcolonists.com
SUMMARY:AHS Class of 1984 Reunion
DESCRIPTION:AHS Class of 1984 30th Class Reunion\, August 23\, 2014 at 7P. \nAnaheimHSclassof1984@gmail.com \n  \n  \n 
URL:https://anaheimcolonists.com/event/ahs-class-of-1984-reunion/
CATEGORIES:Reunions
END:VEVENT
BEGIN:VEVENT
DTSTART;TZID=America/Los_Angeles:20140606T103000
DTEND;TZID=America/Los_Angeles:20140606T143000
DTSTAMP:20260423T181726
CREATED:20140515T154055Z
LAST-MODIFIED:20140515T154055Z
UID:8132-1402050600-1402065000@anaheimcolonists.com
SUMMARY:AUHS Class of 1943-44 Reunion
DESCRIPTION:AUHS Class of 1943-44\n70th class reunion\, Friday\, June 06\, 2014\n \n10:30A-2:30P    Deadline: June 1\, 2014    Contact:  Bill Riedell\n \n           \n \n         \n \n 
URL:https://anaheimcolonists.com/event/auhs-class-of-1943-44-reunion-2/
CATEGORIES:Reunions
ORGANIZER;CN="Anaheim High School Alumni Association":MAILTO:anaheimalumni@yahoo.com
END:VEVENT
BEGIN:VEVENT
DTSTART;TZID=America/Los_Angeles:20131020T110000
DTEND;TZID=America/Los_Angeles:20131020T150000
DTSTAMP:20260423T181726
CREATED:20131019T221149Z
LAST-MODIFIED:20131019T221249Z
UID:6602-1382266800-1382281200@anaheimcolonists.com
SUMMARY:Class of 1948 Reunion
DESCRIPTION:
URL:https://anaheimcolonists.com/event/class-of-1948-reunion/
CATEGORIES:Reunions
ORGANIZER;CN="Unnamed Organizer":MAILTO:anaheimalumni@yahoo.com
END:VEVENT
BEGIN:VEVENT
DTSTART;VALUE=DATE:20131012
DTEND;VALUE=DATE:20131013
DTSTAMP:20260423T181726
CREATED:20130216T211415Z
LAST-MODIFIED:20130303T000342Z
UID:5360-1381536000-1381622399@anaheimcolonists.com
SUMMARY:Class of 1963 "50th" Reunion
DESCRIPTION:The Class of “63” is inviting ALL members of the classes of “64” and “65” to join in the Celebration. \nSaturday-Oct. 12\, 2013-AHS Alumni Association Colony Classic Car  Show at AHS 10A-2P (To register a car\,  see form online at www.anaheimcolonists.com). \nSaturday-Oct. 12\, 2013-Reunion Dinner Party (Before June 1st $85.00\, after $95.00 per person. Couples before June 1st $160.00\, after $180.00-This price will include the memory book. One per person and one per couple). \nSunday-Oct. 13\, 2013-Potluck and Picnic. \nThe Program Includes:\nNo host Friday night football and pizza party\nFriday\, Golf-contact Phil Anton.\nSaturday\, Car Show at the high school at no charge.\nSaturday night party and dinner-Reunion.\nSunday\, picnic/potluck.  Barbeque will be provided at no charge.\n \nPlease make checks payable to:\nBob Goodrich\n1107 Keats\nAnaheim\, CA  92806
URL:https://anaheimcolonists.com/event/class-of-1963-50th-reunion-2/
CATEGORIES:Reunions
ORGANIZER;CN="Class of 1963":MAILTO:anaheimalumni@yahoo.com
END:VEVENT
END:VCALENDAR