BEGIN:VCALENDAR
VERSION:2.0
PRODID:-//Welcome to the Anaheim High School Alumni Association - ECPv6.15.17.1//NONSGML v1.0//EN
CALSCALE:GREGORIAN
METHOD:PUBLISH
X-ORIGINAL-URL:https://anaheimcolonists.com
X-WR-CALDESC:Events for Welcome to the Anaheim High School Alumni Association
REFRESH-INTERVAL;VALUE=DURATION:PT1H
X-Robots-Tag:noindex
X-PUBLISHED-TTL:PT1H
BEGIN:VTIMEZONE
TZID:America/Los_Angeles
BEGIN:DAYLIGHT
TZOFFSETFROM:-0800
TZOFFSETTO:-0700
TZNAME:PDT
DTSTART:20110313T100000
END:DAYLIGHT
BEGIN:STANDARD
TZOFFSETFROM:-0700
TZOFFSETTO:-0800
TZNAME:PST
DTSTART:20111106T090000
END:STANDARD
BEGIN:DAYLIGHT
TZOFFSETFROM:-0800
TZOFFSETTO:-0700
TZNAME:PDT
DTSTART:20120311T100000
END:DAYLIGHT
BEGIN:STANDARD
TZOFFSETFROM:-0700
TZOFFSETTO:-0800
TZNAME:PST
DTSTART:20121104T090000
END:STANDARD
BEGIN:DAYLIGHT
TZOFFSETFROM:-0800
TZOFFSETTO:-0700
TZNAME:PDT
DTSTART:20130310T100000
END:DAYLIGHT
BEGIN:STANDARD
TZOFFSETFROM:-0700
TZOFFSETTO:-0800
TZNAME:PST
DTSTART:20131103T090000
END:STANDARD
END:VTIMEZONE
BEGIN:VEVENT
DTSTART;TZID=America/Los_Angeles:20120420T190000
DTEND;TZID=America/Los_Angeles:20120420T210059
DTSTAMP:20260423T174754
CREATED:20120224T045428Z
LAST-MODIFIED:20120418T013916Z
UID:3545-1334948400-1334955659@anaheimcolonists.com
SUMMARY:AHS Fashion Tech Show
DESCRIPTION:AHS Fashion Tech students will be showcasing their designs in fashion show. More details to come.
URL:https://anaheimcolonists.com/event/ahs-fashion-tech-show/
LOCATION:Cook Auditorium\, 811 W. Lincoln\, Anaheim\, CA\, 92805\, United States
CATEGORIES:Fundraisers
END:VEVENT
BEGIN:VEVENT
DTSTART;TZID=America/Los_Angeles:20120331T080000
DTEND;TZID=America/Los_Angeles:20120331T120059
DTSTAMP:20260423T174754
CREATED:20120315T014009Z
LAST-MODIFIED:20120315T014009Z
UID:3622-1333180800-1333195259@anaheimcolonists.com
SUMMARY:Associated Student Body (A.S.B.) Car Wash
DESCRIPTION:
URL:https://anaheimcolonists.com/event/associated-student-body-a-s-b-car-wash/
LOCATION:AHS Parking Lot\, United States
CATEGORIES:Fundraisers
END:VEVENT
BEGIN:VEVENT
DTSTART;TZID=America/Los_Angeles:20120324T110000
DTEND;TZID=America/Los_Angeles:20120324T150059
DTSTAMP:20260423T174754
CREATED:20120323T182311Z
LAST-MODIFIED:20120324T040310Z
UID:3753-1332586800-1332601259@anaheimcolonists.com
SUMMARY:AHS Anaheim Football Boosters
DESCRIPTION:Come for the cleaning\, stay for Shakey’s World Famous Pizza\, Chicken and Mojo Potatoes.  \nIf fact we want you to eat because you deserve it.   So bring the whole family for lunch and when  you are finished\, we want you to order some take-out for dinner.  Yes\, Shakey’s is helping up out by giving us a portion of what you spend while we are there.  Just make sure you mention Anaheim High Football when you order.  It’s that simple.  You get great food and help us out without really trying.   \nSo\, if it looks like rain\, forget the car wash but remember Shakey’s.  What more can you ask for than being served great food and helping Anaheim’s youth at the same time.      \nJust North of Ball Road.
URL:https://anaheimcolonists.com/event/ahs-anaheim-football-boosters/
LOCATION:Shakey’s Pizza Parlor\, 1027 South Harbor Blvd\, Anaheim\, CA\, 92805\, United States
CATEGORIES:Fundraisers
ORGANIZER;CN="Anaheim Football Boosters":MAILTO:anaheimhighfootballboosters@yahoo.com
END:VEVENT
BEGIN:VEVENT
DTSTART;TZID=America/Los_Angeles:20120303T180000
DTEND;TZID=America/Los_Angeles:20120303T210059
DTSTAMP:20260423T174754
CREATED:20120224T003231Z
LAST-MODIFIED:20120224T042304Z
UID:3530-1330797600-1330808459@anaheimcolonists.com
SUMMARY:Anaheim Performing Arts Conservatory Gala
DESCRIPTION:“Cinema Meets the Stage” Gala Fundraiser  \nCinema Meets the Stage is the theme of this fundraising gala in which the avant-garde makes way for the new classics with performances by current students\, alumni and local professional performers celebrating the music\, dance and glamour that defines Hollywood and Broadway. This semi-formal evening begins at 6 p.m. with hors d’ouevres and a silent auction of themed gift baskets and gift vouchers for local theaters\, restaurants and more. \nThe party will move into the theater at 7:30pm for a stage performance that is sure to be both captivating and uplifting. Appropriate for all ages. Tickets may be purchased online at www.brownpapertickets.com/​e/223341 or by calling the APAC music office at 714-999-3717 ext. 2017. Tickets are $10 for students; $15 for adults; $25 for VIP reserved seating. \n 
URL:https://anaheimcolonists.com/event/anaheim-performing-arts-conservatory-gala/
LOCATION:CA\, United States
CATEGORIES:Fundraisers
END:VEVENT
BEGIN:VEVENT
DTSTART;TZID=America/Los_Angeles:20120225T080000
DTEND;TZID=America/Los_Angeles:20120225T080059
DTSTAMP:20260423T174754
CREATED:20120224T143351Z
LAST-MODIFIED:20120224T143537Z
UID:3550-1330156800-1330156859@anaheimcolonists.com
SUMMARY:AHS Football Boosters Car Wash
DESCRIPTION:The AHS Football Boosters are starting their fundraising efforts for next season with a car wash. \n 
URL:https://anaheimcolonists.com/event/ahs-football-boosters-car-wash/
LOCATION:CA\, United States
CATEGORIES:Fundraisers
END:VEVENT
END:VCALENDAR