BEGIN:VCALENDAR
VERSION:2.0
PRODID:-//Welcome to the Anaheim High School Alumni Association - ECPv6.15.17.1//NONSGML v1.0//EN
CALSCALE:GREGORIAN
METHOD:PUBLISH
X-WR-CALNAME:Welcome to the Anaheim High School Alumni Association
X-ORIGINAL-URL:https://anaheimcolonists.com
X-WR-CALDESC:Events for Welcome to the Anaheim High School Alumni Association
REFRESH-INTERVAL;VALUE=DURATION:PT1H
X-Robots-Tag:noindex
X-PUBLISHED-TTL:PT1H
BEGIN:VTIMEZONE
TZID:America/Los_Angeles
BEGIN:DAYLIGHT
TZOFFSETFROM:-0800
TZOFFSETTO:-0700
TZNAME:PDT
DTSTART:20110313T100000
END:DAYLIGHT
BEGIN:STANDARD
TZOFFSETFROM:-0700
TZOFFSETTO:-0800
TZNAME:PST
DTSTART:20111106T090000
END:STANDARD
BEGIN:DAYLIGHT
TZOFFSETFROM:-0800
TZOFFSETTO:-0700
TZNAME:PDT
DTSTART:20120311T100000
END:DAYLIGHT
BEGIN:STANDARD
TZOFFSETFROM:-0700
TZOFFSETTO:-0800
TZNAME:PST
DTSTART:20121104T090000
END:STANDARD
BEGIN:DAYLIGHT
TZOFFSETFROM:-0800
TZOFFSETTO:-0700
TZNAME:PDT
DTSTART:20130310T100000
END:DAYLIGHT
BEGIN:STANDARD
TZOFFSETFROM:-0700
TZOFFSETTO:-0800
TZNAME:PST
DTSTART:20131103T090000
END:STANDARD
BEGIN:DAYLIGHT
TZOFFSETFROM:-0800
TZOFFSETTO:-0700
TZNAME:PDT
DTSTART:20140309T100000
END:DAYLIGHT
BEGIN:STANDARD
TZOFFSETFROM:-0700
TZOFFSETTO:-0800
TZNAME:PST
DTSTART:20141102T090000
END:STANDARD
BEGIN:DAYLIGHT
TZOFFSETFROM:-0800
TZOFFSETTO:-0700
TZNAME:PDT
DTSTART:20150308T100000
END:DAYLIGHT
BEGIN:STANDARD
TZOFFSETFROM:-0700
TZOFFSETTO:-0800
TZNAME:PST
DTSTART:20151101T090000
END:STANDARD
END:VTIMEZONE
BEGIN:VEVENT
DTSTART;TZID=America/Los_Angeles:20140405T080000
DTEND;TZID=America/Los_Angeles:20140405T093000
DTSTAMP:20260423T234311
CREATED:20140120T172734Z
LAST-MODIFIED:20140120T172734Z
UID:7240-1396684800-1396690200@anaheimcolonists.com
SUMMARY:Alumni Breakfast - 1st Saturday of the Month
DESCRIPTION:Alumni Breakfast – 1st Saturday of the Month\nJoin Anaheim High alumni at monthly breakfast. \nAll Classes Welcome. \nanaheimalumni@yahoo.com and www.anaheimcolonists.com
URL:https://anaheimcolonists.com/event/alumni-breakfast-1st-saturday-of-the-month-25/
CATEGORIES:Breakfast
ORGANIZER;CN="Don Vary":MAILTO:anaheimalumni@yahoo.com
END:VEVENT
BEGIN:VEVENT
DTSTART;TZID=America/Los_Angeles:20140301T080000
DTEND;TZID=America/Los_Angeles:20140301T093000
DTSTAMP:20260423T234311
CREATED:20140120T172120Z
LAST-MODIFIED:20140120T172120Z
UID:7237-1393660800-1393666200@anaheimcolonists.com
SUMMARY:Alumni Breakfast - 1st Saturday of the Month
DESCRIPTION:Alumni Breakfast – 1st Saturday of the Month\nJoin Anaheim High alumni at monthly breakfast. \nAll Classes Welcome. \nanaheimalumni@yahoo.com and www.anaheimcolonists.com
URL:https://anaheimcolonists.com/event/alumni-breakfast-1st-saturday-of-the-month-24/
CATEGORIES:Breakfast
ORGANIZER;CN="Don Vary":MAILTO:bunduck@sbcglobal.net
END:VEVENT
BEGIN:VEVENT
DTSTART;TZID=America/Los_Angeles:20140201T080000
DTEND;TZID=America/Los_Angeles:20140201T093000
DTSTAMP:20260423T234311
CREATED:20140120T170818Z
LAST-MODIFIED:20140120T170818Z
UID:7235-1391241600-1391247000@anaheimcolonists.com
SUMMARY:Alumni Breakfast – 1st Saturday of the Month
DESCRIPTION:Alumni Breakfast – 1st Saturday of the Month\n  \nJoin Anaheim High alumni at monthly breakfast. \n  \nAll Classes Welcome.
URL:https://anaheimcolonists.com/event/alumni-breakfast-1st-saturday-of-the-month-23/
CATEGORIES:Breakfast
ORGANIZER;CN="Don Vary":MAILTO:anaheimalumni@yahoo.com
END:VEVENT
BEGIN:VEVENT
DTSTART;TZID=America/Los_Angeles:20140104T080000
DTEND;TZID=America/Los_Angeles:20140104T093000
DTSTAMP:20260423T234311
CREATED:20140105T025440Z
LAST-MODIFIED:20140105T025635Z
UID:7218-1388822400-1388827800@anaheimcolonists.com
SUMMARY:Alumni Breakfast – 1st Saturday of the Month
DESCRIPTION:Join Anaheim High alumni at monthly breakfast. \nAll Classes Welcome.
URL:https://anaheimcolonists.com/event/alumni-breakfast-1st-saturday-of-the-month-22/
LOCATION:Unnamed Venue\, Anaheim
CATEGORIES:Breakfast
ORGANIZER;CN="Don Vary":MAILTO:anaheimalumni@yahoo.com
END:VEVENT
BEGIN:VEVENT
DTSTART;TZID=America/Los_Angeles:20131207T080000
DTEND;TZID=America/Los_Angeles:20131207T093000
DTSTAMP:20260423T234311
CREATED:20130301T061338Z
LAST-MODIFIED:20130301T061338Z
UID:5583-1386403200-1386408600@anaheimcolonists.com
SUMMARY:Alumni Breakfast – 1st Saturday of the Month
DESCRIPTION:Alumni Breakfast – 1st Saturday of the Month
URL:https://anaheimcolonists.com/event/alumni-breakfast-1st-saturday-of-the-month-21/
CATEGORIES:Breakfast
ORGANIZER;CN="Don Vary":MAILTO:anaheimalumni@yahoo.com
END:VEVENT
BEGIN:VEVENT
DTSTART;TZID=America/Los_Angeles:20131102T080000
DTEND;TZID=America/Los_Angeles:20131102T093000
DTSTAMP:20260423T234311
CREATED:20130301T061126Z
LAST-MODIFIED:20130301T061126Z
UID:5581-1383379200-1383384600@anaheimcolonists.com
SUMMARY:Alumni Breakfast – 1st Saturday of the Month
DESCRIPTION:Alumni Breakfast – 1st Saturday of the Month
URL:https://anaheimcolonists.com/event/alumni-breakfast-1st-saturday-of-the-month-20/
CATEGORIES:Breakfast
ORGANIZER;CN="Don Vary":MAILTO:anaheimalumni@yahoo.com
END:VEVENT
BEGIN:VEVENT
DTSTART;TZID=America/Los_Angeles:20131005T080000
DTEND;TZID=America/Los_Angeles:20131005T093000
DTSTAMP:20260423T234311
CREATED:20130301T060935Z
LAST-MODIFIED:20130301T060935Z
UID:5579-1380960000-1380965400@anaheimcolonists.com
SUMMARY:Alumni Breakfast – 1st Saturday of the Month
DESCRIPTION:Alumni Breakfast – 1st Saturday of the Month
URL:https://anaheimcolonists.com/event/alumni-breakfast-1st-saturday-of-the-month-19/
CATEGORIES:Breakfast
ORGANIZER;CN="Don Vary":MAILTO:anaheimalumni@yahoo.com
END:VEVENT
BEGIN:VEVENT
DTSTART;TZID=America/Los_Angeles:20130907T080000
DTEND;TZID=America/Los_Angeles:20130907T093000
DTSTAMP:20260423T234311
CREATED:20130301T060823Z
LAST-MODIFIED:20130301T060823Z
UID:5577-1378540800-1378546200@anaheimcolonists.com
SUMMARY:Alumni Breakfast – 1st Saturday of the Month
DESCRIPTION:Alumni Breakfast – 1st Saturday of the Month.
URL:https://anaheimcolonists.com/event/alumni-breakfast-1st-saturday-of-the-month-18/
CATEGORIES:Breakfast
ORGANIZER;CN="Don Vary":MAILTO:anaheimalumni@yahoo.com
END:VEVENT
BEGIN:VEVENT
DTSTART;TZID=America/Los_Angeles:20130803T080000
DTEND;TZID=America/Los_Angeles:20130803T093000
DTSTAMP:20260423T234311
CREATED:20130203T175731Z
LAST-MODIFIED:20130203T175731Z
UID:5240-1375516800-1375522200@anaheimcolonists.com
SUMMARY:Alumni Breakfast – 1st Saturday of the Month
DESCRIPTION:Join Anaheim High alumni at monthly breakfast. \nAll Classes Welcome.
URL:https://anaheimcolonists.com/event/alumni-breakfast-1st-saturday-of-the-month-17/
CATEGORIES:Breakfast
ORGANIZER;CN="Don Vary":MAILTO:bunduck@sbcglobal.net
END:VEVENT
BEGIN:VEVENT
DTSTART;TZID=America/Los_Angeles:20130706T080000
DTEND;TZID=America/Los_Angeles:20130706T093000
DTSTAMP:20260423T234311
CREATED:20130203T175229Z
LAST-MODIFIED:20130203T175229Z
UID:5238-1373097600-1373103000@anaheimcolonists.com
SUMMARY:Alumni Breakfast – 1st Saturday of the Month
DESCRIPTION:Join Anaheim High alumni at monthly breakfast. \nAll Classes Welcome.
URL:https://anaheimcolonists.com/event/alumni-breakfast-1st-saturday-of-the-month-16/
CATEGORIES:Breakfast
ORGANIZER;CN="Don Vary":MAILTO:bunduck@sbcglobal.net
END:VEVENT
BEGIN:VEVENT
DTSTART;TZID=America/Los_Angeles:20130601T080000
DTEND;TZID=America/Los_Angeles:20130601T093000
DTSTAMP:20260423T234311
CREATED:20130203T174629Z
LAST-MODIFIED:20130203T174629Z
UID:5236-1370073600-1370079000@anaheimcolonists.com
SUMMARY:Alumni Breakfast – 1st Saturday of the Month
DESCRIPTION:Join Anaheim High alumni at monthly breakfast. \nAll Classes Welcome.
URL:https://anaheimcolonists.com/event/alumni-breakfast-1st-saturday-of-the-month-15/
CATEGORIES:Breakfast
ORGANIZER;CN="Don Vary":MAILTO:bunduck@sbcglobal.net
END:VEVENT
BEGIN:VEVENT
DTSTART;TZID=America/Los_Angeles:20130504T080000
DTEND;TZID=America/Los_Angeles:20130504T093000
DTSTAMP:20260423T234311
CREATED:20130203T174121Z
LAST-MODIFIED:20130203T174121Z
UID:5234-1367654400-1367659800@anaheimcolonists.com
SUMMARY:Alumni Breakfast – 1st Saturday of the Month
DESCRIPTION:Join Anaheim High alumni at monthly breakfast. \nAll Classes Welcome.
URL:https://anaheimcolonists.com/event/alumni-breakfast-1st-saturday-of-the-month-14/
CATEGORIES:Breakfast
ORGANIZER;CN="Don Vary":MAILTO:bunduck@sbcglobal.net
END:VEVENT
BEGIN:VEVENT
DTSTART;TZID=America/Los_Angeles:20130406T080000
DTEND;TZID=America/Los_Angeles:20130406T093000
DTSTAMP:20260423T234311
CREATED:20130203T173022Z
LAST-MODIFIED:20130203T173022Z
UID:5229-1365235200-1365240600@anaheimcolonists.com
SUMMARY:Alumni Breakfast – 1st Saturday of the Month
DESCRIPTION:Join Anaheim High alumni at monthly breakfast. \nAll Classes Welcome.
URL:https://anaheimcolonists.com/event/alumni-breakfast-1st-saturday-of-the-month-13/
CATEGORIES:Breakfast
ORGANIZER;CN="Don Vary":MAILTO:bunduck@sbcglobal.net
END:VEVENT
BEGIN:VEVENT
DTSTART;TZID=America/Los_Angeles:20130302T080000
DTEND;TZID=America/Los_Angeles:20130302T093000
DTSTAMP:20260423T234311
CREATED:20130203T172535Z
LAST-MODIFIED:20130203T173411Z
UID:5226-1362211200-1362216600@anaheimcolonists.com
SUMMARY:Alumni Breakfast – 1st Saturday of the Month
DESCRIPTION:Join Anaheim High alumni at monthly breakfast. \nAll Classes Welcome. \n 
URL:https://anaheimcolonists.com/event/alumni-breakfast-1st-saturday-of-the-month-12/
LOCATION:Unnamed Venue\, CA
CATEGORIES:Breakfast
ORGANIZER;CN="Don Vary":MAILTO:bunduck@sbcglobal.net
END:VEVENT
BEGIN:VEVENT
DTSTART;TZID=America/Los_Angeles:20130202T080000
DTEND;TZID=America/Los_Angeles:20130202T100000
DTSTAMP:20260423T234311
CREATED:20121218T180048Z
LAST-MODIFIED:20121218T180048Z
UID:5002-1359792000-1359799200@anaheimcolonists.com
SUMMARY:Alumni Breakfast – 1st Saturday of the Month
DESCRIPTION:Join Anaheim High alumni at monthly breakfast. \nAll Classes Welcome.
URL:https://anaheimcolonists.com/event/alumni-breakfast-1st-saturday-of-the-month-11/
LOCATION:Anaheim\, CA\, United States
CATEGORIES:Breakfast
ORGANIZER;CN="Don Vary":MAILTO:bunduck@sbcglobal.net
END:VEVENT
BEGIN:VEVENT
DTSTART;TZID=America/Los_Angeles:20130105T080000
DTEND;TZID=America/Los_Angeles:20130105T100000
DTSTAMP:20260423T234311
CREATED:20121218T174820Z
LAST-MODIFIED:20121218T174820Z
UID:4998-1357372800-1357380000@anaheimcolonists.com
SUMMARY:Alumni Breakfast – 1st Saturday of the Month
DESCRIPTION:Join Anaheim High alumni at monthly breakfast. \nAll Classes Welcome.
URL:https://anaheimcolonists.com/event/alumni-breakfast-1st-saturday-of-the-month-10/
LOCATION:Anaheim\, CA\, United States
CATEGORIES:Breakfast
ORGANIZER;CN="Don Vary":MAILTO:bunduck@sbcglobal.net
END:VEVENT
BEGIN:VEVENT
DTSTART;TZID=America/Los_Angeles:20121201T080000
DTEND;TZID=America/Los_Angeles:20121201T100059
DTSTAMP:20260423T234311
CREATED:20120302T001058Z
LAST-MODIFIED:20120302T001058Z
UID:3620-1354348800-1354356059@anaheimcolonists.com
SUMMARY:Alumni Breakfast - 1st Saturday of the Month
DESCRIPTION:Join Anaheim High alumni at monthly breakfast.
URL:https://anaheimcolonists.com/event/alumni-breakfast-1st-saturday-of-the-month-9/
CATEGORIES:Breakfast
ORGANIZER;CN="Don Vary":MAILTO:bunduck@sbcglobal.net
END:VEVENT
BEGIN:VEVENT
DTSTART;TZID=America/Los_Angeles:20121103T080000
DTEND;TZID=America/Los_Angeles:20121103T100059
DTSTAMP:20260423T234311
CREATED:20120302T000818Z
LAST-MODIFIED:20120302T000818Z
UID:3618-1351929600-1351936859@anaheimcolonists.com
SUMMARY:Alumni Breakfast - 1st Saturday of the Month
DESCRIPTION:Join Anaheim High alumni at monthly breakfast.
URL:https://anaheimcolonists.com/event/alumni-breakfast-1st-saturday-of-the-month-8/
CATEGORIES:Breakfast
ORGANIZER;CN="Don Vary":MAILTO:bunduck@sbcglobal.net
END:VEVENT
BEGIN:VEVENT
DTSTART;TZID=America/Los_Angeles:20121006T080000
DTEND;TZID=America/Los_Angeles:20121006T100059
DTSTAMP:20260423T234311
CREATED:20120302T000558Z
LAST-MODIFIED:20120302T000558Z
UID:3616-1349510400-1349517659@anaheimcolonists.com
SUMMARY:Alumni Breakfast - 1st Saturday of the Month
DESCRIPTION:Join Anaheim High alumni at monthly breakfast.
URL:https://anaheimcolonists.com/event/alumni-breakfast-1st-saturday-of-the-month-7/
CATEGORIES:Breakfast
ORGANIZER;CN="Don Vary":MAILTO:bunduck@sbcglobal.net
END:VEVENT
BEGIN:VEVENT
DTSTART;TZID=America/Los_Angeles:20120901T080000
DTEND;TZID=America/Los_Angeles:20120901T100059
DTSTAMP:20260423T234311
CREATED:20120302T000307Z
LAST-MODIFIED:20120302T000307Z
UID:3614-1346486400-1346493659@anaheimcolonists.com
SUMMARY:Alumni Breakfast - 1st Saturday of the Month
DESCRIPTION:Join Anaheim High alumni at monthly breakfast.
URL:https://anaheimcolonists.com/event/alumni-breakfast-1st-saturday-of-the-month-6/
CATEGORIES:Breakfast
ORGANIZER;CN="Don Vary":MAILTO:bunduck@sbcglobal.net
END:VEVENT
BEGIN:VEVENT
DTSTART;TZID=America/Los_Angeles:20120804T080000
DTEND;TZID=America/Los_Angeles:20120804T100059
DTSTAMP:20260423T234311
CREATED:20120301T235958Z
LAST-MODIFIED:20120301T235958Z
UID:3612-1344067200-1344074459@anaheimcolonists.com
SUMMARY:Alumni Breakfast - 1st Saturday of the Month
DESCRIPTION:Join Anaheim High Alumni at monthly Breakfast.
URL:https://anaheimcolonists.com/event/alumni-breakfast-1st-saturday-of-the-month-5/
CATEGORIES:Breakfast
ORGANIZER;CN="Don Vary":MAILTO:bunduck@sbcglobal.net
END:VEVENT
BEGIN:VEVENT
DTSTART;TZID=America/Los_Angeles:20120707T080000
DTEND;TZID=America/Los_Angeles:20120707T100059
DTSTAMP:20260423T234311
CREATED:20120301T233411Z
LAST-MODIFIED:20120301T233535Z
UID:3603-1341648000-1341655259@anaheimcolonists.com
SUMMARY:Alumni Breakfast - 1st Saturday of the Month
DESCRIPTION:Join Anaheim High alumni at monthly breakfast.
URL:https://anaheimcolonists.com/event/alumni-breakfast-1st-saturday-of-the-month-3/
CATEGORIES:Breakfast
ORGANIZER;CN="Don Vary":MAILTO:bunduck@sbcglobal.net
END:VEVENT
BEGIN:VEVENT
DTSTART;TZID=America/Los_Angeles:20120602T080000
DTEND;TZID=America/Los_Angeles:20120602T100059
DTSTAMP:20260423T234311
CREATED:20120301T235057Z
LAST-MODIFIED:20120301T235629Z
UID:3609-1338624000-1338631259@anaheimcolonists.com
SUMMARY:Alumni Breakfast - 1st Saturday of the Month
DESCRIPTION:Join Anaheim High Alumni at monthly breakfast. \n 
URL:https://anaheimcolonists.com/event/alumni-breakfast-1st-saturday-of-the-month-4/
CATEGORIES:Breakfast
ORGANIZER;CN="Don Vary":MAILTO:bunduck@sbcglobal.net
END:VEVENT
BEGIN:VEVENT
DTSTART;TZID=America/Los_Angeles:20120505T080000
DTEND;TZID=America/Los_Angeles:20120505T100059
DTSTAMP:20260423T234311
CREATED:20120301T004407Z
LAST-MODIFIED:20120301T235431Z
UID:3596-1336204800-1336212059@anaheimcolonists.com
SUMMARY:Alumni Breakfast - 1st Saturday of the Month
DESCRIPTION:Join Anaheim High alumni at monthly breakfast.
URL:https://anaheimcolonists.com/event/alumni-breakfast-1st-saturday-of-the-month-2/
LOCATION:CA\, United States
CATEGORIES:Breakfast
ORGANIZER;CN="Don Vary":MAILTO:bunduck@sbcglobal.net
END:VEVENT
BEGIN:VEVENT
DTSTART;TZID=America/Los_Angeles:20120407T080000
DTEND;TZID=America/Los_Angeles:20120407T100059
DTSTAMP:20260423T234311
CREATED:20120224T044049Z
LAST-MODIFIED:20120301T232453Z
UID:3535-1333785600-1333792859@anaheimcolonists.com
SUMMARY:Alumni Breakfast - 1st Saturday of the Month
DESCRIPTION:Join Anaheim High alumni at monthly breakfast.
URL:https://anaheimcolonists.com/event/alumni-breakfast/
LOCATION:CA\, United States
CATEGORIES:Breakfast
ORGANIZER;CN="Don Vary":MAILTO:bunduck@sbcglobal.net
END:VEVENT
BEGIN:VEVENT
DTSTART;TZID=America/Los_Angeles:20120303T080000
DTEND;TZID=America/Los_Angeles:20120303T100059
DTSTAMP:20260423T234311
CREATED:20120224T002112Z
LAST-MODIFIED:20120301T232058Z
UID:3527-1330761600-1330768859@anaheimcolonists.com
SUMMARY:Alumni Breakfast - 1st Saturday of the Month
DESCRIPTION:Join Anaheim High alumni at the Jagerhaus in Anaheim for the monthly breakfast meeting.
URL:https://anaheimcolonists.com/event/alumni-breakfast-1st-saturday-of-the-month/
LOCATION:CA\, United States
CATEGORIES:Breakfast
ORGANIZER;CN="Don Vary":MAILTO:bunduck@sbcglobal.net
END:VEVENT
END:VCALENDAR