BEGIN:VCALENDAR
VERSION:2.0
PRODID:-//Welcome to the Anaheim High School Alumni Association - ECPv6.15.17.1//NONSGML v1.0//EN
CALSCALE:GREGORIAN
METHOD:PUBLISH
X-ORIGINAL-URL:https://anaheimcolonists.com
X-WR-CALDESC:Events for Welcome to the Anaheim High School Alumni Association
REFRESH-INTERVAL;VALUE=DURATION:PT1H
X-Robots-Tag:noindex
X-PUBLISHED-TTL:PT1H
BEGIN:VTIMEZONE
TZID:America/Los_Angeles
BEGIN:DAYLIGHT
TZOFFSETFROM:-0800
TZOFFSETTO:-0700
TZNAME:PDT
DTSTART:20130310T100000
END:DAYLIGHT
BEGIN:STANDARD
TZOFFSETFROM:-0700
TZOFFSETTO:-0800
TZNAME:PST
DTSTART:20131103T090000
END:STANDARD
BEGIN:DAYLIGHT
TZOFFSETFROM:-0800
TZOFFSETTO:-0700
TZNAME:PDT
DTSTART:20140309T100000
END:DAYLIGHT
BEGIN:STANDARD
TZOFFSETFROM:-0700
TZOFFSETTO:-0800
TZNAME:PST
DTSTART:20141102T090000
END:STANDARD
BEGIN:DAYLIGHT
TZOFFSETFROM:-0800
TZOFFSETTO:-0700
TZNAME:PDT
DTSTART:20150308T100000
END:DAYLIGHT
BEGIN:STANDARD
TZOFFSETFROM:-0700
TZOFFSETTO:-0800
TZNAME:PST
DTSTART:20151101T090000
END:STANDARD
BEGIN:DAYLIGHT
TZOFFSETFROM:-0800
TZOFFSETTO:-0700
TZNAME:PDT
DTSTART:20160313T100000
END:DAYLIGHT
BEGIN:STANDARD
TZOFFSETFROM:-0700
TZOFFSETTO:-0800
TZNAME:PST
DTSTART:20161106T090000
END:STANDARD
BEGIN:DAYLIGHT
TZOFFSETFROM:-0800
TZOFFSETTO:-0700
TZNAME:PDT
DTSTART:20170312T100000
END:DAYLIGHT
BEGIN:STANDARD
TZOFFSETFROM:-0700
TZOFFSETTO:-0800
TZNAME:PST
DTSTART:20171105T090000
END:STANDARD
BEGIN:DAYLIGHT
TZOFFSETFROM:-0800
TZOFFSETTO:-0700
TZNAME:PDT
DTSTART:20180311T100000
END:DAYLIGHT
BEGIN:STANDARD
TZOFFSETFROM:-0700
TZOFFSETTO:-0800
TZNAME:PST
DTSTART:20181104T090000
END:STANDARD
END:VTIMEZONE
BEGIN:VEVENT
DTSTART;TZID=America/Los_Angeles:20171007T080000
DTEND;TZID=America/Los_Angeles:20171007T093000
DTSTAMP:20260423T181537
CREATED:20161124T185846Z
LAST-MODIFIED:20161124T185846Z
UID:12687-1507363200-1507368600@anaheimcolonists.com
SUMMARY:ALUMNI BREAKFAST
DESCRIPTION:Alumni Breakfast – 1st Saturday of the Month\n\n\nJoin Anaheim High alumni at monthly breakfast.  All Classes Welcome. \nRSVP to: Geri Mc Guff   2ahsbreakfast@cox.net & leave name and how many are coming !
URL:https://anaheimcolonists.com/event/alumni-breakfast-20/
CATEGORIES:Breakfast
END:VEVENT
BEGIN:VEVENT
DTSTART;TZID=America/Los_Angeles:20170902T080000
DTEND;TZID=America/Los_Angeles:20170902T093000
DTSTAMP:20260423T181537
CREATED:20161124T185544Z
LAST-MODIFIED:20161124T185544Z
UID:12685-1504339200-1504344600@anaheimcolonists.com
SUMMARY:ALUMNI BREAKFAST
DESCRIPTION:Alumni Breakfast – 1st Saturday of the Month\n\n\nJoin Anaheim High alumni at monthly breakfast.  All Classes Welcome. \nRSVP to: Geri Mc Guff   2ahsbreakfast@cox.net & leave name and how many are coming !
URL:https://anaheimcolonists.com/event/alumni-breakfast-19/
CATEGORIES:Breakfast
END:VEVENT
BEGIN:VEVENT
DTSTART;TZID=America/Los_Angeles:20170805T080000
DTEND;TZID=America/Los_Angeles:20170805T093000
DTSTAMP:20260423T181537
CREATED:20161124T185034Z
LAST-MODIFIED:20161124T185034Z
UID:12683-1501920000-1501925400@anaheimcolonists.com
SUMMARY:ALUMNI BREAKFAST
DESCRIPTION:Alumni Breakfast – 1st Saturday of the Month\n\n\nJoin Anaheim High alumni at monthly breakfast.  All Classes Welcome. \nRSVP to: Geri Mc Guff   2ahsbreakfast@cox.net & leave name and how many are coming !
URL:https://anaheimcolonists.com/event/alumni-breakfast-18/
CATEGORIES:Breakfast
END:VEVENT
BEGIN:VEVENT
DTSTART;TZID=America/Los_Angeles:20170701T080000
DTEND;TZID=America/Los_Angeles:20170701T093000
DTSTAMP:20260423T181537
CREATED:20161124T184504Z
LAST-MODIFIED:20161124T184648Z
UID:12681-1498896000-1498901400@anaheimcolonists.com
SUMMARY:ALUMNI BREAKFAST
DESCRIPTION:Alumni Breakfast – 1st Saturday of the Month\n\n\nJoin Anaheim High alumni at monthly breakfast.  All Classes Welcome. \nRSVP to: Geri Mc Guff   2ahsbreakfast@cox.net & leave name and how many are coming !
URL:https://anaheimcolonists.com/event/alumni-breakfast-17/
CATEGORIES:Breakfast
END:VEVENT
BEGIN:VEVENT
DTSTART;TZID=America/Los_Angeles:20170603T080000
DTEND;TZID=America/Los_Angeles:20170603T093000
DTSTAMP:20260423T181537
CREATED:20161124T184222Z
LAST-MODIFIED:20161124T184222Z
UID:12679-1496476800-1496482200@anaheimcolonists.com
SUMMARY:ALUMNI BREAKFAST
DESCRIPTION:Alumni Breakfast – 1st Saturday of the Month\n\n\nJoin Anaheim High alumni at monthly breakfast.  All Classes Welcome. \nRSVP to: Geri Mc Guff   2ahsbreakfast@cox.net & leave name and how many are coming !
URL:https://anaheimcolonists.com/event/alumni-breakfast-16/
CATEGORIES:Breakfast
END:VEVENT
BEGIN:VEVENT
DTSTART;TZID=America/Los_Angeles:20170506T080000
DTEND;TZID=America/Los_Angeles:20170506T093000
DTSTAMP:20260423T181537
CREATED:20161124T183835Z
LAST-MODIFIED:20161124T183835Z
UID:12677-1494057600-1494063000@anaheimcolonists.com
SUMMARY:ALUMNI BREAKFAST
DESCRIPTION:Alumni Breakfast – 1st Saturday of the Month\n\n\nJoin Anaheim High alumni at monthly breakfast.  All Classes Welcome. \nRSVP to: Geri Mc Guff   2ahsbreakfast@cox.net & leave name and how many are coming !
URL:https://anaheimcolonists.com/event/alumni-breakfast-15/
CATEGORIES:Breakfast
END:VEVENT
BEGIN:VEVENT
DTSTART;TZID=America/Los_Angeles:20170401T080000
DTEND;TZID=America/Los_Angeles:20170401T093000
DTSTAMP:20260423T181537
CREATED:20161124T183613Z
LAST-MODIFIED:20161124T183613Z
UID:12675-1491033600-1491039000@anaheimcolonists.com
SUMMARY:ALUMNI BREAKFAST
DESCRIPTION:Alumni Breakfast – 1st Saturday of the Month\n\n\nJoin Anaheim High alumni at monthly breakfast.  All Classes Welcome. \nRSVP to: Geri Mc Guff   2ahsbreakfast@cox.net & leave name and how many are coming !
URL:https://anaheimcolonists.com/event/alumni-breakfast-14/
CATEGORIES:Breakfast
END:VEVENT
BEGIN:VEVENT
DTSTART;TZID=America/Los_Angeles:20170304T080000
DTEND;TZID=America/Los_Angeles:20170304T093000
DTSTAMP:20260423T181537
CREATED:20161124T183334Z
LAST-MODIFIED:20161124T183334Z
UID:12673-1488614400-1488619800@anaheimcolonists.com
SUMMARY:ALUMNI BREAKFAST
DESCRIPTION:Alumni Breakfast – 1st Saturday of the Month \n\n\nJoin Anaheim High alumni at monthly breakfast.  All Classes Welcome. \nRSVP to: Geri Mc Guff   2ahsbreakfast@cox.net & leave name and how many are coming !
URL:https://anaheimcolonists.com/event/alumni-breakfast-13/
CATEGORIES:Breakfast
END:VEVENT
BEGIN:VEVENT
DTSTART;TZID=America/Los_Angeles:20170204T080000
DTEND;TZID=America/Los_Angeles:20170204T093000
DTSTAMP:20260423T181537
CREATED:20161124T183040Z
LAST-MODIFIED:20161124T183040Z
UID:12671-1486195200-1486200600@anaheimcolonists.com
SUMMARY:ALUMNI BREAKFAST
DESCRIPTION:Alumni Breakfast – 1st Saturday of the Month\n\n\nJoin Anaheim High alumni at monthly breakfast.  All Classes Welcome. \nRSVP to: Geri Mc Guff   2ahsbreakfast@cox.net & leave name and how many are coming !
URL:https://anaheimcolonists.com/event/alumni-breakfast-12/
CATEGORIES:Breakfast
END:VEVENT
BEGIN:VEVENT
DTSTART;TZID=America/Los_Angeles:20170107T080000
DTEND;TZID=America/Los_Angeles:20170107T093000
DTSTAMP:20260423T181537
CREATED:20161124T182805Z
LAST-MODIFIED:20161124T182805Z
UID:12669-1483776000-1483781400@anaheimcolonists.com
SUMMARY:ALUMNI BREAKFAST
DESCRIPTION:Alumni Breakfast – 1st Saturday of the Month\n\n\nJoin Anaheim High alumni at monthly breakfast.  All Classes Welcome. \nRSVP to: Geri Mc Guff   2ahsbreakfast@cox.net & leave name and how many are coming !
URL:https://anaheimcolonists.com/event/alumni-breakfast-11/
CATEGORIES:Breakfast
END:VEVENT
BEGIN:VEVENT
DTSTART;TZID=America/Los_Angeles:20161217T080000
DTEND;TZID=America/Los_Angeles:20161217T100000
DTSTAMP:20260423T181537
CREATED:20161124T182152Z
LAST-MODIFIED:20161124T192158Z
UID:12666-1481961600-1481968800@anaheimcolonists.com
SUMMARY:SPORTSMEN'S BREAKFAST
DESCRIPTION:SATURDAY\, DEC. 17\,  2016 \nALL SPORTSMEN’S BREAKFAST – 8a
URL:https://anaheimcolonists.com/event/sportsmens-breakfast/
CATEGORIES:Breakfast
END:VEVENT
BEGIN:VEVENT
DTSTART;TZID=America/Los_Angeles:20161203T080000
DTEND;TZID=America/Los_Angeles:20161203T093000
DTSTAMP:20260423T181537
CREATED:20161124T181111Z
LAST-MODIFIED:20161124T181417Z
UID:12660-1480752000-1480757400@anaheimcolonists.com
SUMMARY:ALUMNI BREAKFAST
DESCRIPTION:Alumni Breakfast – 1st Saturday of the Month\n\n\nJoin Anaheim High alumni at monthly breakfast.  All Classes Welcome. \nRSVP to: Geri Mc Guff   2ahsbreakfast@cox.net & leave name and how many are coming !
URL:https://anaheimcolonists.com/event/alumni-breakfast-10/
LOCATION:JAGERHAUS\, ANAHEIM
CATEGORIES:Breakfast
END:VEVENT
BEGIN:VEVENT
DTSTART;TZID=America/Los_Angeles:20160702T080000
DTEND;TZID=America/Los_Angeles:20160702T093000
DTSTAMP:20260423T181537
CREATED:20160614T174241Z
LAST-MODIFIED:20160614T174241Z
UID:11378-1467446400-1467451800@anaheimcolonists.com
SUMMARY:AHS Breakfast gathering
DESCRIPTION:Breakfast 8A-9:30A
URL:https://anaheimcolonists.com/event/ahs-breakfast-gathering/
CATEGORIES:Breakfast
END:VEVENT
BEGIN:VEVENT
DTSTART;TZID=America/Los_Angeles:20160604T080000
DTEND;TZID=America/Los_Angeles:20160604T100000
DTSTAMP:20260423T181537
CREATED:20151130T162012Z
LAST-MODIFIED:20151130T162012Z
UID:10482-1465027200-1465034400@anaheimcolonists.com
SUMMARY:Alumni Breakfast
DESCRIPTION:Alumni Breakfast – 1st Saturday of the Month\n\n\nJoin Anaheim High alumni at monthly breakfast.  All Classes Welcome. \nRSVP to: Geri Mc Guff   2ahsbreakfast@cox.net & leave name and how many are coming !
URL:https://anaheimcolonists.com/event/alumni-breakfast-9/
CATEGORIES:Breakfast
END:VEVENT
BEGIN:VEVENT
DTSTART;TZID=America/Los_Angeles:20160507T080000
DTEND;TZID=America/Los_Angeles:20160507T100000
DTSTAMP:20260423T181537
CREATED:20151130T161757Z
LAST-MODIFIED:20151130T161757Z
UID:10481-1462608000-1462615200@anaheimcolonists.com
SUMMARY:Alumni Breakfast
DESCRIPTION:Alumni Breakfast – 1st Saturday of the Month\n\n\nJoin Anaheim High alumni at monthly breakfast.  All Classes Welcome. \nRSVP to: Geri Mc Guff   2ahsbreakfast@cox.net & leave name and how many are coming !
URL:https://anaheimcolonists.com/event/alumni-breakfast-8/
CATEGORIES:Breakfast
END:VEVENT
BEGIN:VEVENT
DTSTART;TZID=America/Los_Angeles:20160402T080000
DTEND;TZID=America/Los_Angeles:20160402T100000
DTSTAMP:20260423T181537
CREATED:20151130T161507Z
LAST-MODIFIED:20151130T161507Z
UID:10480-1459584000-1459591200@anaheimcolonists.com
SUMMARY:Alumni Breakfast
DESCRIPTION:Alumni Breakfast – 1st Saturday of the Month\n\n\nJoin Anaheim High alumni at monthly breakfast.  All Classes Welcome. \nRSVP to: Geri Mc Guff   2ahsbreakfast@cox.net & leave name and how many are coming !
URL:https://anaheimcolonists.com/event/alumni-breakfast-7/
CATEGORIES:Breakfast
END:VEVENT
BEGIN:VEVENT
DTSTART;TZID=America/Los_Angeles:20160305T080000
DTEND;TZID=America/Los_Angeles:20160305T100000
DTSTAMP:20260423T181537
CREATED:20151130T161239Z
LAST-MODIFIED:20151130T161239Z
UID:10479-1457164800-1457172000@anaheimcolonists.com
SUMMARY:Alumni Breakfast
DESCRIPTION:Alumni Breakfast – 1st Saturday of the Month \n\n\nJoin Anaheim High alumni at monthly breakfast.  All Classes Welcome. \nRSVP to: Geri Mc Guff   2ahsbreakfast@cox.net & leave name and how many are coming !
URL:https://anaheimcolonists.com/event/alumni-breakfast-6/
CATEGORIES:Breakfast
END:VEVENT
BEGIN:VEVENT
DTSTART;TZID=America/Los_Angeles:20160206T080000
DTEND;TZID=America/Los_Angeles:20160206T100000
DTSTAMP:20260423T181537
CREATED:20151130T160746Z
LAST-MODIFIED:20151130T160959Z
UID:10477-1454745600-1454752800@anaheimcolonists.com
SUMMARY:Alumni Breakfast
DESCRIPTION:Alumni Breakfast – 1st Saturday of the Month\n\n\nJoin Anaheim High alumni at monthly breakfast.  All Classes Welcome. \nRSVP to: Geri Mc Guff   2ahsbreakfast@cox.net & leave name and how many are coming !
URL:https://anaheimcolonists.com/event/alumni-breakfast-5/
CATEGORIES:Breakfast
END:VEVENT
BEGIN:VEVENT
DTSTART;TZID=America/Los_Angeles:20160102T080000
DTEND;TZID=America/Los_Angeles:20160102T100000
DTSTAMP:20260423T181537
CREATED:20151130T160027Z
LAST-MODIFIED:20151130T160027Z
UID:10476-1451721600-1451728800@anaheimcolonists.com
SUMMARY:Alumni Breakfast
DESCRIPTION:Alumni Breakfast – 1st Saturday of the Month\n\n\nJoin Anaheim High alumni at monthly breakfast.  All Classes Welcome. \nRSVP to: Geri Mc Guff   2ahsbreakfast@cox.net & leave name and how many are coming !
URL:https://anaheimcolonists.com/event/alumni-breakfast-4/
CATEGORIES:Breakfast
END:VEVENT
BEGIN:VEVENT
DTSTART;TZID=America/Los_Angeles:20151205T080000
DTEND;TZID=America/Los_Angeles:20151205T100000
DTSTAMP:20260423T181537
CREATED:20151130T155514Z
LAST-MODIFIED:20151130T155514Z
UID:10475-1449302400-1449309600@anaheimcolonists.com
SUMMARY:Alumni Breakfast
DESCRIPTION:Alumni Breakfast – 1st Saturday of the Month\n\n\nJoin Anaheim High alumni at monthly breakfast.  All Classes Welcome. \nRSVP to: Geri Mc Guff   2ahsbreakfast@cox.net & leave name and how many are coming !
URL:https://anaheimcolonists.com/event/alumni-breakfast-3/
CATEGORIES:Breakfast
END:VEVENT
BEGIN:VEVENT
DTSTART;TZID=America/Los_Angeles:20150207T080000
DTEND;TZID=America/Los_Angeles:20150207T093000
DTSTAMP:20260423T181537
CREATED:20141116T203145Z
LAST-MODIFIED:20141116T203233Z
UID:9253-1423296000-1423301400@anaheimcolonists.com
SUMMARY:Anaheim Alumni Breakfast
DESCRIPTION:Alumni Breakfast – 1st Saturday of the Month\n\n\nJoin Anaheim High alumni at monthly breakfast. \nAll Classes Welcome. \nanaheimalumni@yahoo.com and www.anaheimcolonists.com
URL:https://anaheimcolonists.com/event/anaheim-alumni-breakfast-2/
CATEGORIES:Breakfast
END:VEVENT
BEGIN:VEVENT
DTSTART;TZID=America/Los_Angeles:20141213T080000
DTEND;TZID=America/Los_Angeles:20141213T110000
DTSTAMP:20260423T181537
CREATED:20140120T182642Z
LAST-MODIFIED:20140120T182642Z
UID:7252-1418457600-1418468400@anaheimcolonists.com
SUMMARY:AHS Sportsmen Breakfast
DESCRIPTION:All sports welcome! \n 
URL:https://anaheimcolonists.com/event/ahs-sportsmen-breakfast/
CATEGORIES:Breakfast
END:VEVENT
BEGIN:VEVENT
DTSTART;TZID=America/Los_Angeles:20141206T080000
DTEND;TZID=America/Los_Angeles:20141206T093000
DTSTAMP:20260423T181537
CREATED:20140120T181824Z
LAST-MODIFIED:20140120T181825Z
UID:7251-1417852800-1417858200@anaheimcolonists.com
SUMMARY:Alumni Breakfast - 1st Saturday of the Month
DESCRIPTION:Alumni Breakfast – 1st Saturday of the Month\nJoin Anaheim High alumni at monthly breakfast. \nAll Classes Welcome. \nanaheimalumni@yahoo.com and www.anaheimcolonists.com
URL:https://anaheimcolonists.com/event/alumni-breakfast-1st-saturday-of-the-month-33/
CATEGORIES:Breakfast
ORGANIZER;CN="Don Vary":MAILTO:anaheimalumni@yahoo.com
END:VEVENT
BEGIN:VEVENT
DTSTART;TZID=America/Los_Angeles:20141101T080000
DTEND;TZID=America/Los_Angeles:20141101T093000
DTSTAMP:20260423T181537
CREATED:20140120T181544Z
LAST-MODIFIED:20140120T181544Z
UID:7250-1414828800-1414834200@anaheimcolonists.com
SUMMARY:Alumni Breakfast - 1st Saturday of the Month
DESCRIPTION:Alumni Breakfast – 1st Saturday of the Month\nJoin Anaheim High alumni at monthly breakfast. \nAll Classes Welcome. \nanaheimalumni@yahoo.com and www.anaheimcolonists.com
URL:https://anaheimcolonists.com/event/alumni-breakfast-1st-saturday-of-the-month-32/
CATEGORIES:Breakfast
ORGANIZER;CN="Don Vary":MAILTO:anaheimalumni@yahoo.com
END:VEVENT
BEGIN:VEVENT
DTSTART;TZID=America/Los_Angeles:20141004T080000
DTEND;TZID=America/Los_Angeles:20141004T170000
DTSTAMP:20260423T181537
CREATED:20140120T181244Z
LAST-MODIFIED:20140120T181244Z
UID:7249-1412409600-1412442000@anaheimcolonists.com
SUMMARY:Alumni Breakfast - 1st Saturday of the Month
DESCRIPTION:Alumni Breakfast – 1st Saturday of the Month\nJoin Anaheim High alumni at monthly breakfast. \nAll Classes Welcome. \nanaheimalumni@yahoo.com and www.anaheimcolonists.com
URL:https://anaheimcolonists.com/event/alumni-breakfast-1st-saturday-of-the-month-31/
CATEGORIES:Breakfast
ORGANIZER;CN="Don Vary":MAILTO:anaheimalumni@yahoo.com
END:VEVENT
BEGIN:VEVENT
DTSTART;TZID=America/Los_Angeles:20140906T080000
DTEND;TZID=America/Los_Angeles:20140906T093000
DTSTAMP:20260423T181537
CREATED:20140120T180912Z
LAST-MODIFIED:20140120T180912Z
UID:7248-1409990400-1409995800@anaheimcolonists.com
SUMMARY:Alumni Breakfast - 1st Saturday of the Month
DESCRIPTION:Alumni Breakfast – 1st Saturday of the Month\nJoin Anaheim High alumni at monthly breakfast. \nAll Classes Welcome. \nanaheimalumni@yahoo.com and www.anaheimcolonists.com
URL:https://anaheimcolonists.com/event/alumni-breakfast-1st-saturday-of-the-month-30/
CATEGORIES:Breakfast
ORGANIZER;CN="Don Vary":MAILTO:anaheimalumni@yahoo.com
END:VEVENT
BEGIN:VEVENT
DTSTART;TZID=America/Los_Angeles:20140802T080000
DTEND;TZID=America/Los_Angeles:20140802T093000
DTSTAMP:20260423T181537
CREATED:20140120T180506Z
LAST-MODIFIED:20140120T180506Z
UID:7247-1406966400-1406971800@anaheimcolonists.com
SUMMARY:Alumni Breakfast  - 1st Saturday of the Month
DESCRIPTION:Alumni Breakfast – 1st Saturday of the Month\nJoin Anaheim High alumni at monthly breakfast. \nAll Classes Welcome. \nanaheimalumni@yahoo.com and www.anaheimcolonists.com
URL:https://anaheimcolonists.com/event/alumni-breakfast-1st-saturday-of-the-month-29/
CATEGORIES:Breakfast
ORGANIZER;CN="Don Vary":MAILTO:anaheimalumni@yahoo.com
END:VEVENT
BEGIN:VEVENT
DTSTART;TZID=America/Los_Angeles:20140705T080000
DTEND;TZID=America/Los_Angeles:20140705T093000
DTSTAMP:20260423T181537
CREATED:20140120T175750Z
LAST-MODIFIED:20140120T175750Z
UID:7246-1404547200-1404552600@anaheimcolonists.com
SUMMARY:Alumni Breakfast - 1st Saturday of the Month
DESCRIPTION:Alumni Breakfast – 1st Saturday of the Month\nJoin Anaheim High alumni at monthly breakfast. \nAll Classes Welcome. \nanaheimalumni@yahoo.com and www.anaheimcolonists.com
URL:https://anaheimcolonists.com/event/alumni-breakfast-1st-saturday-of-the-month-28/
CATEGORIES:Breakfast
ORGANIZER;CN="Don Vary":MAILTO:anaheimalumni@yahoo.com
END:VEVENT
BEGIN:VEVENT
DTSTART;TZID=America/Los_Angeles:20140607T080000
DTEND;TZID=America/Los_Angeles:20140607T093000
DTSTAMP:20260423T181537
CREATED:20140120T175236Z
LAST-MODIFIED:20140120T180113Z
UID:7244-1402128000-1402133400@anaheimcolonists.com
SUMMARY:Alumni Breakfast - 1st Saturday of the Month
DESCRIPTION:Alumni Breakfast – 1st Saturday of the Month\nJoin Anaheim High alumni at monthly breakfast. \nAll Classes Welcome. \nanaheimalumni@yahoo.com and www.anaheimcolonists.com
URL:https://anaheimcolonists.com/event/alumni-breakfast-1st-saturday-of-the-month-27/
CATEGORIES:Breakfast
ORGANIZER;CN="Don Vary":MAILTO:anaheimalumni@yahoo.com
END:VEVENT
BEGIN:VEVENT
DTSTART;TZID=America/Los_Angeles:20140503T080000
DTEND;TZID=America/Los_Angeles:20140503T093000
DTSTAMP:20260423T181537
CREATED:20140120T174731Z
LAST-MODIFIED:20140120T174731Z
UID:7242-1399104000-1399109400@anaheimcolonists.com
SUMMARY:Alumni Breakfast - 1st Saturday of the Month
DESCRIPTION:Alumni Breakfast – 1st Saturday of the Month\nJoin Anaheim High alumni at monthly breakfast. \nAll Classes Welcome. \nanaheimalumni@yahoo.com and www.anaheimcolonists.com
URL:https://anaheimcolonists.com/event/alumni-breakfast-1st-saturday-of-the-month-26/
CATEGORIES:Breakfast
ORGANIZER;CN="Don Vary":MAILTO:anaheimalumni@yahoo.com
END:VEVENT
END:VCALENDAR